{"text_format":"1","workbook":"xlsx","n_sheets":3,"sheets":["Entrar Dades","IMPRIMIR RESULTATS","IMPRIMIR RESPOSTES"],"not_rendered":{"charts":0,"images":0,"macros":1,"external_links":0,"defined_names":4,"comments":0,"pivot_tables":0},"unopened":[],"bounds":{"document_bytes":16777216,"sheet_cells":100000,"rows_first":2000,"rows_last":500,"rows_between":2000,"halvings":0,"cell_chars":16384,"cell_head_chars":4096},"cells_cut":0,"cells_raw":0,"read":"whole","date_system":"1900"}

{"sheet":"Entrar Dades","index":0,"n_rows":163,"n_cols":60,"rows_kept":163,"cut":false,"hidden":false,"merged":[[49,0,51,0],[82,0,84,0],[79,0,81,0],[76,0,78,0],[73,0,75,0],[70,0,72,0],[67,0,69,0],[64,0,66,0],[61,0,63,0],[58,0,60,0],[55,0,57,0],[52,0,54,0],[124,0,126,0],[85,0,87,0],[118,0,120,0],[115,0,117,0],[112,0,114,0],[109,0,111,0],[106,0,108,0],[103,0,105,0],[100,0,102,0],[97,0,99,0],[94,0,96,0],[91,0,93,0],[88,0,90,0],[121,0,123,0],[139,1,141,1],[142,1,144,1],[145,1,147,1],[148,1,150,1],[139,0,141,0],[121,1,123,1],[124,1,126,1],[127,1,129,1],[130,1,132,1],[133,1,135,1],[136,1,138,1],[136,0,138,0],[133,0,135,0],[130,0,132,0],[127,0,129,0],[151,1,153,1],[151,0,153,0],[148,0,150,0],[145,0,147,0],[142,0,144,0],[118,1,120,1],[85,1,87,1],[88,1,90,1],[91,1,93,1],[94,1,96,1],[97,1,99,1],[100,1,102,1],[103,1,105,1],[106,1,108,1],[109,1,111,1],[112,1,114,1],[115,1,117,1],[82,1,84,1],[49,1,51,1],[52,1,54,1],[55,1,57,1],[58,1,60,1],[61,1,63,1],[64,1,66,1],[67,1,69,1],[70,1,72,1],[73,1,75,1],[76,1,78,1],[79,1,81,1]]}
[null,"Centre i grup: ",1,2,3,4,5]
[null,"Data: ","Soc +","Soc -","Pros","A","Amics",null,null,"Agressivitat",null,null,"Prosocial",null,null,"Alumnes",null,"Estatus sociomètric"]
[null,"Nom alumnes (suprimeix les files que sobrin)",1,2,3,4,5,null,null,"Agressivitat Física","Agressivitat Física",null,"Prosocialitat","Prosocialitat",null,null,null,"Popular","Rebutjat","Ignorat","Controvertit","Norma","Tries positives","Tries negatives",null,"Z Soc +","Z Soc -","Impac","Prefer","Z Impac","Z Prefer",null,"Z1","Z2","Z3","Z4","Z5",null,null,"Pop","Pop","Pop","Popular","Reb","Reb","Reb","Rebutjat","Ign","Ign","Ign","Ignorat","Con","Con","Con","Controvertit","Nor","Nor","Nor","Nor","Normal"]
[1,null,{"$f":"COUNTIF(C50:C154,1)","v":0},0,0,0,0,null,null,{"$f":"SUM(F4)","v":0},{"$f":"IF(AJ4>1,\"X\",\" \")","v":{"$error":"#NUM!"}},null,{"$f":"SUM(E4)","v":0},{"$f":"IF(AI4>1,\"X\",\" \")","v":{"$error":"#NUM!"}},null,{"$f":"A4&\" \"&B4","v":"1 "},null,{"$f":"IF(AQ4=3,\"X\",\" \")","v":{"$error":"#NUM!"}},{"$f":"IF(AU4=3,\"X\",\" \")","v":{"$error":"#NUM!"}},{"$f":"IF(AY4=3,\"X\",\" \")","v":{"$error":"#NUM!"}},{"$f":"IF(BC4=3,\"X\",\" \")","v":{"$error":"#NUM!"}},{"$f":"IF(BH4=0,\"X\",\" \")","v":{"$error":"#NUM!"}},{"$f":"SUM(C4)","v":0},{"$f":"SUM(D4)","v":0},null,{"$f":"STANDARDIZE(C4,C41,C42)","v":{"$error":"#NUM!"}},{"$f":"STANDARDIZE(D4,D41,D42)","v":{"$error":"#NUM!"}},{"$f":"SUM(C4+D4)","v":0},{"$f":"SUM(C4-D4)","v":0},{"$f":"STANDARDIZE(AB4,AB41,AB42)","v":{"$error":"#NUM!"}},{"$f":"STANDARDIZE(AC4,AC41,AC42)","v":{"$error":"#NUM!"}},null,{"$f":"STANDARDIZE(C4,C41,C42)","v":{"$error":"#NUM!"}},{"$f":"STANDARDIZE(D4,D41,D42)","v":{"$error":"#NUM!"}},{"$f":"STANDARDIZE(E4,E41,E42)","v":{"$error":"#NUM!"}},{"$f":"STANDARDIZE(F4,F41,F42)","v":{"$error":"#NUM!"}},{"$f":"STANDARDIZE(G4,G41,G42)","v":{"$error":"#NUM!"}},null,null,{"$f":"IF(AE4>1,\"1\",\"0\")","v":{"$error":"#NUM!"}},{"$f":"IF(Z4>0,\"1\",\"0\")","v":{"$error":"#NUM!"}},{"$f":"IF(AA4<0,\"1\",\"0\")","v":{"$error":"#NUM!"}},{"$f":"SUM(AN4+AO4+AP4)","v":{"$error":"#NUM!"}},{"$f":"IF(AE4<-1,\"1\",\"0\")","v":{"$error":"#NUM!"}},{"$f":"IF(AA4>0,\"1\",\"0\")","v":{"$error":"#NUM!"}},{"$f":"IF(Z4<0,\"1\",\"0\")","v":{"$error":"#NUM!"}},{"$f":"SUM(AR4+AS4+AT4)","v":{"$error":"#NUM!"}},{"$f":"IF(AD4<-1,\"1\",\"0\")","v":{"$error":"#NUM!"}},{"$f":"IF(Z4<0,\"1\",\"0\")","v":{"$error":"#NUM!"}},{"$error":"#NUM!"},{"$f":"SUM(AV4+AW4+AX4)","v":{"$error":"#NUM!"}},{"$f":"IF(AD4>1,\"1\",\"0\")","v":{"$error":"#NUM!"}},{"$f":"IF(AA4>0,\"1\",\"0\")","v":{"$error":"#NUM!"}},{"$f":"IF(Z4>0,\"1\",\"0\")","v":{"$error":"#NUM!"}},{"$f":"SUM(AZ4+BA4+BB4)","v":{"$error":"#NUM!"}},{"$f":"IF(Z4<-0.5,\"1\",\"0\")","v":{"$error":"#NUM!"}},{"$f":"IF(Z4>0.5,\"1\",\"0\")","v":{"$error":"#NUM!"}},{"$f":"IF(AA4<-0.5,\"1\",\"0\")","v":{"$error":"#NUM!"}},{"$f":"IF(AA4>0.5,\"1\",\"0\")","v":{"$error":"#NUM!"}},{"$f":"SUM(BD4+BE4+BF4+BG4)","v":{"$error":"#NUM!"}}]
[2,null,{"$f":"COUNTIF(C50:C154,2)","v":0},{"$f":"COUNTIF(D50:D154,2)","v":0},0,0,0,null,null,0,{"$error":"#NUM!"},null,0,{"$error":"#NUM!"},null,{"$f":"A5&\" \"&B5","v":"2 "},null,{"$error":"#NUM!"},{"$error":"#NUM!"},{"$error":"#NUM!"},{"$error":"#NUM!"},{"$f":"IF(BH5=0,\"X\",\" \")","v":{"$error":"#NUM!"}},0,0,null,{"$f":"STANDARDIZE(C5,C41,C42)","v":{"$error":"#NUM!"}},{"$f":"STANDARDIZE(D5,D41,D42)","v":{"$error":"#NUM!"}},0,0,{"$f":"STANDARDIZE(AB5,AB41,AB42)","v":{"$error":"#NUM!"}},{"$f":"STANDARDIZE(AC5,AC41,AC42)","v":{"$error":"#NUM!"}},null,{"$f":"STANDARDIZE(C5,C41,C42)","v":{"$error":"#NUM!"}},{"$f":"STANDARDIZE(D5,D41,D42)","v":{"$error":"#NUM!"}},{"$f":"STANDARDIZE(E5,E41,E42)","v":{"$error":"#NUM!"}},{"$f":"STANDARDIZE(F5,F41,F42)","v":{"$error":"#NUM!"}},{"$f":"STANDARDIZE(G5,G41,G42)","v":{"$error":"#NUM!"}},null,null,{"$error":"#NUM!"},{"$error":"#NUM!"},{"$error":"#NUM!"},{"$f":"SUM(AN5+AO5+AP5)","v":{"$error":"#NUM!"}},{"$error":"#NUM!"},{"$error":"#NUM!"},{"$error":"#NUM!"},{"$f":"SUM(AR5+AS5+AT5)","v":{"$error":"#NUM!"}},{"$error":"#NUM!"},{"$error":"#NUM!"},{"$error":"#NUM!"},{"$f":"SUM(AV5+AW5+AX5)","v":{"$error":"#NUM!"}},{"$error":"#NUM!"},{"$error":"#NUM!"},{"$error":"#NUM!"},{"$f":"SUM(AZ5+BA5+BB5)","v":{"$error":"#NUM!"}},{"$error":"#NUM!"},{"$error":"#NUM!"},{"$error":"#NUM!"},{"$error":"#NUM!"},{"$f":"SUM(BD5+BE5+BF5+BG5)","v":{"$error":"#NUM!"}}]
[3,null,{"$f":"COUNTIF(C50:C154,3)","v":0},0,0,0,0,null,null,0,{"$error":"#NUM!"},null,0,{"$error":"#NUM!"},null,"3 ",null,{"$error":"#NUM!"},{"$error":"#NUM!"},{"$error":"#NUM!"},{"$error":"#NUM!"},{"$error":"#NUM!"},0,0,null,{"$f":"STANDARDIZE(C6,C41,C42)","v":{"$error":"#NUM!"}},{"$f":"STANDARDIZE(D6,D41,D42)","v":{"$error":"#NUM!"}},0,0,{"$f":"STANDARDIZE(AB6,AB41,AB42)","v":{"$error":"#NUM!"}},{"$f":"STANDARDIZE(AC6,AC41,AC42)","v":{"$error":"#NUM!"}},null,{"$f":"STANDARDIZE(C6,C41,C42)","v":{"$error":"#NUM!"}},{"$f":"STANDARDIZE(D6,D41,D42)","v":{"$error":"#NUM!"}},{"$f":"STANDARDIZE(E6,E41,E42)","v":{"$error":"#NUM!"}},{"$f":"STANDARDIZE(F6,F41,F42)","v":{"$error":"#NUM!"}},{"$f":"STANDARDIZE(G6,G41,G42)","v":{"$error":"#NUM!"}},null,null,{"$error":"#NUM!"},{"$error":"#NUM!"},{"$error":"#NUM!"},{"$error":"#NUM!"},{"$error":"#NUM!"},{"$error":"#NUM!"},{"$error":"#NUM!"},{"$error":"#NUM!"},{"$error":"#NUM!"},{"$error":"#NUM!"},{"$error":"#NUM!"},{"$error":"#NUM!"},{"$error":"#NUM!"},{"$error":"#NUM!"},{"$error":"#NUM!"},{"$error":"#NUM!"},{"$error":"#NUM!"},{"$error":"#NUM!"},{"$error":"#NUM!"},{"$error":"#NUM!"},{"$error":"#NUM!"}]
[4,null,{"$f":"COUNTIF(C50:C154,4)","v":0},0,0,0,0,null,null,0,{"$error":"#NUM!"},null,0,{"$error":"#NUM!"},null,"4 ",null,{"$error":"#NUM!"},{"$error":"#NUM!"},{"$error":"#NUM!"},{"$error":"#NUM!"},{"$error":"#NUM!"},0,0,null,{"$f":"STANDARDIZE(C7,C41,C42)","v":{"$error":"#NUM!"}},{"$f":"STANDARDIZE(D7,D41,D42)","v":{"$error":"#NUM!"}},0,0,{"$f":"STANDARDIZE(AB7,AB41,AB42)","v":{"$error":"#NUM!"}},{"$f":"STANDARDIZE(AC7,AC41,AC42)","v":{"$error":"#NUM!"}},null,{"$f":"STANDARDIZE(C7,C41,C42)","v":{"$error":"#NUM!"}},{"$f":"STANDARDIZE(D7,D41,D42)","v":{"$error":"#NUM!"}},{"$f":"STANDARDIZE(E7,E41,E42)","v":{"$error":"#NUM!"}},{"$f":"STANDARDIZE(F7,F41,F42)","v":{"$error":"#NUM!"}},{"$f":"STANDARDIZE(G7,G41,G42)","v":{"$error":"#NUM!"}},null,null,{"$error":"#NUM!"},{"$error":"#NUM!"},{"$error":"#NUM!"},{"$error":"#NUM!"},{"$error":"#NUM!"},{"$error":"#NUM!"},{"$error":"#NUM!"},{"$error":"#NUM!"},{"$error":"#NUM!"},{"$error":"#NUM!"},{"$error":"#NUM!"},{"$error":"#NUM!"},{"$error":"#NUM!"},{"$error":"#NUM!"},{"$error":"#NUM!"},{"$error":"#NUM!"},{"$error":"#NUM!"},{"$error":"#NUM!"},{"$error":"#NUM!"},{"$error":"#NUM!"},{"$error":"#NUM!"}]
[5,null,{"$f":"COUNTIF(C50:C154,5)","v":0},0,0,0,0,null,null,0,{"$error":"#NUM!"},null,0,{"$error":"#NUM!"},null,"5 ",null,{"$error":"#NUM!"},{"$error":"#NUM!"},{"$error":"#NUM!"},{"$error":"#NUM!"},{"$error":"#NUM!"},0,0,null,{"$f":"STANDARDIZE(C8,C41,C42)","v":{"$error":"#NUM!"}},{"$f":"STANDARDIZE(D8,D41,D42)","v":{"$error":"#NUM!"}},0,0,{"$f":"STANDARDIZE(AB8,AB41,AB42)","v":{"$error":"#NUM!"}},{"$f":"STANDARDIZE(AC8,AC41,AC42)","v":{"$error":"#NUM!"}},null,{"$f":"STANDARDIZE(C8,C41,C42)","v":{"$error":"#NUM!"}},{"$f":"STANDARDIZE(D8,D41,D42)","v":{"$error":"#NUM!"}},{"$f":"STANDARDIZE(E8,E41,E42)","v":{"$error":"#NUM!"}},{"$f":"STANDARDIZE(F8,F41,F42)","v":{"$error":"#NUM!"}},{"$f":"STANDARDIZE(G8,G41,G42)","v":{"$error":"#NUM!"}},null,null,{"$error":"#NUM!"},{"$error":"#NUM!"},{"$error":"#NUM!"},{"$error":"#NUM!"},{"$error":"#NUM!"},{"$error":"#NUM!"},{"$error":"#NUM!"},{"$error":"#NUM!"},{"$error":"#NUM!"},{"$error":"#NUM!"},{"$error":"#NUM!"},{"$error":"#NUM!"},{"$error":"#NUM!"},{"$error":"#NUM!"},{"$error":"#NUM!"},{"$error":"#NUM!"},{"$error":"#NUM!"},{"$error":"#NUM!"},{"$error":"#NUM!"},{"$error":"#NUM!"},{"$error":"#NUM!"}]
[6,null,{"$f":"COUNTIF(C50:C154,6)","v":0},0,0,0,0,null,null,0,{"$error":"#NUM!"},null,0,{"$error":"#NUM!"},null,"6 ",null,{"$error":"#NUM!"},{"$error":"#NUM!"},{"$error":"#NUM!"},{"$error":"#NUM!"},{"$error":"#NUM!"},0,0,null,{"$f":"STANDARDIZE(C9,C41,C42)","v":{"$error":"#NUM!"}},{"$f":"STANDARDIZE(D9,D41,D42)","v":{"$error":"#NUM!"}},0,0,{"$f":"STANDARDIZE(AB9,AB41,AB42)","v":{"$error":"#NUM!"}},{"$f":"STANDARDIZE(AC9,AC41,AC42)","v":{"$error":"#NUM!"}},null,{"$f":"STANDARDIZE(C9,C41,C42)","v":{"$error":"#NUM!"}},{"$f":"STANDARDIZE(D9,D41,D42)","v":{"$error":"#NUM!"}},{"$f":"STANDARDIZE(E9,E41,E42)","v":{"$error":"#NUM!"}},{"$f":"STANDARDIZE(F9,F41,F42)","v":{"$error":"#NUM!"}},{"$f":"STANDARDIZE(G9,G41,G42)","v":{"$error":"#NUM!"}},null,null,{"$error":"#NUM!"},{"$error":"#NUM!"},{"$error":"#NUM!"},{"$error":"#NUM!"},{"$error":"#NUM!"},{"$error":"#NUM!"},{"$error":"#NUM!"},{"$error":"#NUM!"},{"$error":"#NUM!"},{"$error":"#NUM!"},{"$error":"#NUM!"},{"$error":"#NUM!"},{"$error":"#NUM!"},{"$error":"#NUM!"},{"$error":"#NUM!"},{"$error":"#NUM!"},{"$error":"#NUM!"},{"$error":"#NUM!"},{"$error":"#NUM!"},{"$error":"#NUM!"},{"$error":"#NUM!"}]
[7,null,{"$f":"COUNTIF(C50:C154,7)","v":0},0,0,0,0,null,null,0,{"$error":"#NUM!"},null,0,{"$error":"#NUM!"},null,"7 ",null,{"$error":"#NUM!"},{"$error":"#NUM!"},{"$error":"#NUM!"},{"$error":"#NUM!"},{"$error":"#NUM!"},0,0,null,{"$f":"STANDARDIZE(C10,C41,C42)","v":{"$error":"#NUM!"}},{"$f":"STANDARDIZE(D10,D41,D42)","v":{"$error":"#NUM!"}},0,0,{"$f":"STANDARDIZE(AB10,AB41,AB42)","v":{"$error":"#NUM!"}},{"$f":"STANDARDIZE(AC10,AC41,AC42)","v":{"$error":"#NUM!"}},null,{"$f":"STANDARDIZE(C10,C41,C42)","v":{"$error":"#NUM!"}},{"$f":"STANDARDIZE(D10,D41,D42)","v":{"$error":"#NUM!"}},{"$f":"STANDARDIZE(E10,E41,E42)","v":{"$error":"#NUM!"}},{"$f":"STANDARDIZE(F10,F41,F42)","v":{"$error":"#NUM!"}},{"$f":"STANDARDIZE(G10,G41,G42)","v":{"$error":"#NUM!"}},null,null,{"$error":"#NUM!"},{"$error":"#NUM!"},{"$error":"#NUM!"},{"$error":"#NUM!"},{"$error":"#NUM!"},{"$error":"#NUM!"},{"$error":"#NUM!"},{"$error":"#NUM!"},{"$error":"#NUM!"},{"$error":"#NUM!"},{"$error":"#NUM!"},{"$error":"#NUM!"},{"$error":"#NUM!"},{"$error":"#NUM!"},{"$error":"#NUM!"},{"$error":"#NUM!"},{"$error":"#NUM!"},{"$error":"#NUM!"},{"$error":"#NUM!"},{"$error":"#NUM!"},{"$error":"#NUM!"}]
[8,null,{"$f":"COUNTIF(C50:C154,8)","v":0},0,0,0,0,null,null,0,{"$error":"#NUM!"},null,0,{"$error":"#NUM!"},null,"8 ",null,{"$error":"#NUM!"},{"$error":"#NUM!"},{"$error":"#NUM!"},{"$error":"#NUM!"},{"$error":"#NUM!"},0,0,null,{"$f":"STANDARDIZE(C11,C41,C42)","v":{"$error":"#NUM!"}},{"$f":"STANDARDIZE(D11,D41,D42)","v":{"$error":"#NUM!"}},0,0,{"$f":"STANDARDIZE(AB11,AB41,AB42)","v":{"$error":"#NUM!"}},{"$f":"STANDARDIZE(AC11,AC41,AC42)","v":{"$error":"#NUM!"}},null,{"$f":"STANDARDIZE(C11,C41,C42)","v":{"$error":"#NUM!"}},{"$f":"STANDARDIZE(D11,D41,D42)","v":{"$error":"#NUM!"}},{"$f":"STANDARDIZE(E11,E41,E42)","v":{"$error":"#NUM!"}},{"$f":"STANDARDIZE(F11,F41,F42)","v":{"$error":"#NUM!"}},{"$f":"STANDARDIZE(G11,G41,G42)","v":{"$error":"#NUM!"}},null,null,{"$error":"#NUM!"},{"$error":"#NUM!"},{"$error":"#NUM!"},{"$error":"#NUM!"},{"$error":"#NUM!"},{"$error":"#NUM!"},{"$error":"#NUM!"},{"$error":"#NUM!"},{"$error":"#NUM!"},{"$error":"#NUM!"},{"$error":"#NUM!"},{"$error":"#NUM!"},{"$error":"#NUM!"},{"$error":"#NUM!"},{"$error":"#NUM!"},{"$error":"#NUM!"},{"$error":"#NUM!"},{"$error":"#NUM!"},{"$error":"#NUM!"},{"$error":"#NUM!"},{"$error":"#NUM!"}]
[9,null,{"$f":"COUNTIF(C50:C154,9)","v":0},0,0,0,0,null,null,0,{"$error":"#NUM!"},null,0,{"$error":"#NUM!"},null,"9 ",null,{"$error":"#NUM!"},{"$error":"#NUM!"},{"$error":"#NUM!"},{"$error":"#NUM!"},{"$error":"#NUM!"},0,0,null,{"$f":"STANDARDIZE(C12,C41,C42)","v":{"$error":"#NUM!"}},{"$f":"STANDARDIZE(D12,D41,D42)","v":{"$error":"#NUM!"}},0,0,{"$f":"STANDARDIZE(AB12,AB41,AB42)","v":{"$error":"#NUM!"}},{"$f":"STANDARDIZE(AC12,AC41,AC42)","v":{"$error":"#NUM!"}},null,{"$f":"STANDARDIZE(C12,C41,C42)","v":{"$error":"#NUM!"}},{"$f":"STANDARDIZE(D12,D41,D42)","v":{"$error":"#NUM!"}},{"$f":"STANDARDIZE(E12,E41,E42)","v":{"$error":"#NUM!"}},{"$f":"STANDARDIZE(F12,F41,F42)","v":{"$error":"#NUM!"}},{"$f":"STANDARDIZE(G12,G41,G42)","v":{"$error":"#NUM!"}},null,null,{"$error":"#NUM!"},{"$error":"#NUM!"},{"$error":"#NUM!"},{"$error":"#NUM!"},{"$error":"#NUM!"},{"$error":"#NUM!"},{"$error":"#NUM!"},{"$error":"#NUM!"},{"$error":"#NUM!"},{"$error":"#NUM!"},{"$error":"#NUM!"},{"$error":"#NUM!"},{"$error":"#NUM!"},{"$error":"#NUM!"},{"$error":"#NUM!"},{"$error":"#NUM!"},{"$error":"#NUM!"},{"$error":"#NUM!"},{"$error":"#NUM!"},{"$error":"#NUM!"},{"$error":"#NUM!"}]
[10,null,{"$f":"COUNTIF(C50:C154,10)","v":0},0,0,0,0,null,null,0,{"$error":"#NUM!"},null,0,{"$error":"#NUM!"},null,"10 ",null,{"$error":"#NUM!"},{"$error":"#NUM!"},{"$error":"#NUM!"},{"$error":"#NUM!"},{"$error":"#NUM!"},0,0,null,{"$f":"STANDARDIZE(C13,C41,C42)","v":{"$error":"#NUM!"}},{"$f":"STANDARDIZE(D13,D41,D42)","v":{"$error":"#NUM!"}},0,0,{"$f":"STANDARDIZE(AB13,AB41,AB42)","v":{"$error":"#NUM!"}},{"$f":"STANDARDIZE(AC13,AC41,AC42)","v":{"$error":"#NUM!"}},null,{"$f":"STANDARDIZE(C13,C41,C42)","v":{"$error":"#NUM!"}},{"$f":"STANDARDIZE(D13,D41,D42)","v":{"$error":"#NUM!"}},{"$f":"STANDARDIZE(E13,E41,E42)","v":{"$error":"#NUM!"}},{"$f":"STANDARDIZE(F13,F41,F42)","v":{"$error":"#NUM!"}},{"$f":"STANDARDIZE(G13,G41,G42)","v":{"$error":"#NUM!"}},null,null,{"$error":"#NUM!"},{"$error":"#NUM!"},{"$error":"#NUM!"},{"$error":"#NUM!"},{"$error":"#NUM!"},{"$error":"#NUM!"},{"$error":"#NUM!"},{"$error":"#NUM!"},{"$error":"#NUM!"},{"$error":"#NUM!"},{"$error":"#NUM!"},{"$error":"#NUM!"},{"$error":"#NUM!"},{"$error":"#NUM!"},{"$error":"#NUM!"},{"$error":"#NUM!"},{"$error":"#NUM!"},{"$error":"#NUM!"},{"$error":"#NUM!"},{"$error":"#NUM!"},{"$error":"#NUM!"}]
[11,null,{"$f":"COUNTIF(C50:C154,11)","v":0},0,0,0,0,null,null,0,{"$error":"#NUM!"},null,0,{"$error":"#NUM!"},null,"11 ",null,{"$error":"#NUM!"},{"$error":"#NUM!"},{"$error":"#NUM!"},{"$error":"#NUM!"},{"$error":"#NUM!"},0,0,null,{"$f":"STANDARDIZE(C14,C41,C42)","v":{"$error":"#NUM!"}},{"$f":"STANDARDIZE(D14,D41,D42)","v":{"$error":"#NUM!"}},0,0,{"$f":"STANDARDIZE(AB14,AB41,AB42)","v":{"$error":"#NUM!"}},{"$f":"STANDARDIZE(AC14,AC41,AC42)","v":{"$error":"#NUM!"}},null,{"$f":"STANDARDIZE(C14,C41,C42)","v":{"$error":"#NUM!"}},{"$f":"STANDARDIZE(D14,D41,D42)","v":{"$error":"#NUM!"}},{"$f":"STANDARDIZE(E14,E41,E42)","v":{"$error":"#NUM!"}},{"$f":"STANDARDIZE(F14,F41,F42)","v":{"$error":"#NUM!"}},{"$f":"STANDARDIZE(G14,G41,G42)","v":{"$error":"#NUM!"}},null,null,{"$error":"#NUM!"},{"$error":"#NUM!"},{"$error":"#NUM!"},{"$error":"#NUM!"},{"$error":"#NUM!"},{"$error":"#NUM!"},{"$error":"#NUM!"},{"$error":"#NUM!"},{"$error":"#NUM!"},{"$error":"#NUM!"},{"$error":"#NUM!"},{"$error":"#NUM!"},{"$error":"#NUM!"},{"$error":"#NUM!"},{"$error":"#NUM!"},{"$error":"#NUM!"},{"$error":"#NUM!"},{"$error":"#NUM!"},{"$error":"#NUM!"},{"$error":"#NUM!"},{"$error":"#NUM!"}]
[12,null,{"$f":"COUNTIF(C50:C154,12)","v":0},0,0,0,0,null,null,0,{"$error":"#NUM!"},null,0,{"$error":"#NUM!"},null,"12 ",null,{"$error":"#NUM!"},{"$error":"#NUM!"},{"$error":"#NUM!"},{"$error":"#NUM!"},{"$error":"#NUM!"},0,0,null,{"$f":"STANDARDIZE(C15,C41,C42)","v":{"$error":"#NUM!"}},{"$f":"STANDARDIZE(D15,D41,D42)","v":{"$error":"#NUM!"}},0,0,{"$f":"STANDARDIZE(AB15,AB41,AB42)","v":{"$error":"#NUM!"}},{"$f":"STANDARDIZE(AC15,AC41,AC42)","v":{"$error":"#NUM!"}},null,{"$f":"STANDARDIZE(C15,C41,C42)","v":{"$error":"#NUM!"}},{"$f":"STANDARDIZE(D15,D41,D42)","v":{"$error":"#NUM!"}},{"$f":"STANDARDIZE(E15,E41,E42)","v":{"$error":"#NUM!"}},{"$f":"STANDARDIZE(F15,F41,F42)","v":{"$error":"#NUM!"}},{"$f":"STANDARDIZE(G15,G41,G42)","v":{"$error":"#NUM!"}},null,null,{"$error":"#NUM!"},{"$error":"#NUM!"},{"$error":"#NUM!"},{"$error":"#NUM!"},{"$error":"#NUM!"},{"$error":"#NUM!"},{"$error":"#NUM!"},{"$error":"#NUM!"},{"$error":"#NUM!"},{"$error":"#NUM!"},{"$error":"#NUM!"},{"$error":"#NUM!"},{"$error":"#NUM!"},{"$error":"#NUM!"},{"$error":"#NUM!"},{"$error":"#NUM!"},{"$error":"#NUM!"},{"$error":"#NUM!"},{"$error":"#NUM!"},{"$error":"#NUM!"},{"$error":"#NUM!"}]
[13,null,{"$f":"COUNTIF(C50:C154,13)","v":0},0,0,0,0,null,null,0,{"$error":"#NUM!"},null,0,{"$error":"#NUM!"},null,"13 ",null,{"$error":"#NUM!"},{"$error":"#NUM!"},{"$error":"#NUM!"},{"$error":"#NUM!"},{"$error":"#NUM!"},0,0,null,{"$f":"STANDARDIZE(C16,C41,C42)","v":{"$error":"#NUM!"}},{"$f":"STANDARDIZE(D16,D41,D42)","v":{"$error":"#NUM!"}},0,0,{"$f":"STANDARDIZE(AB16,AB41,AB42)","v":{"$error":"#NUM!"}},{"$f":"STANDARDIZE(AC16,AC41,AC42)","v":{"$error":"#NUM!"}},null,{"$f":"STANDARDIZE(C16,C41,C42)","v":{"$error":"#NUM!"}},{"$f":"STANDARDIZE(D16,D41,D42)","v":{"$error":"#NUM!"}},{"$f":"STANDARDIZE(E16,E41,E42)","v":{"$error":"#NUM!"}},{"$f":"STANDARDIZE(F16,F41,F42)","v":{"$error":"#NUM!"}},{"$f":"STANDARDIZE(G16,G41,G42)","v":{"$error":"#NUM!"}},null,null,{"$error":"#NUM!"},{"$error":"#NUM!"},{"$error":"#NUM!"},{"$error":"#NUM!"},{"$error":"#NUM!"},{"$error":"#NUM!"},{"$error":"#NUM!"},{"$error":"#NUM!"},{"$error":"#NUM!"},{"$error":"#NUM!"},{"$error":"#NUM!"},{"$error":"#NUM!"},{"$error":"#NUM!"},{"$error":"#NUM!"},{"$error":"#NUM!"},{"$error":"#NUM!"},{"$error":"#NUM!"},{"$error":"#NUM!"},{"$error":"#NUM!"},{"$error":"#NUM!"},{"$error":"#NUM!"}]
[14,null,{"$f":"COUNTIF(C50:C154,14)","v":0},0,0,0,0,null,null,0,{"$error":"#NUM!"},null,0,{"$error":"#NUM!"},null,"14 ",null,{"$error":"#NUM!"},{"$error":"#NUM!"},{"$error":"#NUM!"},{"$error":"#NUM!"},{"$error":"#NUM!"},0,0,null,{"$f":"STANDARDIZE(C17,C41,C42)","v":{"$error":"#NUM!"}},{"$f":"STANDARDIZE(D17,D41,D42)","v":{"$error":"#NUM!"}},0,0,{"$f":"STANDARDIZE(AB17,AB41,AB42)","v":{"$error":"#NUM!"}},{"$f":"STANDARDIZE(AC17,AC41,AC42)","v":{"$error":"#NUM!"}},null,{"$f":"STANDARDIZE(C17,C41,C42)","v":{"$error":"#NUM!"}},{"$f":"STANDARDIZE(D17,D41,D42)","v":{"$error":"#NUM!"}},{"$f":"STANDARDIZE(E17,E41,E42)","v":{"$error":"#NUM!"}},{"$f":"STANDARDIZE(F17,F41,F42)","v":{"$error":"#NUM!"}},{"$f":"STANDARDIZE(G17,G41,G42)","v":{"$error":"#NUM!"}},null,null,{"$error":"#NUM!"},{"$error":"#NUM!"},{"$error":"#NUM!"},{"$error":"#NUM!"},{"$error":"#NUM!"},{"$error":"#NUM!"},{"$error":"#NUM!"},{"$error":"#NUM!"},{"$error":"#NUM!"},{"$error":"#NUM!"},{"$error":"#NUM!"},{"$error":"#NUM!"},{"$error":"#NUM!"},{"$error":"#NUM!"},{"$error":"#NUM!"},{"$error":"#NUM!"},{"$error":"#NUM!"},{"$error":"#NUM!"},{"$error":"#NUM!"},{"$error":"#NUM!"},{"$error":"#NUM!"}]
[15,null,{"$f":"COUNTIF(C50:C154,15)","v":0},0,0,0,0,null,null,0,{"$error":"#NUM!"},null,0,{"$error":"#NUM!"},null,"15 ",null,{"$error":"#NUM!"},{"$error":"#NUM!"},{"$error":"#NUM!"},{"$error":"#NUM!"},{"$error":"#NUM!"},0,0,null,{"$f":"STANDARDIZE(C18,C41,C42)","v":{"$error":"#NUM!"}},{"$f":"STANDARDIZE(D18,D41,D42)","v":{"$error":"#NUM!"}},0,0,{"$f":"STANDARDIZE(AB18,AB41,AB42)","v":{"$error":"#NUM!"}},{"$f":"STANDARDIZE(AC18,AC41,AC42)","v":{"$error":"#NUM!"}},null,{"$f":"STANDARDIZE(C18,C41,C42)","v":{"$error":"#NUM!"}},{"$f":"STANDARDIZE(D18,D41,D42)","v":{"$error":"#NUM!"}},{"$f":"STANDARDIZE(E18,E41,E42)","v":{"$error":"#NUM!"}},{"$f":"STANDARDIZE(F18,F41,F42)","v":{"$error":"#NUM!"}},{"$f":"STANDARDIZE(G18,G41,G42)","v":{"$error":"#NUM!"}},null,null,{"$error":"#NUM!"},{"$error":"#NUM!"},{"$error":"#NUM!"},{"$error":"#NUM!"},{"$error":"#NUM!"},{"$error":"#NUM!"},{"$error":"#NUM!"},{"$error":"#NUM!"},{"$error":"#NUM!"},{"$error":"#NUM!"},{"$error":"#NUM!"},{"$error":"#NUM!"},{"$error":"#NUM!"},{"$error":"#NUM!"},{"$error":"#NUM!"},{"$error":"#NUM!"},{"$error":"#NUM!"},{"$error":"#NUM!"},{"$error":"#NUM!"},{"$error":"#NUM!"},{"$error":"#NUM!"}]
[16,null,{"$f":"COUNTIF(C50:C154,16)","v":0},0,0,0,0,null,null,0,{"$error":"#NUM!"},null,0,{"$error":"#NUM!"},null,"16 ",null,{"$error":"#NUM!"},{"$error":"#NUM!"},{"$error":"#NUM!"},{"$error":"#NUM!"},{"$error":"#NUM!"},0,0,null,{"$f":"STANDARDIZE(C19,C41,C42)","v":{"$error":"#NUM!"}},{"$f":"STANDARDIZE(D19,D41,D42)","v":{"$error":"#NUM!"}},0,0,{"$f":"STANDARDIZE(AB19,AB41,AB42)","v":{"$error":"#NUM!"}},{"$f":"STANDARDIZE(AC19,AC41,AC42)","v":{"$error":"#NUM!"}},null,{"$f":"STANDARDIZE(C19,C41,C42)","v":{"$error":"#NUM!"}},{"$f":"STANDARDIZE(D19,D41,D42)","v":{"$error":"#NUM!"}},{"$f":"STANDARDIZE(E19,E41,E42)","v":{"$error":"#NUM!"}},{"$f":"STANDARDIZE(F19,F41,F42)","v":{"$error":"#NUM!"}},{"$f":"STANDARDIZE(G19,G41,G42)","v":{"$error":"#NUM!"}},null,null,{"$error":"#NUM!"},{"$error":"#NUM!"},{"$error":"#NUM!"},{"$error":"#NUM!"},{"$error":"#NUM!"},{"$error":"#NUM!"},{"$error":"#NUM!"},{"$error":"#NUM!"},{"$error":"#NUM!"},{"$error":"#NUM!"},{"$error":"#NUM!"},{"$error":"#NUM!"},{"$error":"#NUM!"},{"$error":"#NUM!"},{"$error":"#NUM!"},{"$error":"#NUM!"},{"$error":"#NUM!"},{"$error":"#NUM!"},{"$error":"#NUM!"},{"$error":"#NUM!"},{"$error":"#NUM!"}]
[17,null,{"$f":"COUNTIF(C50:C154,17)","v":0},0,0,0,0,null,null,0,{"$error":"#NUM!"},null,0,{"$error":"#NUM!"},null,"17 ",null,{"$error":"#NUM!"},{"$error":"#NUM!"},{"$error":"#NUM!"},{"$error":"#NUM!"},{"$error":"#NUM!"},0,0,null,{"$f":"STANDARDIZE(C20,C41,C42)","v":{"$error":"#NUM!"}},{"$f":"STANDARDIZE(D20,D41,D42)","v":{"$error":"#NUM!"}},0,0,{"$f":"STANDARDIZE(AB20,AB41,AB42)","v":{"$error":"#NUM!"}},{"$f":"STANDARDIZE(AC20,AC41,AC42)","v":{"$error":"#NUM!"}},null,{"$f":"STANDARDIZE(C20,C41,C42)","v":{"$error":"#NUM!"}},{"$f":"STANDARDIZE(D20,D41,D42)","v":{"$error":"#NUM!"}},{"$f":"STANDARDIZE(E20,E41,E42)","v":{"$error":"#NUM!"}},{"$f":"STANDARDIZE(F20,F41,F42)","v":{"$error":"#NUM!"}},{"$f":"STANDARDIZE(G20,G41,G42)","v":{"$error":"#NUM!"}},null,null,{"$error":"#NUM!"},{"$error":"#NUM!"},{"$error":"#NUM!"},{"$error":"#NUM!"},{"$error":"#NUM!"},{"$error":"#NUM!"},{"$error":"#NUM!"},{"$error":"#NUM!"},{"$error":"#NUM!"},{"$error":"#NUM!"},{"$error":"#NUM!"},{"$error":"#NUM!"},{"$error":"#NUM!"},{"$error":"#NUM!"},{"$error":"#NUM!"},{"$error":"#NUM!"},{"$error":"#NUM!"},{"$error":"#NUM!"},{"$error":"#NUM!"},{"$error":"#NUM!"},{"$error":"#NUM!"}]
[18,null,{"$f":"COUNTIF(C50:C154,18)","v":0},0,0,0,0,null,null,0,{"$error":"#NUM!"},null,0,{"$error":"#NUM!"},null,"18 ",null,{"$error":"#NUM!"},{"$error":"#NUM!"},{"$error":"#NUM!"},{"$error":"#NUM!"},{"$error":"#NUM!"},0,0,null,{"$f":"STANDARDIZE(C21,C41,C42)","v":{"$error":"#NUM!"}},{"$f":"STANDARDIZE(D21,D41,D42)","v":{"$error":"#NUM!"}},0,0,{"$f":"STANDARDIZE(AB21,AB41,AB42)","v":{"$error":"#NUM!"}},{"$f":"STANDARDIZE(AC21,AC41,AC42)","v":{"$error":"#NUM!"}},null,{"$f":"STANDARDIZE(C21,C41,C42)","v":{"$error":"#NUM!"}},{"$f":"STANDARDIZE(D21,D41,D42)","v":{"$error":"#NUM!"}},{"$f":"STANDARDIZE(E21,E41,E42)","v":{"$error":"#NUM!"}},{"$f":"STANDARDIZE(F21,F41,F42)","v":{"$error":"#NUM!"}},{"$f":"STANDARDIZE(G21,G41,G42)","v":{"$error":"#NUM!"}},null,null,{"$error":"#NUM!"},{"$error":"#NUM!"},{"$error":"#NUM!"},{"$error":"#NUM!"},{"$error":"#NUM!"},{"$error":"#NUM!"},{"$error":"#NUM!"},{"$error":"#NUM!"},{"$error":"#NUM!"},{"$error":"#NUM!"},{"$error":"#NUM!"},{"$error":"#NUM!"},{"$error":"#NUM!"},{"$error":"#NUM!"},{"$error":"#NUM!"},{"$error":"#NUM!"},{"$error":"#NUM!"},{"$error":"#NUM!"},{"$error":"#NUM!"},{"$error":"#NUM!"},{"$error":"#NUM!"}]
[19,null,{"$f":"COUNTIF(C50:C154,19)","v":0},0,0,0,0,null,null,0,{"$error":"#NUM!"},null,0,{"$error":"#NUM!"},null,"19 ",null,{"$error":"#NUM!"},{"$error":"#NUM!"},{"$error":"#NUM!"},{"$error":"#NUM!"},{"$error":"#NUM!"},0,0,null,{"$f":"STANDARDIZE(C22,C41,C42)","v":{"$error":"#NUM!"}},{"$f":"STANDARDIZE(D22,D41,D42)","v":{"$error":"#NUM!"}},0,0,{"$f":"STANDARDIZE(AB22,AB41,AB42)","v":{"$error":"#NUM!"}},{"$f":"STANDARDIZE(AC22,AC41,AC42)","v":{"$error":"#NUM!"}},null,{"$f":"STANDARDIZE(C22,C41,C42)","v":{"$error":"#NUM!"}},{"$f":"STANDARDIZE(D22,D41,D42)","v":{"$error":"#NUM!"}},{"$f":"STANDARDIZE(E22,E41,E42)","v":{"$error":"#NUM!"}},{"$f":"STANDARDIZE(F22,F41,F42)","v":{"$error":"#NUM!"}},{"$f":"STANDARDIZE(G22,G41,G42)","v":{"$error":"#NUM!"}},null,null,{"$error":"#NUM!"},{"$error":"#NUM!"},{"$error":"#NUM!"},{"$error":"#NUM!"},{"$error":"#NUM!"},{"$error":"#NUM!"},{"$error":"#NUM!"},{"$error":"#NUM!"},{"$error":"#NUM!"},{"$error":"#NUM!"},{"$error":"#NUM!"},{"$error":"#NUM!"},{"$error":"#NUM!"},{"$error":"#NUM!"},{"$error":"#NUM!"},{"$error":"#NUM!"},{"$error":"#NUM!"},{"$error":"#NUM!"},{"$error":"#NUM!"},{"$error":"#NUM!"},{"$error":"#NUM!"}]
[20,null,{"$f":"COUNTIF(C50:C154,20)","v":0},0,0,0,0,null,null,0,{"$error":"#NUM!"},null,0,{"$error":"#NUM!"},null,"20 ",null,{"$error":"#NUM!"},{"$error":"#NUM!"},{"$error":"#NUM!"},{"$error":"#NUM!"},{"$error":"#NUM!"},0,0,null,{"$f":"STANDARDIZE(C23,C41,C42)","v":{"$error":"#NUM!"}},{"$f":"STANDARDIZE(D23,D41,D42)","v":{"$error":"#NUM!"}},0,0,{"$f":"STANDARDIZE(AB23,AB41,AB42)","v":{"$error":"#NUM!"}},{"$f":"STANDARDIZE(AC23,AC41,AC42)","v":{"$error":"#NUM!"}},null,{"$f":"STANDARDIZE(C23,C41,C42)","v":{"$error":"#NUM!"}},{"$f":"STANDARDIZE(D23,D41,D42)","v":{"$error":"#NUM!"}},{"$f":"STANDARDIZE(E23,E41,E42)","v":{"$error":"#NUM!"}},{"$f":"STANDARDIZE(F23,F41,F42)","v":{"$error":"#NUM!"}},{"$f":"STANDARDIZE(G23,G41,G42)","v":{"$error":"#NUM!"}},null,null,{"$error":"#NUM!"},{"$error":"#NUM!"},{"$error":"#NUM!"},{"$error":"#NUM!"},{"$error":"#NUM!"},{"$error":"#NUM!"},{"$error":"#NUM!"},{"$error":"#NUM!"},{"$error":"#NUM!"},{"$error":"#NUM!"},{"$error":"#NUM!"},{"$error":"#NUM!"},{"$error":"#NUM!"},{"$error":"#NUM!"},{"$error":"#NUM!"},{"$error":"#NUM!"},{"$error":"#NUM!"},{"$error":"#NUM!"},{"$error":"#NUM!"},{"$error":"#NUM!"},{"$error":"#NUM!"}]
[21,null,{"$f":"COUNTIF(C50:C154,21)","v":0},0,0,0,0,null,null,0,{"$error":"#NUM!"},null,0,{"$error":"#NUM!"},null,"21 ",null,{"$error":"#NUM!"},{"$error":"#NUM!"},{"$error":"#NUM!"},{"$error":"#NUM!"},{"$error":"#NUM!"},0,0,null,{"$f":"STANDARDIZE(C24,C41,C42)","v":{"$error":"#NUM!"}},{"$f":"STANDARDIZE(D24,D41,D42)","v":{"$error":"#NUM!"}},0,0,{"$f":"STANDARDIZE(AB24,AB41,AB42)","v":{"$error":"#NUM!"}},{"$f":"STANDARDIZE(AC24,AC41,AC42)","v":{"$error":"#NUM!"}},null,{"$f":"STANDARDIZE(C24,C41,C42)","v":{"$error":"#NUM!"}},{"$f":"STANDARDIZE(D24,D41,D42)","v":{"$error":"#NUM!"}},{"$f":"STANDARDIZE(E24,E41,E42)","v":{"$error":"#NUM!"}},{"$f":"STANDARDIZE(F24,F41,F42)","v":{"$error":"#NUM!"}},{"$f":"STANDARDIZE(G24,G41,G42)","v":{"$error":"#NUM!"}},null,null,{"$error":"#NUM!"},{"$error":"#NUM!"},{"$error":"#NUM!"},{"$error":"#NUM!"},{"$error":"#NUM!"},{"$error":"#NUM!"},{"$error":"#NUM!"},{"$error":"#NUM!"},{"$error":"#NUM!"},{"$error":"#NUM!"},{"$error":"#NUM!"},{"$error":"#NUM!"},{"$error":"#NUM!"},{"$error":"#NUM!"},{"$error":"#NUM!"},{"$error":"#NUM!"},{"$error":"#NUM!"},{"$error":"#NUM!"},{"$error":"#NUM!"},{"$error":"#NUM!"},{"$error":"#NUM!"}]
[22,null,{"$f":"COUNTIF(C50:C154,22)","v":0},0,0,0,0,null,null,0,{"$error":"#NUM!"},null,0,{"$error":"#NUM!"},null,"22 ",null,{"$error":"#NUM!"},{"$error":"#NUM!"},{"$error":"#NUM!"},{"$error":"#NUM!"},{"$error":"#NUM!"},0,0,null,{"$f":"STANDARDIZE(C25,C41,C42)","v":{"$error":"#NUM!"}},{"$f":"STANDARDIZE(D25,D41,D42)","v":{"$error":"#NUM!"}},0,0,{"$f":"STANDARDIZE(AB25,AB41,AB42)","v":{"$error":"#NUM!"}},{"$f":"STANDARDIZE(AC25,AC41,AC42)","v":{"$error":"#NUM!"}},null,{"$f":"STANDARDIZE(C25,C41,C42)","v":{"$error":"#NUM!"}},{"$f":"STANDARDIZE(D25,D41,D42)","v":{"$error":"#NUM!"}},{"$f":"STANDARDIZE(E25,E41,E42)","v":{"$error":"#NUM!"}},{"$f":"STANDARDIZE(F25,F41,F42)","v":{"$error":"#NUM!"}},{"$f":"STANDARDIZE(G25,G41,G42)","v":{"$error":"#NUM!"}},null,null,{"$error":"#NUM!"},{"$error":"#NUM!"},{"$error":"#NUM!"},{"$error":"#NUM!"},{"$error":"#NUM!"},{"$error":"#NUM!"},{"$error":"#NUM!"},{"$error":"#NUM!"},{"$error":"#NUM!"},{"$error":"#NUM!"},{"$error":"#NUM!"},{"$error":"#NUM!"},{"$error":"#NUM!"},{"$error":"#NUM!"},{"$error":"#NUM!"},{"$error":"#NUM!"},{"$error":"#NUM!"},{"$error":"#NUM!"},{"$error":"#NUM!"},{"$error":"#NUM!"},{"$error":"#NUM!"}]
[23,null,{"$f":"COUNTIF(C50:C154,23)","v":0},0,0,0,0,null,null,0,{"$error":"#NUM!"},null,0,{"$error":"#NUM!"},null,"23 ",null,{"$error":"#NUM!"},{"$error":"#NUM!"},{"$error":"#NUM!"},{"$error":"#NUM!"},{"$error":"#NUM!"},0,0,null,{"$f":"STANDARDIZE(C26,C41,C42)","v":{"$error":"#NUM!"}},{"$f":"STANDARDIZE(D26,D41,D42)","v":{"$error":"#NUM!"}},0,0,{"$f":"STANDARDIZE(AB26,AB41,AB42)","v":{"$error":"#NUM!"}},{"$f":"STANDARDIZE(AC26,AC41,AC42)","v":{"$error":"#NUM!"}},null,{"$f":"STANDARDIZE(C26,C41,C42)","v":{"$error":"#NUM!"}},{"$f":"STANDARDIZE(D26,D41,D42)","v":{"$error":"#NUM!"}},{"$f":"STANDARDIZE(E26,E41,E42)","v":{"$error":"#NUM!"}},{"$f":"STANDARDIZE(F26,F41,F42)","v":{"$error":"#NUM!"}},{"$f":"STANDARDIZE(G26,G41,G42)","v":{"$error":"#NUM!"}},null,null,{"$error":"#NUM!"},{"$error":"#NUM!"},{"$error":"#NUM!"},{"$error":"#NUM!"},{"$error":"#NUM!"},{"$error":"#NUM!"},{"$error":"#NUM!"},{"$error":"#NUM!"},{"$error":"#NUM!"},{"$error":"#NUM!"},{"$error":"#NUM!"},{"$error":"#NUM!"},{"$error":"#NUM!"},{"$error":"#NUM!"},{"$error":"#NUM!"},{"$error":"#NUM!"},{"$error":"#NUM!"},{"$error":"#NUM!"},{"$error":"#NUM!"},{"$error":"#NUM!"},{"$error":"#NUM!"}]
[24,null,{"$f":"COUNTIF(C50:C154,24)","v":0},0,0,0,0,null,null,0,{"$error":"#NUM!"},null,0,{"$error":"#NUM!"},null,"24 ",null,{"$error":"#NUM!"},{"$error":"#NUM!"},{"$error":"#NUM!"},{"$error":"#NUM!"},{"$error":"#NUM!"},0,0,null,{"$f":"STANDARDIZE(C27,C41,C42)","v":{"$error":"#NUM!"}},{"$f":"STANDARDIZE(D27,D41,D42)","v":{"$error":"#NUM!"}},0,0,{"$f":"STANDARDIZE(AB27,AB41,AB42)","v":{"$error":"#NUM!"}},{"$f":"STANDARDIZE(AC27,AC41,AC42)","v":{"$error":"#NUM!"}},null,{"$f":"STANDARDIZE(C27,C41,C42)","v":{"$error":"#NUM!"}},{"$f":"STANDARDIZE(D27,D41,D42)","v":{"$error":"#NUM!"}},{"$f":"STANDARDIZE(E27,E41,E42)","v":{"$error":"#NUM!"}},{"$f":"STANDARDIZE(F27,F41,F42)","v":{"$error":"#NUM!"}},{"$f":"STANDARDIZE(G27,G41,G42)","v":{"$error":"#NUM!"}},null,null,{"$error":"#NUM!"},{"$error":"#NUM!"},{"$error":"#NUM!"},{"$error":"#NUM!"},{"$error":"#NUM!"},{"$error":"#NUM!"},{"$error":"#NUM!"},{"$error":"#NUM!"},{"$error":"#NUM!"},{"$error":"#NUM!"},{"$error":"#NUM!"},{"$error":"#NUM!"},{"$error":"#NUM!"},{"$error":"#NUM!"},{"$error":"#NUM!"},{"$error":"#NUM!"},{"$error":"#NUM!"},{"$error":"#NUM!"},{"$error":"#NUM!"},{"$error":"#NUM!"},{"$error":"#NUM!"}]
[25,null,{"$f":"COUNTIF(C50:C154,25)","v":0},0,0,0,0,null,null,0,{"$error":"#NUM!"},null,0,{"$error":"#NUM!"},null,"25 ",null,{"$error":"#NUM!"},{"$error":"#NUM!"},{"$error":"#NUM!"},{"$error":"#NUM!"},{"$error":"#NUM!"},0,0,null,{"$f":"STANDARDIZE(C28,C41,C42)","v":{"$error":"#NUM!"}},{"$f":"STANDARDIZE(D28,D41,D42)","v":{"$error":"#NUM!"}},0,0,{"$f":"STANDARDIZE(AB28,AB41,AB42)","v":{"$error":"#NUM!"}},{"$f":"STANDARDIZE(AC28,AC41,AC42)","v":{"$error":"#NUM!"}},null,{"$f":"STANDARDIZE(C28,C41,C42)","v":{"$error":"#NUM!"}},{"$f":"STANDARDIZE(D28,D41,D42)","v":{"$error":"#NUM!"}},{"$f":"STANDARDIZE(E28,E41,E42)","v":{"$error":"#NUM!"}},{"$f":"STANDARDIZE(F28,F41,F42)","v":{"$error":"#NUM!"}},{"$f":"STANDARDIZE(G28,G41,G42)","v":{"$error":"#NUM!"}},null,null,{"$error":"#NUM!"},{"$error":"#NUM!"},{"$error":"#NUM!"},{"$error":"#NUM!"},{"$error":"#NUM!"},{"$error":"#NUM!"},{"$error":"#NUM!"},{"$error":"#NUM!"},{"$error":"#NUM!"},{"$error":"#NUM!"},{"$error":"#NUM!"},{"$error":"#NUM!"},{"$error":"#NUM!"},{"$error":"#NUM!"},{"$error":"#NUM!"},{"$error":"#NUM!"},{"$error":"#NUM!"},{"$error":"#NUM!"},{"$error":"#NUM!"},{"$error":"#NUM!"},{"$error":"#NUM!"}]
[26,null,{"$f":"COUNTIF(C50:C154,26)","v":0},0,0,0,0,null,null,0,{"$error":"#NUM!"},null,0,{"$error":"#NUM!"},null,"26 ",null,{"$error":"#NUM!"},{"$error":"#NUM!"},{"$error":"#NUM!"},{"$error":"#NUM!"},{"$error":"#NUM!"},0,0,null,{"$f":"STANDARDIZE(C29,C41,C42)","v":{"$error":"#NUM!"}},{"$f":"STANDARDIZE(D29,D41,D42)","v":{"$error":"#NUM!"}},0,0,{"$f":"STANDARDIZE(AB29,AB41,AB42)","v":{"$error":"#NUM!"}},{"$f":"STANDARDIZE(AC29,AC41,AC42)","v":{"$error":"#NUM!"}},null,{"$f":"STANDARDIZE(C29,C41,C42)","v":{"$error":"#NUM!"}},{"$f":"STANDARDIZE(D29,D41,D42)","v":{"$error":"#NUM!"}},{"$f":"STANDARDIZE(E29,E41,E42)","v":{"$error":"#NUM!"}},{"$f":"STANDARDIZE(F29,F41,F42)","v":{"$error":"#NUM!"}},{"$f":"STANDARDIZE(G29,G41,G42)","v":{"$error":"#NUM!"}},null,null,{"$error":"#NUM!"},{"$error":"#NUM!"},{"$error":"#NUM!"},{"$error":"#NUM!"},{"$error":"#NUM!"},{"$error":"#NUM!"},{"$error":"#NUM!"},{"$error":"#NUM!"},{"$error":"#NUM!"},{"$error":"#NUM!"},{"$error":"#NUM!"},{"$error":"#NUM!"},{"$error":"#NUM!"},{"$error":"#NUM!"},{"$error":"#NUM!"},{"$error":"#NUM!"},{"$error":"#NUM!"},{"$error":"#NUM!"},{"$error":"#NUM!"},{"$error":"#NUM!"},{"$error":"#NUM!"}]
[27,null,{"$f":"COUNTIF(C50:C154,27)","v":0},0,0,0,0,null,null,0,{"$error":"#NUM!"},null,0,{"$error":"#NUM!"},null,"27 ",null,{"$error":"#NUM!"},{"$error":"#NUM!"},{"$error":"#NUM!"},{"$error":"#NUM!"},{"$error":"#NUM!"},0,0,null,{"$f":"STANDARDIZE(C30,C41,C42)","v":{"$error":"#NUM!"}},{"$f":"STANDARDIZE(D30,D41,D42)","v":{"$error":"#NUM!"}},0,0,{"$f":"STANDARDIZE(AB30,AB41,AB42)","v":{"$error":"#NUM!"}},{"$f":"STANDARDIZE(AC30,AC41,AC42)","v":{"$error":"#NUM!"}},null,{"$f":"STANDARDIZE(C30,C41,C42)","v":{"$error":"#NUM!"}},{"$f":"STANDARDIZE(D30,D41,D42)","v":{"$error":"#NUM!"}},{"$f":"STANDARDIZE(E30,E41,E42)","v":{"$error":"#NUM!"}},{"$f":"STANDARDIZE(F30,F41,F42)","v":{"$error":"#NUM!"}},{"$f":"STANDARDIZE(G30,G41,G42)","v":{"$error":"#NUM!"}},null,null,{"$error":"#NUM!"},{"$error":"#NUM!"},{"$error":"#NUM!"},{"$error":"#NUM!"},{"$error":"#NUM!"},{"$error":"#NUM!"},{"$error":"#NUM!"},{"$error":"#NUM!"},{"$error":"#NUM!"},{"$error":"#NUM!"},{"$error":"#NUM!"},{"$error":"#NUM!"},{"$error":"#NUM!"},{"$error":"#NUM!"},{"$error":"#NUM!"},{"$error":"#NUM!"},{"$error":"#NUM!"},{"$error":"#NUM!"},{"$error":"#NUM!"},{"$error":"#NUM!"},{"$error":"#NUM!"}]
[28,null,{"$f":"COUNTIF(C50:C154,28)","v":0},0,0,0,0,null,null,0,{"$error":"#NUM!"},null,0,{"$error":"#NUM!"},null,"28 ",null,{"$error":"#NUM!"},{"$error":"#NUM!"},{"$error":"#NUM!"},{"$error":"#NUM!"},{"$error":"#NUM!"},0,0,null,{"$f":"STANDARDIZE(C31,C41,C42)","v":{"$error":"#NUM!"}},{"$f":"STANDARDIZE(D31,D41,D42)","v":{"$error":"#NUM!"}},0,0,{"$f":"STANDARDIZE(AB31,AB41,AB42)","v":{"$error":"#NUM!"}},{"$f":"STANDARDIZE(AC31,AC41,AC42)","v":{"$error":"#NUM!"}},null,{"$f":"STANDARDIZE(C31,C41,C42)","v":{"$error":"#NUM!"}},{"$f":"STANDARDIZE(D31,D41,D42)","v":{"$error":"#NUM!"}},{"$f":"STANDARDIZE(E31,E41,E42)","v":{"$error":"#NUM!"}},{"$f":"STANDARDIZE(F31,F41,F42)","v":{"$error":"#NUM!"}},{"$f":"STANDARDIZE(G31,G41,G42)","v":{"$error":"#NUM!"}},null,null,{"$error":"#NUM!"},{"$error":"#NUM!"},{"$error":"#NUM!"},{"$error":"#NUM!"},{"$error":"#NUM!"},{"$error":"#NUM!"},{"$error":"#NUM!"},{"$error":"#NUM!"},{"$error":"#NUM!"},{"$error":"#NUM!"},{"$error":"#NUM!"},{"$error":"#NUM!"},{"$error":"#NUM!"},{"$error":"#NUM!"},{"$error":"#NUM!"},{"$error":"#NUM!"},{"$error":"#NUM!"},{"$error":"#NUM!"},{"$error":"#NUM!"},{"$error":"#NUM!"},{"$error":"#NUM!"}]
[29,null,{"$f":"COUNTIF(C50:C154,29)","v":0},0,0,0,0,null,null,0,{"$error":"#NUM!"},null,0,{"$error":"#NUM!"},null,"29 ",null,{"$error":"#NUM!"},{"$error":"#NUM!"},{"$error":"#NUM!"},{"$error":"#NUM!"},{"$error":"#NUM!"},0,0,null,{"$f":"STANDARDIZE(C32,C41,C42)","v":{"$error":"#NUM!"}},{"$f":"STANDARDIZE(D32,D41,D42)","v":{"$error":"#NUM!"}},0,0,{"$f":"STANDARDIZE(AB32,AB41,AB42)","v":{"$error":"#NUM!"}},{"$f":"STANDARDIZE(AC32,AC41,AC42)","v":{"$error":"#NUM!"}},null,{"$f":"STANDARDIZE(C32,C41,C42)","v":{"$error":"#NUM!"}},{"$f":"STANDARDIZE(D32,D41,D42)","v":{"$error":"#NUM!"}},{"$f":"STANDARDIZE(E32,E41,E42)","v":{"$error":"#NUM!"}},{"$f":"STANDARDIZE(F32,F41,F42)","v":{"$error":"#NUM!"}},{"$f":"STANDARDIZE(G32,G41,G42)","v":{"$error":"#NUM!"}},null,null,{"$error":"#NUM!"},{"$error":"#NUM!"},{"$error":"#NUM!"},{"$error":"#NUM!"},{"$error":"#NUM!"},{"$error":"#NUM!"},{"$error":"#NUM!"},{"$error":"#NUM!"},{"$error":"#NUM!"},{"$error":"#NUM!"},{"$error":"#NUM!"},{"$error":"#NUM!"},{"$error":"#NUM!"},{"$error":"#NUM!"},{"$error":"#NUM!"},{"$error":"#NUM!"},{"$error":"#NUM!"},{"$error":"#NUM!"},{"$error":"#NUM!"},{"$error":"#NUM!"},{"$error":"#NUM!"}]
[30,null,{"$f":"COUNTIF(C50:C154,30)","v":0},0,0,0,0,null,null,0,{"$error":"#NUM!"},null,0,{"$error":"#NUM!"},null,"30 ",null,{"$error":"#NUM!"},{"$error":"#NUM!"},{"$error":"#NUM!"},{"$error":"#NUM!"},{"$error":"#NUM!"},0,0,null,{"$f":"STANDARDIZE(C33,C41,C42)","v":{"$error":"#NUM!"}},{"$f":"STANDARDIZE(D33,D41,D42)","v":{"$error":"#NUM!"}},0,0,{"$f":"STANDARDIZE(AB33,AB41,AB42)","v":{"$error":"#NUM!"}},{"$f":"STANDARDIZE(AC33,AC41,AC42)","v":{"$error":"#NUM!"}},null,{"$f":"STANDARDIZE(C33,C41,C42)","v":{"$error":"#NUM!"}},{"$f":"STANDARDIZE(D33,D41,D42)","v":{"$error":"#NUM!"}},{"$f":"STANDARDIZE(E33,E41,E42)","v":{"$error":"#NUM!"}},{"$f":"STANDARDIZE(F33,F41,F42)","v":{"$error":"#NUM!"}},{"$f":"STANDARDIZE(G33,G41,G42)","v":{"$error":"#NUM!"}},null,null,{"$error":"#NUM!"},{"$error":"#NUM!"},{"$error":"#NUM!"},{"$error":"#NUM!"},{"$error":"#NUM!"},{"$error":"#NUM!"},{"$error":"#NUM!"},{"$error":"#NUM!"},{"$error":"#NUM!"},{"$error":"#NUM!"},{"$error":"#NUM!"},{"$error":"#NUM!"},{"$error":"#NUM!"},{"$error":"#NUM!"},{"$error":"#NUM!"},{"$error":"#NUM!"},{"$error":"#NUM!"},{"$error":"#NUM!"},{"$error":"#NUM!"},{"$error":"#NUM!"},{"$error":"#NUM!"}]
[31,null,{"$f":"COUNTIF(C50:C154,31)","v":0},0,0,0,0,null,null,0,{"$error":"#NUM!"},null,0,{"$error":"#NUM!"},null,"31 ",null,{"$error":"#NUM!"},{"$error":"#NUM!"},{"$error":"#NUM!"},{"$error":"#NUM!"},{"$error":"#NUM!"},0,0,null,{"$f":"STANDARDIZE(C34,C41,C42)","v":{"$error":"#NUM!"}},{"$f":"STANDARDIZE(D34,D41,D42)","v":{"$error":"#NUM!"}},0,0,{"$f":"STANDARDIZE(AB34,AB41,AB42)","v":{"$error":"#NUM!"}},{"$f":"STANDARDIZE(AC34,AC41,AC42)","v":{"$error":"#NUM!"}},null,{"$f":"STANDARDIZE(C34,C41,C42)","v":{"$error":"#NUM!"}},{"$f":"STANDARDIZE(D34,D41,D42)","v":{"$error":"#NUM!"}},{"$f":"STANDARDIZE(E34,E41,E42)","v":{"$error":"#NUM!"}},{"$f":"STANDARDIZE(F34,F41,F42)","v":{"$error":"#NUM!"}},{"$f":"STANDARDIZE(G34,G41,G42)","v":{"$error":"#NUM!"}},null,null,{"$error":"#NUM!"},{"$error":"#NUM!"},{"$error":"#NUM!"},{"$error":"#NUM!"},{"$error":"#NUM!"},{"$error":"#NUM!"},{"$error":"#NUM!"},{"$error":"#NUM!"},{"$error":"#NUM!"},{"$error":"#NUM!"},{"$error":"#NUM!"},{"$error":"#NUM!"},{"$error":"#NUM!"},{"$error":"#NUM!"},{"$error":"#NUM!"},{"$error":"#NUM!"},{"$error":"#NUM!"},{"$error":"#NUM!"},{"$error":"#NUM!"},{"$error":"#NUM!"},{"$error":"#NUM!"}]
[32,null,{"$f":"COUNTIF(C50:C154,32)","v":0},0,0,0,0,null,null,0,{"$error":"#NUM!"},null,0,{"$error":"#NUM!"},null,"32 ",null,{"$error":"#NUM!"},{"$error":"#NUM!"},{"$error":"#NUM!"},{"$error":"#NUM!"},{"$error":"#NUM!"},0,0,null,{"$f":"STANDARDIZE(C35,C41,C42)","v":{"$error":"#NUM!"}},{"$f":"STANDARDIZE(D35,D41,D42)","v":{"$error":"#NUM!"}},0,0,{"$f":"STANDARDIZE(AB35,AB41,AB42)","v":{"$error":"#NUM!"}},{"$f":"STANDARDIZE(AC35,AC41,AC42)","v":{"$error":"#NUM!"}},null,{"$f":"STANDARDIZE(C35,C41,C42)","v":{"$error":"#NUM!"}},{"$f":"STANDARDIZE(D35,D41,D42)","v":{"$error":"#NUM!"}},{"$f":"STANDARDIZE(E35,E41,E42)","v":{"$error":"#NUM!"}},{"$f":"STANDARDIZE(F35,F41,F42)","v":{"$error":"#NUM!"}},{"$f":"STANDARDIZE(G35,G41,G42)","v":{"$error":"#NUM!"}},null,null,{"$error":"#NUM!"},{"$error":"#NUM!"},{"$error":"#NUM!"},{"$error":"#NUM!"},{"$error":"#NUM!"},{"$error":"#NUM!"},{"$error":"#NUM!"},{"$error":"#NUM!"},{"$error":"#NUM!"},{"$error":"#NUM!"},{"$error":"#NUM!"},{"$error":"#NUM!"},{"$error":"#NUM!"},{"$error":"#NUM!"},{"$error":"#NUM!"},{"$error":"#NUM!"},{"$error":"#NUM!"},{"$error":"#NUM!"},{"$error":"#NUM!"},{"$error":"#NUM!"},{"$error":"#NUM!"}]
[33,null,{"$f":"COUNTIF(C50:C154,33)","v":0},0,0,0,0,null,null,0,{"$error":"#NUM!"},null,0,{"$error":"#NUM!"},null,"33 ",null,{"$error":"#NUM!"},{"$error":"#NUM!"},{"$error":"#NUM!"},{"$error":"#NUM!"},{"$error":"#NUM!"},0,0,null,{"$f":"STANDARDIZE(C36,C41,C42)","v":{"$error":"#NUM!"}},{"$f":"STANDARDIZE(D36,D41,D42)","v":{"$error":"#NUM!"}},0,0,{"$f":"STANDARDIZE(AB36,AB41,AB42)","v":{"$error":"#NUM!"}},{"$f":"STANDARDIZE(AC36,AC41,AC42)","v":{"$error":"#NUM!"}},null,{"$f":"STANDARDIZE(C36,C41,C42)","v":{"$error":"#NUM!"}},{"$f":"STANDARDIZE(D36,D41,D42)","v":{"$error":"#NUM!"}},{"$f":"STANDARDIZE(E36,E41,E42)","v":{"$error":"#NUM!"}},{"$f":"STANDARDIZE(F36,F41,F42)","v":{"$error":"#NUM!"}},{"$f":"STANDARDIZE(G36,G41,G42)","v":{"$error":"#NUM!"}},null,null,{"$error":"#NUM!"},{"$error":"#NUM!"},{"$error":"#NUM!"},{"$error":"#NUM!"},{"$error":"#NUM!"},{"$error":"#NUM!"},{"$error":"#NUM!"},{"$error":"#NUM!"},{"$error":"#NUM!"},{"$error":"#NUM!"},{"$error":"#NUM!"},{"$error":"#NUM!"},{"$error":"#NUM!"},{"$error":"#NUM!"},{"$error":"#NUM!"},{"$error":"#NUM!"},{"$error":"#NUM!"},{"$error":"#NUM!"},{"$error":"#NUM!"},{"$error":"#NUM!"},{"$error":"#NUM!"}]
[34,null,{"$f":"COUNTIF(C50:C154,34)","v":0},0,0,0,0,null,null,0,{"$error":"#NUM!"},null,0,{"$error":"#NUM!"},null,"34 ",null,{"$error":"#NUM!"},{"$error":"#NUM!"},{"$error":"#NUM!"},{"$error":"#NUM!"},{"$error":"#NUM!"},0,0,null,{"$f":"STANDARDIZE(C37,C41,C42)","v":{"$error":"#NUM!"}},{"$f":"STANDARDIZE(D37,D41,D42)","v":{"$error":"#NUM!"}},0,0,{"$f":"STANDARDIZE(AB37,AB41,AB42)","v":{"$error":"#NUM!"}},{"$f":"STANDARDIZE(AC37,AC41,AC42)","v":{"$error":"#NUM!"}},null,{"$f":"STANDARDIZE(C37,C41,C42)","v":{"$error":"#NUM!"}},{"$f":"STANDARDIZE(D37,D41,D42)","v":{"$error":"#NUM!"}},{"$f":"STANDARDIZE(E37,E41,E42)","v":{"$error":"#NUM!"}},{"$f":"STANDARDIZE(F37,F41,F42)","v":{"$error":"#NUM!"}},{"$f":"STANDARDIZE(G37,G41,G42)","v":{"$error":"#NUM!"}},null,null,{"$error":"#NUM!"},{"$error":"#NUM!"},{"$error":"#NUM!"},{"$error":"#NUM!"},{"$error":"#NUM!"},{"$error":"#NUM!"},{"$error":"#NUM!"},{"$error":"#NUM!"},{"$error":"#NUM!"},{"$error":"#NUM!"},{"$error":"#NUM!"},{"$error":"#NUM!"},{"$error":"#NUM!"},{"$error":"#NUM!"},{"$error":"#NUM!"},{"$error":"#NUM!"},{"$error":"#NUM!"},{"$error":"#NUM!"},{"$error":"#NUM!"},{"$error":"#NUM!"},{"$error":"#NUM!"}]
[35,null,{"$f":"COUNTIF(C50:C154,35)","v":0},0,0,0,0,null,null,0,{"$error":"#NUM!"},null,0,{"$error":"#NUM!"},null,"35 ",null,{"$error":"#NUM!"},{"$error":"#NUM!"},{"$error":"#NUM!"},{"$error":"#NUM!"},{"$error":"#NUM!"},0,0,null,{"$f":"STANDARDIZE(C38,C41,C42)","v":{"$error":"#NUM!"}},{"$f":"STANDARDIZE(D38,D41,D42)","v":{"$error":"#NUM!"}},0,0,{"$f":"STANDARDIZE(AB38,AB41,AB42)","v":{"$error":"#NUM!"}},{"$f":"STANDARDIZE(AC38,AC41,AC42)","v":{"$error":"#NUM!"}},null,{"$f":"STANDARDIZE(C38,C41,C42)","v":{"$error":"#NUM!"}},{"$f":"STANDARDIZE(D38,D41,D42)","v":{"$error":"#NUM!"}},{"$f":"STANDARDIZE(E38,E41,E42)","v":{"$error":"#NUM!"}},{"$f":"STANDARDIZE(F38,F41,F42)","v":{"$error":"#NUM!"}},{"$f":"STANDARDIZE(G38,G41,G42)","v":{"$error":"#NUM!"}},null,null,{"$error":"#NUM!"},{"$error":"#NUM!"},{"$error":"#NUM!"},{"$error":"#NUM!"},{"$error":"#NUM!"},{"$error":"#NUM!"},{"$error":"#NUM!"},{"$error":"#NUM!"},{"$error":"#NUM!"},{"$error":"#NUM!"},{"$error":"#NUM!"},{"$error":"#NUM!"},{"$error":"#NUM!"},{"$error":"#NUM!"},{"$error":"#NUM!"},{"$error":"#NUM!"},{"$error":"#NUM!"},{"$error":"#NUM!"},{"$error":"#NUM!"},{"$error":"#NUM!"},{"$error":"#NUM!"}]
[null,"Recompte puntuació 0",{"$f":"COUNTIF(C50:C154,0)","v":0},0,0,0,0]
[null,"Total nominacions",{"$f":"SUM(C4:C39)","v":0},0,0,0,0,null,null,{"$f":"AVERAGE(J4:J38)","v":0},null,null,{"$f":"AVERAGE(M4:M38)","v":0},null,null,null,null,null,null,null,null,null,{"$f":"AVERAGE(W4:W38)","v":0},{"$f":"AVERAGE(X4:X38)","v":0}]
[null,"Mitjana",{"$f":"AVERAGE(C4:C38)","v":0},0,0,0,0,null,null,{"$f":"STDEV(J4:J38)","v":0},null,null,{"$f":"STDEV(M4:M38)","v":0},null,null,null,null,null,null,null,null,null,{"$f":"STDEV(W4:W38)","v":0},{"$f":"STDEV(X4:X38)","v":0},null,{"$f":"AVERAGE(Z4:Z38)","v":{"$error":"#NUM!"}},{"$error":"#NUM!"},0,0,{"$error":"#NUM!"},{"$error":"#NUM!"},null,{"$f":"AVERAGE(AG4:AG38)","v":{"$error":"#NUM!"}},{"$error":"#NUM!"},{"$error":"#NUM!"},{"$error":"#NUM!"},{"$error":"#NUM!"}]
[null,"Desviació estándar",{"$f":"STDEV(C4:C38)","v":0},0,0,0,0,null,null,null,null,null,null,null,null,null,null,null,null,null,null,null,null,null,null,{"$f":"STDEV(Z4:Z38)","v":{"$error":"#NUM!"}},{"$error":"#NUM!"},0,0,{"$error":"#NUM!"},{"$error":"#NUM!"},null,{"$f":"STDEV(AG4:AG38)","v":{"$error":"#NUM!"}},{"$error":"#NUM!"},{"$error":"#NUM!"},{"$error":"#NUM!"},{"$error":"#NUM!"}]
[]
[]
[]
[]
[null,"3. Entra les respostes dels alumnes: en el full estan en vertical i aquí les has d'entrar en horitzontal"]
[null,null,"Soc +","Soc -","Pro","A","Amics"]
[null,null,1,2,3,4,5]
[{"$f":"(A4)","v":1},{"$f":"T(B4)","v":""}]
[]
[]
[{"$f":"(A5)","v":2},{"$f":"T(B5)","v":""}]
[]
[]
[{"$f":"(A6)","v":3},{"$f":"T(B6)","v":""}]
[]
[]
[{"$f":"(A7)","v":4},{"$f":"T(B7)","v":""}]
[]
[]
[{"$f":"(A8)","v":5},{"$f":"T(B8)","v":""}]
[]
[]
[{"$f":"(A9)","v":6},{"$f":"T(B9)","v":""}]
[]
[]
[{"$f":"(A10)","v":7},{"$f":"T(B10)","v":""}]
[]
[]
[{"$f":"(A11)","v":8},{"$f":"T(B11)","v":""}]
[]
[]
[{"$f":"(A12)","v":9},{"$f":"T(B12)","v":""}]
[]
[]
[{"$f":"(A13)","v":10},{"$f":"T(B13)","v":""}]
[]
[]
[{"$f":"(A14)","v":11},{"$f":"T(B14)","v":""}]
[]
[]
[{"$f":"(A15)","v":12},{"$f":"T(B15)","v":""}]
[]
[]
[{"$f":"(A16)","v":13},{"$f":"T(B16)","v":""}]
[]
[]
[{"$f":"(A17)","v":14},{"$f":"T(B17)","v":""}]
[]
[]
[{"$f":"(A18)","v":15},{"$f":"T(B18)","v":""}]
[]
[]
[{"$f":"(A19)","v":16},{"$f":"T(B19)","v":""}]
[]
[]
[{"$f":"(A20)","v":17},{"$f":"T(B20)","v":""}]
[]
[]
[{"$f":"(A21)","v":18},{"$f":"T(B21)","v":""}]
[]
[]
[{"$f":"(A22)","v":19},{"$f":"T(B22)","v":""}]
[]
[]
[{"$f":"(A23)","v":20},{"$f":"T(B23)","v":""}]
[]
[]
[{"$f":"(A24)","v":21},{"$f":"T(B24)","v":""}]
[]
[]
[{"$f":"(A25)","v":22},{"$f":"T(B25)","v":""}]
[]
[]
[{"$f":"(A26)","v":23},{"$f":"T(B26)","v":""}]
[]
[]
[{"$f":"(A27)","v":24},{"$f":"T(B27)","v":""}]
[]
[]
[{"$f":"(A28)","v":25},{"$f":"T(B28)","v":""}]
[]
[]
[{"$f":"(A29)","v":26},{"$f":"T(B29)","v":""}]
[]
[]
[{"$f":"(A30)","v":27},{"$f":"T(B30)","v":""}]
[]
[]
[{"$f":"(A31)","v":28},{"$f":"T(B31)","v":""}]
[]
[]
[{"$f":"(A32)","v":29},{"$f":"T(B32)","v":""}]
[]
[]
[{"$f":"(A33)","v":30},{"$f":"T(B33)","v":""}]
[]
[]
[{"$f":"(A34)","v":31},{"$f":"T(B34)","v":""}]
[]
[]
[{"$f":"(A35)","v":32},{"$f":"T(B35)","v":""}]
[]
[]
[{"$f":"(A36)","v":33},{"$f":"T(B36)","v":""}]
[]
[]
[{"$f":"(A37)","v":34},{"$f":"T(B37)","v":""}]
[]
[]
[{"$f":"(A38)","v":35},{"$f":"T(B38)","v":""}]
[]
[]
[]
[]
[]
[]
[null,null,{"$f":"CORREL(C4:C38,C4:C38)","v":{"$error":"#DIV/0!"}},{"$f":"CORREL(C4:C38,D4:D38)","v":{"$error":"#DIV/0!"}},{"$f":"CORREL(C4:C38,E4:E38)","v":{"$error":"#DIV/0!"}},{"$f":"CORREL(C4:C38,F4:F38)","v":{"$error":"#DIV/0!"}},{"$f":"CORREL(C4:C38,G4:G38)","v":{"$error":"#DIV/0!"}}]
[null,null,null,{"$f":"CORREL(D4:D38,D4:D38)","v":{"$error":"#DIV/0!"}},{"$f":"CORREL(D4:D38,E4:E38)","v":{"$error":"#DIV/0!"}},{"$f":"CORREL(D4:D38,F4:F38)","v":{"$error":"#DIV/0!"}},{"$f":"CORREL(D4:D38,G4:G38)","v":{"$error":"#DIV/0!"}}]
[null,null,null,null,{"$f":"CORREL(E4:E38,E4:E38)","v":{"$error":"#DIV/0!"}},{"$f":"CORREL(E4:E38,F4:F38)","v":{"$error":"#DIV/0!"}},{"$f":"CORREL(E4:E38,G4:G38)","v":{"$error":"#DIV/0!"}}]
[null,null,null,null,null,{"$f":"CORREL(F4:F38,F4:F38)","v":{"$error":"#DIV/0!"}},{"$f":"CORREL(F4:F38,G4:G38)","v":{"$error":"#DIV/0!"}}]
[null,null,null,null,null,null,{"$f":"CORREL(G4:G38,G4:G38)","v":{"$error":"#DIV/0!"}}]

{"sheet":"IMPRIMIR RESULTATS","index":1,"n_rows":41,"n_cols":13,"rows_kept":41,"cut":false,"hidden":false,"merged":[[1,1,1,5],[1,6,1,12],[2,1,2,2],[2,3,2,4],[2,6,2,12]]}
[]
[null,{"$f":"'Entrar Dades'!B1","v":"Centre i grup: "},null,null,null,null,{"$f":"'Entrar Dades'!B2","v":"Data: "}]
[null,{"$f":"'Entrar Dades'!J2","v":"Agressivitat"},null,{"$f":"'Entrar Dades'!M2","v":"Prosocial"},null,{"$f":"'Entrar Dades'!P2","v":"Alumnes"},{"$f":"'Entrar Dades'!R2","v":"Estatus sociomètric"}]
[null,{"$f":"'Entrar Dades'!J3","v":"Agressivitat Física"},{"$f":"'Entrar Dades'!K3","v":"Agressivitat Física"},{"$f":"'Entrar Dades'!M3","v":"Prosocialitat"},{"$f":"'Entrar Dades'!N3","v":"Prosocialitat"},null,"Popular","Rebutjat","Ignorat","Controvertit","Normatiu","Tries positives","Tries negatives"]
[null,{"$f":"'Entrar Dades'!J4","v":0},{"$f":"'Entrar Dades'!K4","v":{"$error":"#NUM!"}},{"$f":"'Entrar Dades'!M4","v":0},{"$f":"'Entrar Dades'!N4","v":{"$error":"#NUM!"}},{"$f":"'Entrar Dades'!P4","v":"1 "},{"$f":"'Entrar Dades'!R4","v":{"$error":"#NUM!"}},{"$f":"'Entrar Dades'!S4","v":{"$error":"#NUM!"}},{"$f":"'Entrar Dades'!T4","v":{"$error":"#NUM!"}},{"$f":"'Entrar Dades'!U4","v":{"$error":"#NUM!"}},{"$f":"'Entrar Dades'!V4","v":{"$error":"#NUM!"}},{"$f":"'Entrar Dades'!W4","v":0},{"$f":"'Entrar Dades'!X4","v":0}]
[null,{"$f":"'Entrar Dades'!J5","v":0},{"$f":"'Entrar Dades'!K5","v":{"$error":"#NUM!"}},{"$f":"'Entrar Dades'!M5","v":0},{"$f":"'Entrar Dades'!N5","v":{"$error":"#NUM!"}},{"$f":"'Entrar Dades'!P5","v":"2 "},{"$f":"'Entrar Dades'!R5","v":{"$error":"#NUM!"}},{"$f":"'Entrar Dades'!S5","v":{"$error":"#NUM!"}},{"$f":"'Entrar Dades'!T5","v":{"$error":"#NUM!"}},{"$f":"'Entrar Dades'!U5","v":{"$error":"#NUM!"}},{"$f":"'Entrar Dades'!V5","v":{"$error":"#NUM!"}},{"$f":"'Entrar Dades'!W5","v":0},{"$f":"'Entrar Dades'!X5","v":0}]
[null,{"$f":"'Entrar Dades'!J6","v":0},{"$f":"'Entrar Dades'!K6","v":{"$error":"#NUM!"}},{"$f":"'Entrar Dades'!M6","v":0},{"$f":"'Entrar Dades'!N6","v":{"$error":"#NUM!"}},{"$f":"'Entrar Dades'!P6","v":"3 "},{"$f":"'Entrar Dades'!R6","v":{"$error":"#NUM!"}},{"$f":"'Entrar Dades'!S6","v":{"$error":"#NUM!"}},{"$f":"'Entrar Dades'!T6","v":{"$error":"#NUM!"}},{"$f":"'Entrar Dades'!U6","v":{"$error":"#NUM!"}},{"$f":"'Entrar Dades'!V6","v":{"$error":"#NUM!"}},{"$f":"'Entrar Dades'!W6","v":0},{"$f":"'Entrar Dades'!X6","v":0}]
[null,{"$f":"'Entrar Dades'!J7","v":0},{"$f":"'Entrar Dades'!K7","v":{"$error":"#NUM!"}},{"$f":"'Entrar Dades'!M7","v":0},{"$f":"'Entrar Dades'!N7","v":{"$error":"#NUM!"}},{"$f":"'Entrar Dades'!P7","v":"4 "},{"$f":"'Entrar Dades'!R7","v":{"$error":"#NUM!"}},{"$f":"'Entrar Dades'!S7","v":{"$error":"#NUM!"}},{"$f":"'Entrar Dades'!T7","v":{"$error":"#NUM!"}},{"$f":"'Entrar Dades'!U7","v":{"$error":"#NUM!"}},{"$f":"'Entrar Dades'!V7","v":{"$error":"#NUM!"}},{"$f":"'Entrar Dades'!W7","v":0},{"$f":"'Entrar Dades'!X7","v":0}]
[null,{"$f":"'Entrar Dades'!J8","v":0},{"$f":"'Entrar Dades'!K8","v":{"$error":"#NUM!"}},{"$f":"'Entrar Dades'!M8","v":0},{"$f":"'Entrar Dades'!N8","v":{"$error":"#NUM!"}},{"$f":"'Entrar Dades'!P8","v":"5 "},{"$f":"'Entrar Dades'!R8","v":{"$error":"#NUM!"}},{"$f":"'Entrar Dades'!S8","v":{"$error":"#NUM!"}},{"$f":"'Entrar Dades'!T8","v":{"$error":"#NUM!"}},{"$f":"'Entrar Dades'!U8","v":{"$error":"#NUM!"}},{"$f":"'Entrar Dades'!V8","v":{"$error":"#NUM!"}},{"$f":"'Entrar Dades'!W8","v":0},{"$f":"'Entrar Dades'!X8","v":0}]
[null,{"$f":"'Entrar Dades'!J9","v":0},{"$f":"'Entrar Dades'!K9","v":{"$error":"#NUM!"}},{"$f":"'Entrar Dades'!M9","v":0},{"$f":"'Entrar Dades'!N9","v":{"$error":"#NUM!"}},{"$f":"'Entrar Dades'!P9","v":"6 "},{"$f":"'Entrar Dades'!R9","v":{"$error":"#NUM!"}},{"$f":"'Entrar Dades'!S9","v":{"$error":"#NUM!"}},{"$f":"'Entrar Dades'!T9","v":{"$error":"#NUM!"}},{"$f":"'Entrar Dades'!U9","v":{"$error":"#NUM!"}},{"$f":"'Entrar Dades'!V9","v":{"$error":"#NUM!"}},{"$f":"'Entrar Dades'!W9","v":0},{"$f":"'Entrar Dades'!X9","v":0}]
[null,{"$f":"'Entrar Dades'!J10","v":0},{"$f":"'Entrar Dades'!K10","v":{"$error":"#NUM!"}},{"$f":"'Entrar Dades'!M10","v":0},{"$f":"'Entrar Dades'!N10","v":{"$error":"#NUM!"}},{"$f":"'Entrar Dades'!P10","v":"7 "},{"$f":"'Entrar Dades'!R10","v":{"$error":"#NUM!"}},{"$f":"'Entrar Dades'!S10","v":{"$error":"#NUM!"}},{"$f":"'Entrar Dades'!T10","v":{"$error":"#NUM!"}},{"$f":"'Entrar Dades'!U10","v":{"$error":"#NUM!"}},{"$f":"'Entrar Dades'!V10","v":{"$error":"#NUM!"}},{"$f":"'Entrar Dades'!W10","v":0},{"$f":"'Entrar Dades'!X10","v":0}]
[null,{"$f":"'Entrar Dades'!J11","v":0},{"$f":"'Entrar Dades'!K11","v":{"$error":"#NUM!"}},{"$f":"'Entrar Dades'!M11","v":0},{"$f":"'Entrar Dades'!N11","v":{"$error":"#NUM!"}},{"$f":"'Entrar Dades'!P11","v":"8 "},{"$f":"'Entrar Dades'!R11","v":{"$error":"#NUM!"}},{"$f":"'Entrar Dades'!S11","v":{"$error":"#NUM!"}},{"$f":"'Entrar Dades'!T11","v":{"$error":"#NUM!"}},{"$f":"'Entrar Dades'!U11","v":{"$error":"#NUM!"}},{"$f":"'Entrar Dades'!V11","v":{"$error":"#NUM!"}},{"$f":"'Entrar Dades'!W11","v":0},{"$f":"'Entrar Dades'!X11","v":0}]
[null,{"$f":"'Entrar Dades'!J12","v":0},{"$f":"'Entrar Dades'!K12","v":{"$error":"#NUM!"}},{"$f":"'Entrar Dades'!M12","v":0},{"$f":"'Entrar Dades'!N12","v":{"$error":"#NUM!"}},{"$f":"'Entrar Dades'!P12","v":"9 "},{"$f":"'Entrar Dades'!R12","v":{"$error":"#NUM!"}},{"$f":"'Entrar Dades'!S12","v":{"$error":"#NUM!"}},{"$f":"'Entrar Dades'!T12","v":{"$error":"#NUM!"}},{"$f":"'Entrar Dades'!U12","v":{"$error":"#NUM!"}},{"$f":"'Entrar Dades'!V12","v":{"$error":"#NUM!"}},{"$f":"'Entrar Dades'!W12","v":0},{"$f":"'Entrar Dades'!X12","v":0}]
[null,{"$f":"'Entrar Dades'!J13","v":0},{"$f":"'Entrar Dades'!K13","v":{"$error":"#NUM!"}},{"$f":"'Entrar Dades'!M13","v":0},{"$f":"'Entrar Dades'!N13","v":{"$error":"#NUM!"}},{"$f":"'Entrar Dades'!P13","v":"10 "},{"$f":"'Entrar Dades'!R13","v":{"$error":"#NUM!"}},{"$f":"'Entrar Dades'!S13","v":{"$error":"#NUM!"}},{"$f":"'Entrar Dades'!T13","v":{"$error":"#NUM!"}},{"$f":"'Entrar Dades'!U13","v":{"$error":"#NUM!"}},{"$f":"'Entrar Dades'!V13","v":{"$error":"#NUM!"}},{"$f":"'Entrar Dades'!W13","v":0},{"$f":"'Entrar Dades'!X13","v":0}]
[null,{"$f":"'Entrar Dades'!J14","v":0},{"$f":"'Entrar Dades'!K14","v":{"$error":"#NUM!"}},{"$f":"'Entrar Dades'!M14","v":0},{"$f":"'Entrar Dades'!N14","v":{"$error":"#NUM!"}},{"$f":"'Entrar Dades'!P14","v":"11 "},{"$f":"'Entrar Dades'!R14","v":{"$error":"#NUM!"}},{"$f":"'Entrar Dades'!S14","v":{"$error":"#NUM!"}},{"$f":"'Entrar Dades'!T14","v":{"$error":"#NUM!"}},{"$f":"'Entrar Dades'!U14","v":{"$error":"#NUM!"}},{"$f":"'Entrar Dades'!V14","v":{"$error":"#NUM!"}},{"$f":"'Entrar Dades'!W14","v":0},{"$f":"'Entrar Dades'!X14","v":0}]
[null,{"$f":"'Entrar Dades'!J15","v":0},{"$f":"'Entrar Dades'!K15","v":{"$error":"#NUM!"}},{"$f":"'Entrar Dades'!M15","v":0},{"$f":"'Entrar Dades'!N15","v":{"$error":"#NUM!"}},{"$f":"'Entrar Dades'!P15","v":"12 "},{"$f":"'Entrar Dades'!R15","v":{"$error":"#NUM!"}},{"$f":"'Entrar Dades'!S15","v":{"$error":"#NUM!"}},{"$f":"'Entrar Dades'!T15","v":{"$error":"#NUM!"}},{"$f":"'Entrar Dades'!U15","v":{"$error":"#NUM!"}},{"$f":"'Entrar Dades'!V15","v":{"$error":"#NUM!"}},{"$f":"'Entrar Dades'!W15","v":0},{"$f":"'Entrar Dades'!X15","v":0}]
[null,{"$f":"'Entrar Dades'!J16","v":0},{"$f":"'Entrar Dades'!K16","v":{"$error":"#NUM!"}},{"$f":"'Entrar Dades'!M16","v":0},{"$f":"'Entrar Dades'!N16","v":{"$error":"#NUM!"}},{"$f":"'Entrar Dades'!P16","v":"13 "},{"$f":"'Entrar Dades'!R16","v":{"$error":"#NUM!"}},{"$f":"'Entrar Dades'!S16","v":{"$error":"#NUM!"}},{"$f":"'Entrar Dades'!T16","v":{"$error":"#NUM!"}},{"$f":"'Entrar Dades'!U16","v":{"$error":"#NUM!"}},{"$f":"'Entrar Dades'!V16","v":{"$error":"#NUM!"}},{"$f":"'Entrar Dades'!W16","v":0},{"$f":"'Entrar Dades'!X16","v":0}]
[null,{"$f":"'Entrar Dades'!J17","v":0},{"$f":"'Entrar Dades'!K17","v":{"$error":"#NUM!"}},{"$f":"'Entrar Dades'!M17","v":0},{"$f":"'Entrar Dades'!N17","v":{"$error":"#NUM!"}},{"$f":"'Entrar Dades'!P17","v":"14 "},{"$f":"'Entrar Dades'!R17","v":{"$error":"#NUM!"}},{"$f":"'Entrar Dades'!S17","v":{"$error":"#NUM!"}},{"$f":"'Entrar Dades'!T17","v":{"$error":"#NUM!"}},{"$f":"'Entrar Dades'!U17","v":{"$error":"#NUM!"}},{"$f":"'Entrar Dades'!V17","v":{"$error":"#NUM!"}},{"$f":"'Entrar Dades'!W17","v":0},{"$f":"'Entrar Dades'!X17","v":0}]
[null,{"$f":"'Entrar Dades'!J18","v":0},{"$f":"'Entrar Dades'!K18","v":{"$error":"#NUM!"}},{"$f":"'Entrar Dades'!M18","v":0},{"$f":"'Entrar Dades'!N18","v":{"$error":"#NUM!"}},{"$f":"'Entrar Dades'!P18","v":"15 "},{"$f":"'Entrar Dades'!R18","v":{"$error":"#NUM!"}},{"$f":"'Entrar Dades'!S18","v":{"$error":"#NUM!"}},{"$f":"'Entrar Dades'!T18","v":{"$error":"#NUM!"}},{"$f":"'Entrar Dades'!U18","v":{"$error":"#NUM!"}},{"$f":"'Entrar Dades'!V18","v":{"$error":"#NUM!"}},{"$f":"'Entrar Dades'!W18","v":0},{"$f":"'Entrar Dades'!X18","v":0}]
[null,{"$f":"'Entrar Dades'!J19","v":0},{"$f":"'Entrar Dades'!K19","v":{"$error":"#NUM!"}},{"$f":"'Entrar Dades'!M19","v":0},{"$f":"'Entrar Dades'!N19","v":{"$error":"#NUM!"}},{"$f":"'Entrar Dades'!P19","v":"16 "},{"$f":"'Entrar Dades'!R19","v":{"$error":"#NUM!"}},{"$f":"'Entrar Dades'!S19","v":{"$error":"#NUM!"}},{"$f":"'Entrar Dades'!T19","v":{"$error":"#NUM!"}},{"$f":"'Entrar Dades'!U19","v":{"$error":"#NUM!"}},{"$f":"'Entrar Dades'!V19","v":{"$error":"#NUM!"}},{"$f":"'Entrar Dades'!W19","v":0},{"$f":"'Entrar Dades'!X19","v":0}]
[null,{"$f":"'Entrar Dades'!J20","v":0},{"$f":"'Entrar Dades'!K20","v":{"$error":"#NUM!"}},{"$f":"'Entrar Dades'!M20","v":0},{"$f":"'Entrar Dades'!N20","v":{"$error":"#NUM!"}},{"$f":"'Entrar Dades'!P20","v":"17 "},{"$f":"'Entrar Dades'!R20","v":{"$error":"#NUM!"}},{"$f":"'Entrar Dades'!S20","v":{"$error":"#NUM!"}},{"$f":"'Entrar Dades'!T20","v":{"$error":"#NUM!"}},{"$f":"'Entrar Dades'!U20","v":{"$error":"#NUM!"}},{"$f":"'Entrar Dades'!V20","v":{"$error":"#NUM!"}},{"$f":"'Entrar Dades'!W20","v":0},{"$f":"'Entrar Dades'!X20","v":0}]
[null,{"$f":"'Entrar Dades'!J21","v":0},{"$f":"'Entrar Dades'!K21","v":{"$error":"#NUM!"}},{"$f":"'Entrar Dades'!M21","v":0},{"$f":"'Entrar Dades'!N21","v":{"$error":"#NUM!"}},{"$f":"'Entrar Dades'!P21","v":"18 "},{"$f":"'Entrar Dades'!R21","v":{"$error":"#NUM!"}},{"$f":"'Entrar Dades'!S21","v":{"$error":"#NUM!"}},{"$f":"'Entrar Dades'!T21","v":{"$error":"#NUM!"}},{"$f":"'Entrar Dades'!U21","v":{"$error":"#NUM!"}},{"$f":"'Entrar Dades'!V21","v":{"$error":"#NUM!"}},{"$f":"'Entrar Dades'!W21","v":0},{"$f":"'Entrar Dades'!X21","v":0}]
[null,{"$f":"'Entrar Dades'!J22","v":0},{"$f":"'Entrar Dades'!K22","v":{"$error":"#NUM!"}},{"$f":"'Entrar Dades'!M22","v":0},{"$f":"'Entrar Dades'!N22","v":{"$error":"#NUM!"}},{"$f":"'Entrar Dades'!P22","v":"19 "},{"$f":"'Entrar Dades'!R22","v":{"$error":"#NUM!"}},{"$f":"'Entrar Dades'!S22","v":{"$error":"#NUM!"}},{"$f":"'Entrar Dades'!T22","v":{"$error":"#NUM!"}},{"$f":"'Entrar Dades'!U22","v":{"$error":"#NUM!"}},{"$f":"'Entrar Dades'!V22","v":{"$error":"#NUM!"}},{"$f":"'Entrar Dades'!W22","v":0},{"$f":"'Entrar Dades'!X22","v":0}]
[null,{"$f":"'Entrar Dades'!J23","v":0},{"$f":"'Entrar Dades'!K23","v":{"$error":"#NUM!"}},{"$f":"'Entrar Dades'!M23","v":0},{"$f":"'Entrar Dades'!N23","v":{"$error":"#NUM!"}},{"$f":"'Entrar Dades'!P23","v":"20 "},{"$f":"'Entrar Dades'!R23","v":{"$error":"#NUM!"}},{"$f":"'Entrar Dades'!S23","v":{"$error":"#NUM!"}},{"$f":"'Entrar Dades'!T23","v":{"$error":"#NUM!"}},{"$f":"'Entrar Dades'!U23","v":{"$error":"#NUM!"}},{"$f":"'Entrar Dades'!V23","v":{"$error":"#NUM!"}},{"$f":"'Entrar Dades'!W23","v":0},{"$f":"'Entrar Dades'!X23","v":0}]
[null,{"$f":"'Entrar Dades'!J24","v":0},{"$f":"'Entrar Dades'!K24","v":{"$error":"#NUM!"}},{"$f":"'Entrar Dades'!M24","v":0},{"$f":"'Entrar Dades'!N24","v":{"$error":"#NUM!"}},{"$f":"'Entrar Dades'!P24","v":"21 "},{"$f":"'Entrar Dades'!R24","v":{"$error":"#NUM!"}},{"$f":"'Entrar Dades'!S24","v":{"$error":"#NUM!"}},{"$f":"'Entrar Dades'!T24","v":{"$error":"#NUM!"}},{"$f":"'Entrar Dades'!U24","v":{"$error":"#NUM!"}},{"$f":"'Entrar Dades'!V24","v":{"$error":"#NUM!"}},{"$f":"'Entrar Dades'!W24","v":0},{"$f":"'Entrar Dades'!X24","v":0}]
[null,{"$f":"'Entrar Dades'!J25","v":0},{"$f":"'Entrar Dades'!K25","v":{"$error":"#NUM!"}},{"$f":"'Entrar Dades'!M25","v":0},{"$f":"'Entrar Dades'!N25","v":{"$error":"#NUM!"}},{"$f":"'Entrar Dades'!P25","v":"22 "},{"$f":"'Entrar Dades'!R25","v":{"$error":"#NUM!"}},{"$f":"'Entrar Dades'!S25","v":{"$error":"#NUM!"}},{"$f":"'Entrar Dades'!T25","v":{"$error":"#NUM!"}},{"$f":"'Entrar Dades'!U25","v":{"$error":"#NUM!"}},{"$f":"'Entrar Dades'!V25","v":{"$error":"#NUM!"}},{"$f":"'Entrar Dades'!W25","v":0},{"$f":"'Entrar Dades'!X25","v":0}]
[null,{"$f":"'Entrar Dades'!J26","v":0},{"$f":"'Entrar Dades'!K26","v":{"$error":"#NUM!"}},{"$f":"'Entrar Dades'!M26","v":0},{"$f":"'Entrar Dades'!N26","v":{"$error":"#NUM!"}},{"$f":"'Entrar Dades'!P26","v":"23 "},{"$f":"'Entrar Dades'!R26","v":{"$error":"#NUM!"}},{"$f":"'Entrar Dades'!S26","v":{"$error":"#NUM!"}},{"$f":"'Entrar Dades'!T26","v":{"$error":"#NUM!"}},{"$f":"'Entrar Dades'!U26","v":{"$error":"#NUM!"}},{"$f":"'Entrar Dades'!V26","v":{"$error":"#NUM!"}},{"$f":"'Entrar Dades'!W26","v":0},{"$f":"'Entrar Dades'!X26","v":0}]
[null,{"$f":"'Entrar Dades'!J27","v":0},{"$f":"'Entrar Dades'!K27","v":{"$error":"#NUM!"}},{"$f":"'Entrar Dades'!M27","v":0},{"$f":"'Entrar Dades'!N27","v":{"$error":"#NUM!"}},{"$f":"'Entrar Dades'!P27","v":"24 "},{"$f":"'Entrar Dades'!R27","v":{"$error":"#NUM!"}},{"$f":"'Entrar Dades'!S27","v":{"$error":"#NUM!"}},{"$f":"'Entrar Dades'!T27","v":{"$error":"#NUM!"}},{"$f":"'Entrar Dades'!U27","v":{"$error":"#NUM!"}},{"$f":"'Entrar Dades'!V27","v":{"$error":"#NUM!"}},{"$f":"'Entrar Dades'!W27","v":0},{"$f":"'Entrar Dades'!X27","v":0}]
[null,{"$f":"'Entrar Dades'!J28","v":0},{"$f":"'Entrar Dades'!K28","v":{"$error":"#NUM!"}},{"$f":"'Entrar Dades'!M28","v":0},{"$f":"'Entrar Dades'!N28","v":{"$error":"#NUM!"}},{"$f":"'Entrar Dades'!P28","v":"25 "},{"$f":"'Entrar Dades'!R28","v":{"$error":"#NUM!"}},{"$f":"'Entrar Dades'!S28","v":{"$error":"#NUM!"}},{"$f":"'Entrar Dades'!T28","v":{"$error":"#NUM!"}},{"$f":"'Entrar Dades'!U28","v":{"$error":"#NUM!"}},{"$f":"'Entrar Dades'!V28","v":{"$error":"#NUM!"}},{"$f":"'Entrar Dades'!W28","v":0},{"$f":"'Entrar Dades'!X28","v":0}]
[null,{"$f":"'Entrar Dades'!J29","v":0},{"$f":"'Entrar Dades'!K29","v":{"$error":"#NUM!"}},{"$f":"'Entrar Dades'!M29","v":0},{"$f":"'Entrar Dades'!N29","v":{"$error":"#NUM!"}},{"$f":"'Entrar Dades'!P29","v":"26 "},{"$f":"'Entrar Dades'!R29","v":{"$error":"#NUM!"}},{"$f":"'Entrar Dades'!S29","v":{"$error":"#NUM!"}},{"$f":"'Entrar Dades'!T29","v":{"$error":"#NUM!"}},{"$f":"'Entrar Dades'!U29","v":{"$error":"#NUM!"}},{"$f":"'Entrar Dades'!V29","v":{"$error":"#NUM!"}},{"$f":"'Entrar Dades'!W29","v":0},{"$f":"'Entrar Dades'!X29","v":0}]
[null,{"$f":"'Entrar Dades'!J30","v":0},{"$f":"'Entrar Dades'!K30","v":{"$error":"#NUM!"}},{"$f":"'Entrar Dades'!M30","v":0},{"$f":"'Entrar Dades'!N30","v":{"$error":"#NUM!"}},{"$f":"'Entrar Dades'!P30","v":"27 "},{"$f":"'Entrar Dades'!R30","v":{"$error":"#NUM!"}},{"$f":"'Entrar Dades'!S30","v":{"$error":"#NUM!"}},{"$f":"'Entrar Dades'!T30","v":{"$error":"#NUM!"}},{"$f":"'Entrar Dades'!U30","v":{"$error":"#NUM!"}},{"$f":"'Entrar Dades'!V30","v":{"$error":"#NUM!"}},{"$f":"'Entrar Dades'!W30","v":0},{"$f":"'Entrar Dades'!X30","v":0}]
[null,{"$f":"'Entrar Dades'!J31","v":0},{"$f":"'Entrar Dades'!K31","v":{"$error":"#NUM!"}},{"$f":"'Entrar Dades'!M31","v":0},{"$f":"'Entrar Dades'!N31","v":{"$error":"#NUM!"}},{"$f":"'Entrar Dades'!P31","v":"28 "},{"$f":"'Entrar Dades'!R31","v":{"$error":"#NUM!"}},{"$f":"'Entrar Dades'!S31","v":{"$error":"#NUM!"}},{"$f":"'Entrar Dades'!T31","v":{"$error":"#NUM!"}},{"$f":"'Entrar Dades'!U31","v":{"$error":"#NUM!"}},{"$f":"'Entrar Dades'!V31","v":{"$error":"#NUM!"}},{"$f":"'Entrar Dades'!W31","v":0},{"$f":"'Entrar Dades'!X31","v":0}]
[null,{"$f":"'Entrar Dades'!J32","v":0},{"$f":"'Entrar Dades'!K32","v":{"$error":"#NUM!"}},{"$f":"'Entrar Dades'!M32","v":0},{"$f":"'Entrar Dades'!N32","v":{"$error":"#NUM!"}},{"$f":"'Entrar Dades'!P32","v":"29 "},{"$f":"'Entrar Dades'!R32","v":{"$error":"#NUM!"}},{"$f":"'Entrar Dades'!S32","v":{"$error":"#NUM!"}},{"$f":"'Entrar Dades'!T32","v":{"$error":"#NUM!"}},{"$f":"'Entrar Dades'!U32","v":{"$error":"#NUM!"}},{"$f":"'Entrar Dades'!V32","v":{"$error":"#NUM!"}},{"$f":"'Entrar Dades'!W32","v":0},{"$f":"'Entrar Dades'!X32","v":0}]
[null,{"$f":"'Entrar Dades'!J33","v":0},{"$f":"'Entrar Dades'!K33","v":{"$error":"#NUM!"}},{"$f":"'Entrar Dades'!M33","v":0},{"$f":"'Entrar Dades'!N33","v":{"$error":"#NUM!"}},{"$f":"'Entrar Dades'!P33","v":"30 "},{"$f":"'Entrar Dades'!R33","v":{"$error":"#NUM!"}},{"$f":"'Entrar Dades'!S33","v":{"$error":"#NUM!"}},{"$f":"'Entrar Dades'!T33","v":{"$error":"#NUM!"}},{"$f":"'Entrar Dades'!U33","v":{"$error":"#NUM!"}},{"$f":"'Entrar Dades'!V33","v":{"$error":"#NUM!"}},{"$f":"'Entrar Dades'!W33","v":0},{"$f":"'Entrar Dades'!X33","v":0}]
[null,{"$f":"'Entrar Dades'!J34","v":0},{"$f":"'Entrar Dades'!K34","v":{"$error":"#NUM!"}},{"$f":"'Entrar Dades'!M34","v":0},{"$f":"'Entrar Dades'!N34","v":{"$error":"#NUM!"}},{"$f":"'Entrar Dades'!P34","v":"31 "},{"$f":"'Entrar Dades'!R34","v":{"$error":"#NUM!"}},{"$f":"'Entrar Dades'!S34","v":{"$error":"#NUM!"}},{"$f":"'Entrar Dades'!T34","v":{"$error":"#NUM!"}},{"$f":"'Entrar Dades'!U34","v":{"$error":"#NUM!"}},{"$f":"'Entrar Dades'!V34","v":{"$error":"#NUM!"}},{"$f":"'Entrar Dades'!W34","v":0},{"$f":"'Entrar Dades'!X34","v":0}]
[null,{"$f":"'Entrar Dades'!J35","v":0},{"$f":"'Entrar Dades'!K35","v":{"$error":"#NUM!"}},{"$f":"'Entrar Dades'!M35","v":0},{"$f":"'Entrar Dades'!N35","v":{"$error":"#NUM!"}},{"$f":"'Entrar Dades'!P35","v":"32 "},{"$f":"'Entrar Dades'!R35","v":{"$error":"#NUM!"}},{"$f":"'Entrar Dades'!S35","v":{"$error":"#NUM!"}},{"$f":"'Entrar Dades'!T35","v":{"$error":"#NUM!"}},{"$f":"'Entrar Dades'!U35","v":{"$error":"#NUM!"}},{"$f":"'Entrar Dades'!V35","v":{"$error":"#NUM!"}},{"$f":"'Entrar Dades'!W35","v":0},{"$f":"'Entrar Dades'!X35","v":0}]
[null,{"$f":"'Entrar Dades'!J36","v":0},{"$f":"'Entrar Dades'!K36","v":{"$error":"#NUM!"}},{"$f":"'Entrar Dades'!M36","v":0},{"$f":"'Entrar Dades'!N36","v":{"$error":"#NUM!"}},{"$f":"'Entrar Dades'!P36","v":"33 "},{"$f":"'Entrar Dades'!R36","v":{"$error":"#NUM!"}},{"$f":"'Entrar Dades'!S36","v":{"$error":"#NUM!"}},{"$f":"'Entrar Dades'!T36","v":{"$error":"#NUM!"}},{"$f":"'Entrar Dades'!U36","v":{"$error":"#NUM!"}},{"$f":"'Entrar Dades'!V36","v":{"$error":"#NUM!"}},{"$f":"'Entrar Dades'!W36","v":0},{"$f":"'Entrar Dades'!X36","v":0}]
[null,{"$f":"'Entrar Dades'!J37","v":0},{"$f":"'Entrar Dades'!K37","v":{"$error":"#NUM!"}},{"$f":"'Entrar Dades'!M37","v":0},{"$f":"'Entrar Dades'!N37","v":{"$error":"#NUM!"}},{"$f":"'Entrar Dades'!P37","v":"34 "},{"$f":"'Entrar Dades'!R37","v":{"$error":"#NUM!"}},{"$f":"'Entrar Dades'!S37","v":{"$error":"#NUM!"}},{"$f":"'Entrar Dades'!T37","v":{"$error":"#NUM!"}},{"$f":"'Entrar Dades'!U37","v":{"$error":"#NUM!"}},{"$f":"'Entrar Dades'!V37","v":{"$error":"#NUM!"}},{"$f":"'Entrar Dades'!W37","v":0},{"$f":"'Entrar Dades'!X37","v":0}]
[null,{"$f":"'Entrar Dades'!J38","v":0},{"$f":"'Entrar Dades'!K38","v":{"$error":"#NUM!"}},{"$f":"'Entrar Dades'!M38","v":0},{"$f":"'Entrar Dades'!N38","v":{"$error":"#NUM!"}},{"$f":"'Entrar Dades'!P38","v":"35 "},{"$f":"'Entrar Dades'!R38","v":{"$error":"#NUM!"}},{"$f":"'Entrar Dades'!S38","v":{"$error":"#NUM!"}},{"$f":"'Entrar Dades'!T38","v":{"$error":"#NUM!"}},{"$f":"'Entrar Dades'!U38","v":{"$error":"#NUM!"}},{"$f":"'Entrar Dades'!V38","v":{"$error":"#NUM!"}},{"$f":"'Entrar Dades'!W38","v":0},{"$f":"'Entrar Dades'!X38","v":0}]
[null,{"$f":"'Entrar Dades'!J40","v":0},null,{"$f":"'Entrar Dades'!M40","v":0},null,"mitjana",null,null,null,null,null,{"$f":"'Entrar Dades'!W40","v":0},{"$f":"'Entrar Dades'!X40","v":0}]
[null,{"$f":"'Entrar Dades'!J41","v":0},null,{"$f":"'Entrar Dades'!M41","v":0},null,"desviació estándar",null,null,null,null,null,{"$f":"'Entrar Dades'!W41","v":0},{"$f":"'Entrar Dades'!X41","v":0}]

{"sheet":"IMPRIMIR RESPOSTES","index":2,"n_rows":108,"n_cols":21,"rows_kept":108,"cut":false,"hidden":false,"merged":[]}
[]
[null,{"$f":"'Entrar Dades'!B1","v":"Centre i grup: "},"M'agrada (+)","No m'agrada (-)","Pica (Ag Física)","Ajuda (Prosocial)","Amics",null,null,null,null,null,null,null,null,{"$f":"B2","v":"Centre i grup: "},"M'agrada (+)","No m'agrada (-)","Pica (Ag Física)","Ajuda (Prosocial)","Amics"]
[null,{"$f":"'Entrar Dades'!B2","v":"Data: "},1,2,4,3,5,null,null,null,null,null,null,null,null,{"$f":"B3","v":"Data: "},1,2,4,3,5]
[null,{"$f":"'Entrar Dades'!A50&\" \"&'Entrar Dades'!B50","v":"1 "},{"$f":"'Entrar Dades'!C50","v":0},{"$f":"'Entrar Dades'!D50","v":0},{"$f":"'Entrar Dades'!F50","v":0},{"$f":"'Entrar Dades'!E50","v":0},{"$f":"'Entrar Dades'!G50","v":0}]
[null,null,{"$f":"'Entrar Dades'!C51","v":0},{"$f":"'Entrar Dades'!D51","v":0},{"$f":"'Entrar Dades'!F51","v":0},{"$f":"'Entrar Dades'!E51","v":0},{"$f":"'Entrar Dades'!G51","v":0}]
[null,null,{"$f":"'Entrar Dades'!C52","v":0},{"$f":"'Entrar Dades'!D52","v":0},{"$f":"'Entrar Dades'!F52","v":0},{"$f":"'Entrar Dades'!E52","v":0},{"$f":"'Entrar Dades'!G52","v":0}]
[null,{"$f":"'Entrar Dades'!A53&\" \"&'Entrar Dades'!B53","v":"2 "},{"$f":"'Entrar Dades'!C53","v":0},{"$f":"'Entrar Dades'!D53","v":0},{"$f":"'Entrar Dades'!F53","v":0},{"$f":"'Entrar Dades'!E53","v":0},{"$f":"'Entrar Dades'!G53","v":0}]
[null,null,{"$f":"'Entrar Dades'!C54","v":0},{"$f":"'Entrar Dades'!D54","v":0},{"$f":"'Entrar Dades'!F54","v":0},{"$f":"'Entrar Dades'!E54","v":0},{"$f":"'Entrar Dades'!G54","v":0}]
[null,null,{"$f":"'Entrar Dades'!C55","v":0},{"$f":"'Entrar Dades'!D55","v":0},{"$f":"'Entrar Dades'!F55","v":0},{"$f":"'Entrar Dades'!E55","v":0},{"$f":"'Entrar Dades'!G55","v":0}]
[null,{"$f":"'Entrar Dades'!A56&\" \"&'Entrar Dades'!B56","v":"3 "},{"$f":"'Entrar Dades'!C56","v":0},{"$f":"'Entrar Dades'!D56","v":0},{"$f":"'Entrar Dades'!F56","v":0},{"$f":"'Entrar Dades'!E56","v":0},{"$f":"'Entrar Dades'!G56","v":0}]
[null,null,{"$f":"'Entrar Dades'!C57","v":0},{"$f":"'Entrar Dades'!D57","v":0},{"$f":"'Entrar Dades'!F57","v":0},{"$f":"'Entrar Dades'!E57","v":0},{"$f":"'Entrar Dades'!G57","v":0}]
[null,null,{"$f":"'Entrar Dades'!C58","v":0},{"$f":"'Entrar Dades'!D58","v":0},{"$f":"'Entrar Dades'!F58","v":0},{"$f":"'Entrar Dades'!E58","v":0},{"$f":"'Entrar Dades'!G58","v":0}]
[null,{"$f":"'Entrar Dades'!A59&\" \"&'Entrar Dades'!B59","v":"4 "},{"$f":"'Entrar Dades'!C59","v":0},{"$f":"'Entrar Dades'!D59","v":0},{"$f":"'Entrar Dades'!F59","v":0},{"$f":"'Entrar Dades'!E59","v":0},{"$f":"'Entrar Dades'!G59","v":0}]
[null,null,{"$f":"'Entrar Dades'!C60","v":0},{"$f":"'Entrar Dades'!D60","v":0},{"$f":"'Entrar Dades'!F60","v":0},{"$f":"'Entrar Dades'!E60","v":0},{"$f":"'Entrar Dades'!G60","v":0}]
[null,null,{"$f":"'Entrar Dades'!C61","v":0},{"$f":"'Entrar Dades'!D61","v":0},{"$f":"'Entrar Dades'!F61","v":0},{"$f":"'Entrar Dades'!E61","v":0},{"$f":"'Entrar Dades'!G61","v":0}]
[null,{"$f":"'Entrar Dades'!A62&\" \"&'Entrar Dades'!B62","v":"5 "},{"$f":"'Entrar Dades'!C62","v":0},{"$f":"'Entrar Dades'!D62","v":0},{"$f":"'Entrar Dades'!F62","v":0},{"$f":"'Entrar Dades'!E62","v":0},{"$f":"'Entrar Dades'!G62","v":0}]
[null,null,{"$f":"'Entrar Dades'!C63","v":0},{"$f":"'Entrar Dades'!D63","v":0},{"$f":"'Entrar Dades'!F63","v":0},{"$f":"'Entrar Dades'!E63","v":0},{"$f":"'Entrar Dades'!G63","v":0}]
[null,null,{"$f":"'Entrar Dades'!C64","v":0},{"$f":"'Entrar Dades'!D64","v":0},{"$f":"'Entrar Dades'!F64","v":0},{"$f":"'Entrar Dades'!E64","v":0},{"$f":"'Entrar Dades'!G64","v":0}]
[null,{"$f":"'Entrar Dades'!A65&\" \"&'Entrar Dades'!B65","v":"6 "},{"$f":"'Entrar Dades'!C65","v":0},{"$f":"'Entrar Dades'!D65","v":0},{"$f":"'Entrar Dades'!F65","v":0},{"$f":"'Entrar Dades'!E65","v":0},{"$f":"'Entrar Dades'!G65","v":0}]
[null,null,{"$f":"'Entrar Dades'!C66","v":0},{"$f":"'Entrar Dades'!D66","v":0},{"$f":"'Entrar Dades'!F66","v":0},{"$f":"'Entrar Dades'!E66","v":0},{"$f":"'Entrar Dades'!G66","v":0}]
[null,null,{"$f":"'Entrar Dades'!C67","v":0},{"$f":"'Entrar Dades'!D67","v":0},{"$f":"'Entrar Dades'!F67","v":0},{"$f":"'Entrar Dades'!E67","v":0},{"$f":"'Entrar Dades'!G67","v":0}]
[null,{"$f":"'Entrar Dades'!A68&\" \"&'Entrar Dades'!B68","v":"7 "},{"$f":"'Entrar Dades'!C68","v":0},{"$f":"'Entrar Dades'!D68","v":0},{"$f":"'Entrar Dades'!F68","v":0},{"$f":"'Entrar Dades'!E68","v":0},{"$f":"'Entrar Dades'!G68","v":0}]
[null,null,{"$f":"'Entrar Dades'!C69","v":0},{"$f":"'Entrar Dades'!D69","v":0},{"$f":"'Entrar Dades'!F69","v":0},{"$f":"'Entrar Dades'!E69","v":0},{"$f":"'Entrar Dades'!G69","v":0}]
[null,null,{"$f":"'Entrar Dades'!C70","v":0},{"$f":"'Entrar Dades'!D70","v":0},{"$f":"'Entrar Dades'!F70","v":0},{"$f":"'Entrar Dades'!E70","v":0},{"$f":"'Entrar Dades'!G70","v":0}]
[null,{"$f":"'Entrar Dades'!A71&\" \"&'Entrar Dades'!B71","v":"8 "},{"$f":"'Entrar Dades'!C71","v":0},{"$f":"'Entrar Dades'!D71","v":0},{"$f":"'Entrar Dades'!F71","v":0},{"$f":"'Entrar Dades'!E71","v":0},{"$f":"'Entrar Dades'!G71","v":0}]
[null,null,{"$f":"'Entrar Dades'!C72","v":0},{"$f":"'Entrar Dades'!D72","v":0},{"$f":"'Entrar Dades'!F72","v":0},{"$f":"'Entrar Dades'!E72","v":0},{"$f":"'Entrar Dades'!G72","v":0}]
[null,null,{"$f":"'Entrar Dades'!C73","v":0},{"$f":"'Entrar Dades'!D73","v":0},{"$f":"'Entrar Dades'!F73","v":0},{"$f":"'Entrar Dades'!E73","v":0},{"$f":"'Entrar Dades'!G73","v":0}]
[null,{"$f":"'Entrar Dades'!A74&\" \"&'Entrar Dades'!B74","v":"9 "},{"$f":"'Entrar Dades'!C74","v":0},{"$f":"'Entrar Dades'!D74","v":0},{"$f":"'Entrar Dades'!F74","v":0},{"$f":"'Entrar Dades'!E74","v":0},{"$f":"'Entrar Dades'!G74","v":0}]
[null,null,{"$f":"'Entrar Dades'!C75","v":0},{"$f":"'Entrar Dades'!D75","v":0},{"$f":"'Entrar Dades'!F75","v":0},{"$f":"'Entrar Dades'!E75","v":0},{"$f":"'Entrar Dades'!G75","v":0}]
[null,null,{"$f":"'Entrar Dades'!C76","v":0},{"$f":"'Entrar Dades'!D76","v":0},{"$f":"'Entrar Dades'!F76","v":0},{"$f":"'Entrar Dades'!E76","v":0},{"$f":"'Entrar Dades'!G76","v":0}]
[null,{"$f":"'Entrar Dades'!A77&\" \"&'Entrar Dades'!B77","v":"10 "},{"$f":"'Entrar Dades'!C77","v":0},{"$f":"'Entrar Dades'!D77","v":0},{"$f":"'Entrar Dades'!F77","v":0},{"$f":"'Entrar Dades'!E77","v":0},{"$f":"'Entrar Dades'!G77","v":0}]
[null,null,{"$f":"'Entrar Dades'!C78","v":0},{"$f":"'Entrar Dades'!D78","v":0},{"$f":"'Entrar Dades'!F78","v":0},{"$f":"'Entrar Dades'!E78","v":0},{"$f":"'Entrar Dades'!G78","v":0}]
[null,null,{"$f":"'Entrar Dades'!C79","v":0},{"$f":"'Entrar Dades'!D79","v":0},{"$f":"'Entrar Dades'!F79","v":0},{"$f":"'Entrar Dades'!E79","v":0},{"$f":"'Entrar Dades'!G79","v":0}]
[null,{"$f":"'Entrar Dades'!A80&\" \"&'Entrar Dades'!B80","v":"11 "},{"$f":"'Entrar Dades'!C80","v":0},{"$f":"'Entrar Dades'!D80","v":0},{"$f":"'Entrar Dades'!F80","v":0},{"$f":"'Entrar Dades'!E80","v":0},{"$f":"'Entrar Dades'!G80","v":0}]
[null,null,{"$f":"'Entrar Dades'!C81","v":0},{"$f":"'Entrar Dades'!D81","v":0},{"$f":"'Entrar Dades'!F81","v":0},{"$f":"'Entrar Dades'!E81","v":0},{"$f":"'Entrar Dades'!G81","v":0}]
[null,null,{"$f":"'Entrar Dades'!C82","v":0},{"$f":"'Entrar Dades'!D82","v":0},{"$f":"'Entrar Dades'!F82","v":0},{"$f":"'Entrar Dades'!E82","v":0},{"$f":"'Entrar Dades'!G82","v":0}]
[null,{"$f":"'Entrar Dades'!A83&\" \"&'Entrar Dades'!B83","v":"12 "},{"$f":"'Entrar Dades'!C83","v":0},{"$f":"'Entrar Dades'!D83","v":0},{"$f":"'Entrar Dades'!F83","v":0},{"$f":"'Entrar Dades'!E83","v":0},{"$f":"'Entrar Dades'!G83","v":0}]
[null,null,{"$f":"'Entrar Dades'!C84","v":0},{"$f":"'Entrar Dades'!D84","v":0},{"$f":"'Entrar Dades'!F84","v":0},{"$f":"'Entrar Dades'!E84","v":0},{"$f":"'Entrar Dades'!G84","v":0}]
[null,null,{"$f":"'Entrar Dades'!C85","v":0},{"$f":"'Entrar Dades'!D85","v":0},{"$f":"'Entrar Dades'!F85","v":0},{"$f":"'Entrar Dades'!E85","v":0},{"$f":"'Entrar Dades'!G85","v":0}]
[null,{"$f":"'Entrar Dades'!A86&\" \"&'Entrar Dades'!B86","v":"13 "},{"$f":"'Entrar Dades'!C86","v":0},{"$f":"'Entrar Dades'!D86","v":0},{"$f":"'Entrar Dades'!F86","v":0},{"$f":"'Entrar Dades'!E86","v":0},{"$f":"'Entrar Dades'!G86","v":0}]
[null,null,{"$f":"'Entrar Dades'!C87","v":0},{"$f":"'Entrar Dades'!D87","v":0},{"$f":"'Entrar Dades'!F87","v":0},{"$f":"'Entrar Dades'!E87","v":0},{"$f":"'Entrar Dades'!G87","v":0}]
[null,null,{"$f":"'Entrar Dades'!C88","v":0},{"$f":"'Entrar Dades'!D88","v":0},{"$f":"'Entrar Dades'!F88","v":0},{"$f":"'Entrar Dades'!E88","v":0},{"$f":"'Entrar Dades'!G88","v":0}]
[null,{"$f":"'Entrar Dades'!A89&\" \"&'Entrar Dades'!B89","v":"14 "},{"$f":"'Entrar Dades'!C89","v":0},{"$f":"'Entrar Dades'!D89","v":0},{"$f":"'Entrar Dades'!F89","v":0},{"$f":"'Entrar Dades'!E89","v":0},{"$f":"'Entrar Dades'!G89","v":0}]
[null,null,{"$f":"'Entrar Dades'!C90","v":0},{"$f":"'Entrar Dades'!D90","v":0},{"$f":"'Entrar Dades'!F90","v":0},{"$f":"'Entrar Dades'!E90","v":0},{"$f":"'Entrar Dades'!G90","v":0}]
[null,null,{"$f":"'Entrar Dades'!C91","v":0},{"$f":"'Entrar Dades'!D91","v":0},{"$f":"'Entrar Dades'!F91","v":0},{"$f":"'Entrar Dades'!E91","v":0},{"$f":"'Entrar Dades'!G91","v":0}]
[null,{"$f":"'Entrar Dades'!A92&\" \"&'Entrar Dades'!B92","v":"15 "},{"$f":"'Entrar Dades'!C92","v":0},{"$f":"'Entrar Dades'!D92","v":0},{"$f":"'Entrar Dades'!F92","v":0},{"$f":"'Entrar Dades'!E92","v":0},{"$f":"'Entrar Dades'!G92","v":0}]
[null,null,{"$f":"'Entrar Dades'!C93","v":0},{"$f":"'Entrar Dades'!D93","v":0},{"$f":"'Entrar Dades'!F93","v":0},{"$f":"'Entrar Dades'!E93","v":0},{"$f":"'Entrar Dades'!G93","v":0}]
[null,null,{"$f":"'Entrar Dades'!C94","v":0},{"$f":"'Entrar Dades'!D94","v":0},{"$f":"'Entrar Dades'!F94","v":0},{"$f":"'Entrar Dades'!E94","v":0},{"$f":"'Entrar Dades'!G94","v":0}]
[null,{"$f":"'Entrar Dades'!A95&\" \"&'Entrar Dades'!B95","v":"16 "},{"$f":"'Entrar Dades'!C95","v":0},{"$f":"'Entrar Dades'!D95","v":0},{"$f":"'Entrar Dades'!F95","v":0},{"$f":"'Entrar Dades'!E95","v":0},{"$f":"'Entrar Dades'!G95","v":0}]
[null,null,{"$f":"'Entrar Dades'!C96","v":0},{"$f":"'Entrar Dades'!D96","v":0},{"$f":"'Entrar Dades'!F96","v":0},{"$f":"'Entrar Dades'!E96","v":0},{"$f":"'Entrar Dades'!G96","v":0}]
[null,null,{"$f":"'Entrar Dades'!C97","v":0},{"$f":"'Entrar Dades'!D97","v":0},{"$f":"'Entrar Dades'!F97","v":0},{"$f":"'Entrar Dades'!E97","v":0},{"$f":"'Entrar Dades'!G97","v":0}]
[null,{"$f":"'Entrar Dades'!A98&\" \"&'Entrar Dades'!B98","v":"17 "},{"$f":"'Entrar Dades'!C98","v":0},{"$f":"'Entrar Dades'!D98","v":0},{"$f":"'Entrar Dades'!F98","v":0},{"$f":"'Entrar Dades'!E98","v":0},{"$f":"'Entrar Dades'!G98","v":0}]
[null,null,{"$f":"'Entrar Dades'!C99","v":0},{"$f":"'Entrar Dades'!D99","v":0},{"$f":"'Entrar Dades'!F99","v":0},{"$f":"'Entrar Dades'!E99","v":0},{"$f":"'Entrar Dades'!G99","v":0}]
[null,null,{"$f":"'Entrar Dades'!C100","v":0},{"$f":"'Entrar Dades'!D100","v":0},{"$f":"'Entrar Dades'!F100","v":0},{"$f":"'Entrar Dades'!E100","v":0},{"$f":"'Entrar Dades'!G100","v":0}]
[null,{"$f":"'Entrar Dades'!A101&\" \"&'Entrar Dades'!B101","v":"18 "},{"$f":"'Entrar Dades'!C101","v":0},{"$f":"'Entrar Dades'!D101","v":0},{"$f":"'Entrar Dades'!F101","v":0},{"$f":"'Entrar Dades'!E101","v":0},{"$f":"'Entrar Dades'!G101","v":0}]
[null,null,{"$f":"'Entrar Dades'!C102","v":0},{"$f":"'Entrar Dades'!D102","v":0},{"$f":"'Entrar Dades'!F102","v":0},{"$f":"'Entrar Dades'!E102","v":0},{"$f":"'Entrar Dades'!G102","v":0}]
[null,null,{"$f":"'Entrar Dades'!C103","v":0},{"$f":"'Entrar Dades'!D103","v":0},{"$f":"'Entrar Dades'!F103","v":0},{"$f":"'Entrar Dades'!E103","v":0},{"$f":"'Entrar Dades'!G103","v":0}]
[null,{"$f":"'Entrar Dades'!A104&\" \"&'Entrar Dades'!B104","v":"19 "},{"$f":"'Entrar Dades'!C104","v":0},{"$f":"'Entrar Dades'!D104","v":0},{"$f":"'Entrar Dades'!F104","v":0},{"$f":"'Entrar Dades'!E104","v":0},{"$f":"'Entrar Dades'!G104","v":0}]
[null,null,{"$f":"'Entrar Dades'!C105","v":0},{"$f":"'Entrar Dades'!D105","v":0},{"$f":"'Entrar Dades'!F105","v":0},{"$f":"'Entrar Dades'!E105","v":0},{"$f":"'Entrar Dades'!G105","v":0}]
[null,null,{"$f":"'Entrar Dades'!C106","v":0},{"$f":"'Entrar Dades'!D106","v":0},{"$f":"'Entrar Dades'!F106","v":0},{"$f":"'Entrar Dades'!E106","v":0},{"$f":"'Entrar Dades'!G106","v":0}]
[null,{"$f":"'Entrar Dades'!A107&\" \"&'Entrar Dades'!B107","v":"20 "},{"$f":"'Entrar Dades'!C107","v":0},{"$f":"'Entrar Dades'!D107","v":0},{"$f":"'Entrar Dades'!F107","v":0},{"$f":"'Entrar Dades'!E107","v":0},{"$f":"'Entrar Dades'!G107","v":0}]
[null,null,{"$f":"'Entrar Dades'!C108","v":0},{"$f":"'Entrar Dades'!D108","v":0},{"$f":"'Entrar Dades'!F108","v":0},{"$f":"'Entrar Dades'!E108","v":0},{"$f":"'Entrar Dades'!G108","v":0}]
[null,null,{"$f":"'Entrar Dades'!C109","v":0},{"$f":"'Entrar Dades'!D109","v":0},{"$f":"'Entrar Dades'!F109","v":0},{"$f":"'Entrar Dades'!E109","v":0},{"$f":"'Entrar Dades'!G109","v":0}]
[null,{"$f":"'Entrar Dades'!A110&\" \"&'Entrar Dades'!B110","v":"21 "},{"$f":"'Entrar Dades'!C110","v":0},{"$f":"'Entrar Dades'!D110","v":0},{"$f":"'Entrar Dades'!F110","v":0},{"$f":"'Entrar Dades'!E110","v":0},{"$f":"'Entrar Dades'!G110","v":0}]
[null,null,{"$f":"'Entrar Dades'!C111","v":0},{"$f":"'Entrar Dades'!D111","v":0},{"$f":"'Entrar Dades'!F111","v":0},{"$f":"'Entrar Dades'!E111","v":0},{"$f":"'Entrar Dades'!G111","v":0}]
[null,null,{"$f":"'Entrar Dades'!C112","v":0},{"$f":"'Entrar Dades'!D112","v":0},{"$f":"'Entrar Dades'!F112","v":0},{"$f":"'Entrar Dades'!E112","v":0},{"$f":"'Entrar Dades'!G112","v":0}]
[null,{"$f":"'Entrar Dades'!A113&\" \"&'Entrar Dades'!B113","v":"22 "},{"$f":"'Entrar Dades'!C113","v":0},{"$f":"'Entrar Dades'!D113","v":0},{"$f":"'Entrar Dades'!F113","v":0},{"$f":"'Entrar Dades'!E113","v":0},{"$f":"'Entrar Dades'!G113","v":0}]
[null,null,{"$f":"'Entrar Dades'!C114","v":0},{"$f":"'Entrar Dades'!D114","v":0},{"$f":"'Entrar Dades'!F114","v":0},{"$f":"'Entrar Dades'!E114","v":0},{"$f":"'Entrar Dades'!G114","v":0}]
[null,null,{"$f":"'Entrar Dades'!C115","v":0},{"$f":"'Entrar Dades'!D115","v":0},{"$f":"'Entrar Dades'!F115","v":0},{"$f":"'Entrar Dades'!E115","v":0},{"$f":"'Entrar Dades'!G115","v":0}]
[null,{"$f":"'Entrar Dades'!A116&\" \"&'Entrar Dades'!B116","v":"23 "},{"$f":"'Entrar Dades'!C116","v":0},{"$f":"'Entrar Dades'!D116","v":0},{"$f":"'Entrar Dades'!F116","v":0},{"$f":"'Entrar Dades'!E116","v":0},{"$f":"'Entrar Dades'!G116","v":0}]
[null,null,{"$f":"'Entrar Dades'!C117","v":0},{"$f":"'Entrar Dades'!D117","v":0},{"$f":"'Entrar Dades'!F117","v":0},{"$f":"'Entrar Dades'!E117","v":0},{"$f":"'Entrar Dades'!G117","v":0}]
[null,null,{"$f":"'Entrar Dades'!C118","v":0},{"$f":"'Entrar Dades'!D118","v":0},{"$f":"'Entrar Dades'!F118","v":0},{"$f":"'Entrar Dades'!E118","v":0},{"$f":"'Entrar Dades'!G118","v":0}]
[null,{"$f":"'Entrar Dades'!A119&\" \"&'Entrar Dades'!B119","v":"24 "},{"$f":"'Entrar Dades'!C119","v":0},{"$f":"'Entrar Dades'!D119","v":0},{"$f":"'Entrar Dades'!F119","v":0},{"$f":"'Entrar Dades'!E119","v":0},{"$f":"'Entrar Dades'!G119","v":0}]
[null,null,{"$f":"'Entrar Dades'!C120","v":0},{"$f":"'Entrar Dades'!D120","v":0},{"$f":"'Entrar Dades'!F120","v":0},{"$f":"'Entrar Dades'!E120","v":0},{"$f":"'Entrar Dades'!G120","v":0}]
[null,null,{"$f":"'Entrar Dades'!C121","v":0},{"$f":"'Entrar Dades'!D121","v":0},{"$f":"'Entrar Dades'!F121","v":0},{"$f":"'Entrar Dades'!E121","v":0},{"$f":"'Entrar Dades'!G121","v":0}]
[null,{"$f":"'Entrar Dades'!A122&\" \"&'Entrar Dades'!B122","v":"25 "},{"$f":"'Entrar Dades'!C122","v":0},{"$f":"'Entrar Dades'!D122","v":0},{"$f":"'Entrar Dades'!F122","v":0},{"$f":"'Entrar Dades'!E122","v":0},{"$f":"'Entrar Dades'!G122","v":0}]
[null,null,{"$f":"'Entrar Dades'!C123","v":0},{"$f":"'Entrar Dades'!D123","v":0},{"$f":"'Entrar Dades'!F123","v":0},{"$f":"'Entrar Dades'!E123","v":0},{"$f":"'Entrar Dades'!G123","v":0}]
[null,null,{"$f":"'Entrar Dades'!C124","v":0},{"$f":"'Entrar Dades'!D124","v":0},{"$f":"'Entrar Dades'!F124","v":0},{"$f":"'Entrar Dades'!E124","v":0},{"$f":"'Entrar Dades'!G124","v":0}]
[null,{"$f":"'Entrar Dades'!A125&\" \"&'Entrar Dades'!B125","v":"26 "},{"$f":"'Entrar Dades'!C125","v":0},{"$f":"'Entrar Dades'!D125","v":0},{"$f":"'Entrar Dades'!F125","v":0},{"$f":"'Entrar Dades'!E125","v":0},{"$f":"'Entrar Dades'!G125","v":0}]
[null,null,{"$f":"'Entrar Dades'!C126","v":0},{"$f":"'Entrar Dades'!D126","v":0},{"$f":"'Entrar Dades'!F126","v":0},{"$f":"'Entrar Dades'!E126","v":0},{"$f":"'Entrar Dades'!G126","v":0}]
[null,null,{"$f":"'Entrar Dades'!C127","v":0},{"$f":"'Entrar Dades'!D127","v":0},{"$f":"'Entrar Dades'!F127","v":0},{"$f":"'Entrar Dades'!E127","v":0},{"$f":"'Entrar Dades'!G127","v":0}]
[null,{"$f":"'Entrar Dades'!A128&\" \"&'Entrar Dades'!B128","v":"27 "},{"$f":"'Entrar Dades'!C128","v":0},{"$f":"'Entrar Dades'!D128","v":0},{"$f":"'Entrar Dades'!F128","v":0},{"$f":"'Entrar Dades'!E128","v":0},{"$f":"'Entrar Dades'!G128","v":0}]
[null,null,{"$f":"'Entrar Dades'!C129","v":0},{"$f":"'Entrar Dades'!D129","v":0},{"$f":"'Entrar Dades'!F129","v":0},{"$f":"'Entrar Dades'!E129","v":0},{"$f":"'Entrar Dades'!G129","v":0}]
[null,null,{"$f":"'Entrar Dades'!C130","v":0},{"$f":"'Entrar Dades'!D130","v":0},{"$f":"'Entrar Dades'!F130","v":0},{"$f":"'Entrar Dades'!E130","v":0},{"$f":"'Entrar Dades'!G130","v":0}]
[null,{"$f":"'Entrar Dades'!A131&\" \"&'Entrar Dades'!B131","v":"28 "},{"$f":"'Entrar Dades'!C131","v":0},{"$f":"'Entrar Dades'!D131","v":0},{"$f":"'Entrar Dades'!F131","v":0},{"$f":"'Entrar Dades'!E131","v":0},{"$f":"'Entrar Dades'!G131","v":0}]
[null,null,{"$f":"'Entrar Dades'!C132","v":0},{"$f":"'Entrar Dades'!D132","v":0},{"$f":"'Entrar Dades'!F132","v":0},{"$f":"'Entrar Dades'!E132","v":0},{"$f":"'Entrar Dades'!G132","v":0}]
[null,null,{"$f":"'Entrar Dades'!C133","v":0},{"$f":"'Entrar Dades'!D133","v":0},{"$f":"'Entrar Dades'!F133","v":0},{"$f":"'Entrar Dades'!E133","v":0},{"$f":"'Entrar Dades'!G133","v":0}]
[null,{"$f":"'Entrar Dades'!A134&\" \"&'Entrar Dades'!B134","v":"29 "},{"$f":"'Entrar Dades'!C134","v":0},{"$f":"'Entrar Dades'!D134","v":0},{"$f":"'Entrar Dades'!F134","v":0},{"$f":"'Entrar Dades'!E134","v":0},{"$f":"'Entrar Dades'!G134","v":0}]
[null,null,{"$f":"'Entrar Dades'!C135","v":0},{"$f":"'Entrar Dades'!D135","v":0},{"$f":"'Entrar Dades'!F135","v":0},{"$f":"'Entrar Dades'!E135","v":0},{"$f":"'Entrar Dades'!G135","v":0}]
[null,null,{"$f":"'Entrar Dades'!C136","v":0},{"$f":"'Entrar Dades'!D136","v":0},{"$f":"'Entrar Dades'!F136","v":0},{"$f":"'Entrar Dades'!E136","v":0},{"$f":"'Entrar Dades'!G136","v":0}]
[null,{"$f":"'Entrar Dades'!A137&\" \"&'Entrar Dades'!B137","v":"30 "},{"$f":"'Entrar Dades'!C137","v":0},{"$f":"'Entrar Dades'!D137","v":0},{"$f":"'Entrar Dades'!F137","v":0},{"$f":"'Entrar Dades'!E137","v":0},{"$f":"'Entrar Dades'!G137","v":0}]
[null,null,{"$f":"'Entrar Dades'!C138","v":0},{"$f":"'Entrar Dades'!D138","v":0},{"$f":"'Entrar Dades'!F138","v":0},{"$f":"'Entrar Dades'!E138","v":0},{"$f":"'Entrar Dades'!G138","v":0}]
[null,null,{"$f":"'Entrar Dades'!C139","v":0},{"$f":"'Entrar Dades'!D139","v":0},{"$f":"'Entrar Dades'!F139","v":0},{"$f":"'Entrar Dades'!E139","v":0},{"$f":"'Entrar Dades'!G139","v":0}]
[null,{"$f":"'Entrar Dades'!A140&\" \"&'Entrar Dades'!B140","v":"31 "},{"$f":"'Entrar Dades'!C140","v":0},{"$f":"'Entrar Dades'!D140","v":0},{"$f":"'Entrar Dades'!F140","v":0},{"$f":"'Entrar Dades'!E140","v":0},{"$f":"'Entrar Dades'!G140","v":0}]
[null,null,{"$f":"'Entrar Dades'!C141","v":0},{"$f":"'Entrar Dades'!D141","v":0},{"$f":"'Entrar Dades'!F141","v":0},{"$f":"'Entrar Dades'!E141","v":0},{"$f":"'Entrar Dades'!G141","v":0}]
[null,null,{"$f":"'Entrar Dades'!C142","v":0},{"$f":"'Entrar Dades'!D142","v":0},{"$f":"'Entrar Dades'!F142","v":0},{"$f":"'Entrar Dades'!E142","v":0},{"$f":"'Entrar Dades'!G142","v":0}]
[null,{"$f":"'Entrar Dades'!A143&\" \"&'Entrar Dades'!B143","v":"32 "},{"$f":"'Entrar Dades'!C143","v":0},{"$f":"'Entrar Dades'!D143","v":0},{"$f":"'Entrar Dades'!F143","v":0},{"$f":"'Entrar Dades'!E143","v":0},{"$f":"'Entrar Dades'!G143","v":0}]
[null,null,{"$f":"'Entrar Dades'!C144","v":0},{"$f":"'Entrar Dades'!D144","v":0},{"$f":"'Entrar Dades'!F144","v":0},{"$f":"'Entrar Dades'!E144","v":0},{"$f":"'Entrar Dades'!G144","v":0}]
[null,null,{"$f":"'Entrar Dades'!C145","v":0},{"$f":"'Entrar Dades'!D145","v":0},{"$f":"'Entrar Dades'!F145","v":0},{"$f":"'Entrar Dades'!E145","v":0},{"$f":"'Entrar Dades'!G145","v":0}]
[null,{"$f":"'Entrar Dades'!A146&\" \"&'Entrar Dades'!B146","v":"33 "},{"$f":"'Entrar Dades'!C146","v":0},{"$f":"'Entrar Dades'!D146","v":0},{"$f":"'Entrar Dades'!F146","v":0},{"$f":"'Entrar Dades'!E146","v":0},{"$f":"'Entrar Dades'!G146","v":0}]
[null,null,{"$f":"'Entrar Dades'!C147","v":0},{"$f":"'Entrar Dades'!D147","v":0},{"$f":"'Entrar Dades'!F147","v":0},{"$f":"'Entrar Dades'!E147","v":0},{"$f":"'Entrar Dades'!G147","v":0}]
[null,null,{"$f":"'Entrar Dades'!C148","v":0},{"$f":"'Entrar Dades'!D148","v":0},{"$f":"'Entrar Dades'!F148","v":0},{"$f":"'Entrar Dades'!E148","v":0},{"$f":"'Entrar Dades'!G148","v":0}]
[null,{"$f":"'Entrar Dades'!A149&\" \"&'Entrar Dades'!B149","v":"34 "},{"$f":"'Entrar Dades'!C149","v":0},{"$f":"'Entrar Dades'!D149","v":0},{"$f":"'Entrar Dades'!F149","v":0},{"$f":"'Entrar Dades'!E149","v":0},{"$f":"'Entrar Dades'!G149","v":0}]
[null,null,{"$f":"'Entrar Dades'!C150","v":0},{"$f":"'Entrar Dades'!D150","v":0},{"$f":"'Entrar Dades'!F150","v":0},{"$f":"'Entrar Dades'!E150","v":0},{"$f":"'Entrar Dades'!G150","v":0}]
[null,null,{"$f":"'Entrar Dades'!C151","v":0},{"$f":"'Entrar Dades'!D151","v":0},{"$f":"'Entrar Dades'!F151","v":0},{"$f":"'Entrar Dades'!E151","v":0},{"$f":"'Entrar Dades'!G151","v":0}]
[null,{"$f":"'Entrar Dades'!A152&\" \"&'Entrar Dades'!B152","v":"35 "},{"$f":"'Entrar Dades'!C152","v":0},{"$f":"'Entrar Dades'!D152","v":0},{"$f":"'Entrar Dades'!F152","v":0},{"$f":"'Entrar Dades'!E152","v":0},{"$f":"'Entrar Dades'!G152","v":0}]
[null,null,{"$f":"'Entrar Dades'!C153","v":0},{"$f":"'Entrar Dades'!D153","v":0},{"$f":"'Entrar Dades'!F153","v":0},{"$f":"'Entrar Dades'!E153","v":0},{"$f":"'Entrar Dades'!G153","v":0}]
[null,null,{"$f":"'Entrar Dades'!C154","v":0},{"$f":"'Entrar Dades'!D154","v":0},{"$f":"'Entrar Dades'!F154","v":0},{"$f":"'Entrar Dades'!E154","v":0},{"$f":"'Entrar Dades'!G154","v":0}]