{"text_format":"1","workbook":"xlsx","n_sheets":3,"sheets":["Entrar Dades","IMPRIMIR RESULTATS","IMPRIMIR RESPOSTES"],"not_rendered":{"charts":0,"images":0,"macros":1,"external_links":0,"defined_names":4,"comments":0,"pivot_tables":0},"unopened":[],"bounds":{"document_bytes":16777216,"sheet_cells":100000,"rows_first":2000,"rows_last":500,"rows_between":2000,"halvings":0,"cell_chars":16384,"cell_head_chars":4096},"cells_cut":0,"cells_raw":0,"read":"whole","date_system":"1900"}

{"sheet":"Entrar Dades","index":0,"n_rows":170,"n_cols":99,"rows_kept":170,"cut":false,"hidden":false,"merged":[[49,0,51,0],[82,0,84,0],[79,0,81,0],[76,0,78,0],[73,0,75,0],[70,0,72,0],[67,0,69,0],[64,0,66,0],[61,0,63,0],[58,0,60,0],[55,0,57,0],[52,0,54,0],[124,0,126,0],[85,0,87,0],[118,0,120,0],[115,0,117,0],[112,0,114,0],[109,0,111,0],[106,0,108,0],[103,0,105,0],[100,0,102,0],[97,0,99,0],[94,0,96,0],[91,0,93,0],[88,0,90,0],[121,0,123,0],[139,1,141,1],[142,1,144,1],[145,1,147,1],[148,1,150,1],[139,0,141,0],[121,1,123,1],[124,1,126,1],[127,1,129,1],[130,1,132,1],[133,1,135,1],[136,1,138,1],[136,0,138,0],[133,0,135,0],[130,0,132,0],[127,0,129,0],[151,1,153,1],[151,0,153,0],[148,0,150,0],[145,0,147,0],[142,0,144,0],[118,1,120,1],[85,1,87,1],[88,1,90,1],[91,1,93,1],[94,1,96,1],[97,1,99,1],[100,1,102,1],[103,1,105,1],[106,1,108,1],[109,1,111,1],[112,1,114,1],[115,1,117,1],[82,1,84,1],[49,1,51,1],[52,1,54,1],[55,1,57,1],[58,1,60,1],[61,1,63,1],[64,1,66,1],[67,1,69,1],[70,1,72,1],[73,1,75,1],[76,1,78,1],[79,1,81,1]]}
[null,"Centre i grup: ",1,2,3,4,5,6,7,8,9,10,11,12]
[null,"Data: ","Soc +","Soc -","AR I","Pros","AF","AR D","Pros","AV","VF","VV","VR","Amics",null,null,null,null,null,null,"Agressivitat",null,null,null,null,"Prosocial",null,null,"Alumnes",null,null,null,null,null,"Victimització",null,null,null,null,"Estatus sociomètric"]
[null,"1. Entra els Noms del Alumnes",1,2,3,4,5,6,7,8,9,10,11,12,null,null,"Total Agressivitat","Agressivitat Física","Agressivitat Verbal","Agressivitat Relacional","Total Agressivitat","Agressivitat Física","Agressivitat Verbal","Agressivitat Relacional",null,"Prosocialitat","Prosocialitat",null,null,null,"Total Victimització","Victimització Física","Victimització Verbal","Victimització Relacional","Total Victimització","Victimització Física","Victimització Verbal","Victimització Relacional",null,"Popular","Rebutjat","Ignorat","Controvertit","Norma","Tries positives","Tries negatives",null,"Z Soc +","Z Soc -","Impac","Prefer","Z Impac","Z Prefer",null,"Z1","Z2","Z3","Z4","Z5","Z6","Z7","Z8","Z9","Z10","Z11","Z12",null,"AR","Z AR","Tot A","Z Tot A",null,"Pros","Z Pros",null,"Tot V","Z Tot V",null,"Pop","Pop","Pop","Popular","Reb","Reb","Reb","Rebutjat","Ign","Ign","Ign","Ignorat","Con","Con","Con","Controvertit","Nor","Nor","Nor","Nor","Normal"]
[1,null,{"$f":"COUNTIF(C50:C154,1)","v":0},0,0,0,0,0,0,0,0,0,0,0,null,null,{"$f":"SUM(E4+H4)/2+G4+J4","v":0},{"$f":"SUM(G4)","v":0},{"$f":"SUM(J4)","v":0},{"$f":"SUM(E4+H4)/2","v":0},{"$f":"IF(BS4>1,\"X\",\" \")","v":{"$error":"#NUM!"}},{"$f":"IF(BG4>1,\"X\",\" \")","v":{"$error":"#NUM!"}},{"$f":"IF(BJ4>1,\"X\",\" \")","v":{"$error":"#NUM!"}},{"$f":"IF(BQ4>1,\"X\",\" \")","v":{"$error":"#NUM!"}},null,{"$f":"SUM(F4+I4)/2","v":0},{"$f":"IF(BV4>1,\"X\",\" \")","v":{"$error":"#NUM!"}},null,{"$f":"A4&\" \"&B4","v":"1 "},null,{"$f":"SUM(K4+L4+M4)","v":0},{"$f":"SUM(K4)","v":0},{"$f":"SUM(L4)","v":0},{"$f":"SUM(M4)","v":0},{"$f":"IF(BY4>1,\"X\",\" \")","v":{"$error":"#NUM!"}},{"$f":"IF(BK4>1,\"X\",\" \")","v":{"$error":"#NUM!"}},{"$error":"#NUM!"},{"$error":"#NUM!"},null,{"$f":"IF(CD4=3,\"X\",\" \")","v":{"$error":"#NUM!"}},{"$f":"IF(CH4=3,\"X\",\" \")","v":{"$error":"#NUM!"}},{"$f":"IF(CL4=3,\"X\",\" \")","v":{"$error":"#NUM!"}},{"$f":"IF(CP4=3,\"X\",\" \")","v":{"$error":"#NUM!"}},{"$f":"IF(CU4=0,\"X\",\" \")","v":{"$error":"#NUM!"}},{"$f":"SUM(C4)","v":0},{"$f":"SUM(D4)","v":0},null,{"$f":"STANDARDIZE(C4,C41,C42)","v":{"$error":"#NUM!"}},{"$f":"STANDARDIZE(D4,D41,D42)","v":{"$error":"#NUM!"}},{"$f":"SUM(C4:D4)","v":0},{"$f":"SUM(C4-D4)","v":0},{"$f":"STANDARDIZE(AX4,AX41,AX42)","v":{"$error":"#NUM!"}},{"$f":"STANDARDIZE(AY4,AY41,AY42)","v":{"$error":"#NUM!"}},null,{"$f":"STANDARDIZE(C4,C41,C42)","v":{"$error":"#NUM!"}},{"$error":"#NUM!"},{"$error":"#NUM!"},{"$error":"#NUM!"},{"$error":"#NUM!"},{"$error":"#NUM!"},{"$error":"#NUM!"},{"$error":"#NUM!"},{"$error":"#NUM!"},{"$error":"#NUM!"},{"$error":"#NUM!"},{"$error":"#NUM!"},null,{"$f":"SUM(E4+H4)","v":0},{"$f":"STANDARDIZE(BP4,BP41,BP42)","v":{"$error":"#NUM!"}},{"$f":"SUM(E4+H4)/2+G4+J4","v":0},{"$f":"STANDARDIZE(BR4,BR41,BR42)","v":{"$error":"#NUM!"}},null,{"$f":"SUM(F4+I4)","v":0},{"$f":"STANDARDIZE(BU4,BU41,BU42)","v":{"$error":"#NUM!"}},null,{"$f":"SUM(K4+L4+M4)","v":0},{"$f":"STANDARDIZE(BX4,BX41,BX42)","v":{"$error":"#NUM!"}},null,{"$f":"IF(BA4>1,\"1\",\"0\")","v":{"$error":"#NUM!"}},{"$f":"IF(AV4>0,\"1\",\"0\")","v":{"$error":"#NUM!"}},{"$f":"IF(AW4<0,\"1\",\"0\")","v":{"$error":"#NUM!"}},{"$f":"SUM(CA4+CB4+CC4)","v":{"$error":"#NUM!"}},{"$f":"IF(BA4<-1,\"1\",\"0\")","v":{"$error":"#NUM!"}},{"$f":"IF(AW4>0,\"1\",\"0\")","v":{"$error":"#NUM!"}},{"$f":"IF(AV4<0,\"1\",\"0\")","v":{"$error":"#NUM!"}},{"$f":"SUM(CE4+CF4+CG4)","v":{"$error":"#NUM!"}},{"$f":"IF(AZ4<-1,\"1\",\"0\")","v":{"$error":"#NUM!"}},{"$f":"IF(AV4<0,\"1\",\"0\")","v":{"$error":"#NUM!"}},{"$f":"IF(AW4<0,\"1\",\"0\")","v":{"$error":"#NUM!"}},{"$f":"SUM(CI4+CJ4+CK4)","v":{"$error":"#NUM!"}},{"$f":"IF(AZ4>1,\"1\",\"0\")","v":{"$error":"#NUM!"}},{"$f":"IF(AW4>0,\"1\",\"0\")","v":{"$error":"#NUM!"}},{"$f":"IF(AV4>0,\"1\",\"0\")","v":{"$error":"#NUM!"}},{"$f":"SUM(CM4+CN4+CO4)","v":{"$error":"#NUM!"}},{"$f":"IF(AV4<-0.5,\"1\",\"0\")","v":{"$error":"#NUM!"}},{"$f":"IF(AV4>0.5,\"1\",\"0\")","v":{"$error":"#NUM!"}},{"$f":"IF(AW4<-0.5,\"1\",\"0\")","v":{"$error":"#NUM!"}},{"$f":"IF(AW4>0.5,\"1\",\"0\")","v":{"$error":"#NUM!"}},{"$f":"SUM(CQ4+CR4+CS4+CT4)","v":{"$error":"#NUM!"}}]
[2,null,{"$f":"COUNTIF(C50:C154,2)","v":0},0,0,0,0,0,0,0,0,0,0,0,null,null,{"$f":"SUM(E5+H5)/2+G5+J5","v":0},{"$f":"SUM(G5)","v":0},{"$f":"SUM(J5)","v":0},{"$f":"SUM(E5+H5)/2","v":0},{"$error":"#NUM!"},{"$error":"#NUM!"},{"$error":"#NUM!"},{"$error":"#NUM!"},null,{"$f":"SUM(F5+I5)/2","v":0},{"$error":"#NUM!"},null,{"$f":"A5&\" \"&B5","v":"2 "},null,{"$f":"SUM(K5+L5+M5)","v":0},{"$f":"SUM(K5)","v":0},0,{"$f":"SUM(M5)","v":0},{"$error":"#NUM!"},{"$error":"#NUM!"},{"$error":"#NUM!"},{"$error":"#NUM!"},null,{"$error":"#NUM!"},{"$error":"#NUM!"},{"$error":"#NUM!"},{"$error":"#NUM!"},{"$f":"IF(CU5=0,\"X\",\" \")","v":{"$error":"#NUM!"}},{"$f":"SUM(C5)","v":0},{"$f":"SUM(D5)","v":0},null,{"$f":"STANDARDIZE(C5,C41,C42)","v":{"$error":"#NUM!"}},{"$f":"STANDARDIZE(D5,D41,D42)","v":{"$error":"#NUM!"}},{"$f":"SUM(C5:D5)","v":0},{"$f":"SUM(C5-D5)","v":0},{"$f":"STANDARDIZE(AX5,AX41,AX42)","v":{"$error":"#NUM!"}},{"$f":"STANDARDIZE(AY5,AY41,AY42)","v":{"$error":"#NUM!"}},null,{"$f":"STANDARDIZE(C5,C41,C42)","v":{"$error":"#NUM!"}},{"$error":"#NUM!"},{"$error":"#NUM!"},{"$error":"#NUM!"},{"$error":"#NUM!"},{"$error":"#NUM!"},{"$error":"#NUM!"},{"$error":"#NUM!"},{"$error":"#NUM!"},{"$error":"#NUM!"},{"$error":"#NUM!"},{"$error":"#NUM!"},null,{"$f":"SUM(E5+H5)","v":0},{"$f":"STANDARDIZE(BP5,BP41,BP42)","v":{"$error":"#NUM!"}},{"$f":"SUM(E5+H5)/2+G5+J5","v":0},{"$f":"STANDARDIZE(BR5,BR41,BR42)","v":{"$error":"#NUM!"}},null,{"$f":"SUM(F5+I5)","v":0},{"$f":"STANDARDIZE(BU5,BU41,BU42)","v":{"$error":"#NUM!"}},null,{"$f":"SUM(K5+L5+M5)","v":0},{"$f":"STANDARDIZE(BX5,BX41,BX42)","v":{"$error":"#NUM!"}},null,{"$f":"IF(BA5>1,\"1\",\"0\")","v":{"$error":"#NUM!"}},{"$f":"IF(AV5>0,\"1\",\"0\")","v":{"$error":"#NUM!"}},{"$f":"IF(AW5<0,\"1\",\"0\")","v":{"$error":"#NUM!"}},{"$f":"SUM(CA5+CB5+CC5)","v":{"$error":"#NUM!"}},{"$f":"IF(BA5<-1,\"1\",\"0\")","v":{"$error":"#NUM!"}},{"$f":"IF(AW5>0,\"1\",\"0\")","v":{"$error":"#NUM!"}},{"$f":"IF(AV5<0,\"1\",\"0\")","v":{"$error":"#NUM!"}},{"$f":"SUM(CE5+CF5+CG5)","v":{"$error":"#NUM!"}},{"$f":"IF(AZ5<-1,\"1\",\"0\")","v":{"$error":"#NUM!"}},{"$f":"IF(AV5<0,\"1\",\"0\")","v":{"$error":"#NUM!"}},{"$error":"#NUM!"},{"$f":"SUM(CI5+CJ5+CK5)","v":{"$error":"#NUM!"}},{"$f":"IF(AZ5>1,\"1\",\"0\")","v":{"$error":"#NUM!"}},{"$f":"IF(AW5>0,\"1\",\"0\")","v":{"$error":"#NUM!"}},{"$f":"IF(AV5>0,\"1\",\"0\")","v":{"$error":"#NUM!"}},{"$f":"SUM(CM5+CN5+CO5)","v":{"$error":"#NUM!"}},{"$f":"IF(AV5<-0.5,\"1\",\"0\")","v":{"$error":"#NUM!"}},{"$f":"IF(AV5>0.5,\"1\",\"0\")","v":{"$error":"#NUM!"}},{"$f":"IF(AW5<-0.5,\"1\",\"0\")","v":{"$error":"#NUM!"}},{"$f":"IF(AW5>0.5,\"1\",\"0\")","v":{"$error":"#NUM!"}},{"$f":"SUM(CQ5+CR5+CS5+CT5)","v":{"$error":"#NUM!"}}]
[3,null,{"$f":"COUNTIF(C50:C154,3)","v":0},0,0,0,0,0,0,0,0,0,0,0,null,null,0,0,0,0,{"$error":"#NUM!"},{"$error":"#NUM!"},{"$error":"#NUM!"},{"$error":"#NUM!"},null,0,{"$error":"#NUM!"},null,"3 ",null,0,0,0,0,{"$error":"#NUM!"},{"$error":"#NUM!"},{"$error":"#NUM!"},{"$error":"#NUM!"},null,{"$error":"#NUM!"},{"$error":"#NUM!"},{"$error":"#NUM!"},{"$error":"#NUM!"},{"$error":"#NUM!"},0,0,null,{"$f":"STANDARDIZE(C6,C41,C42)","v":{"$error":"#NUM!"}},{"$f":"STANDARDIZE(D6,D41,D42)","v":{"$error":"#NUM!"}},0,0,{"$f":"STANDARDIZE(AX6,AX41,AX42)","v":{"$error":"#NUM!"}},{"$f":"STANDARDIZE(AY6,AY41,AY42)","v":{"$error":"#NUM!"}},null,{"$f":"STANDARDIZE(C6,C41,C42)","v":{"$error":"#NUM!"}},{"$error":"#NUM!"},{"$error":"#NUM!"},{"$error":"#NUM!"},{"$error":"#NUM!"},{"$error":"#NUM!"},{"$error":"#NUM!"},{"$error":"#NUM!"},{"$error":"#NUM!"},{"$error":"#NUM!"},{"$error":"#NUM!"},{"$error":"#NUM!"},null,0,{"$f":"STANDARDIZE(BP6,BP41,BP42)","v":{"$error":"#NUM!"}},0,{"$f":"STANDARDIZE(BR6,BR41,BR42)","v":{"$error":"#NUM!"}},null,0,{"$f":"STANDARDIZE(BU6,BU41,BU42)","v":{"$error":"#NUM!"}},null,0,{"$f":"STANDARDIZE(BX6,BX41,BX42)","v":{"$error":"#NUM!"}},null,{"$error":"#NUM!"},{"$error":"#NUM!"},{"$error":"#NUM!"},{"$error":"#NUM!"},{"$error":"#NUM!"},{"$error":"#NUM!"},{"$error":"#NUM!"},{"$error":"#NUM!"},{"$error":"#NUM!"},{"$error":"#NUM!"},{"$error":"#NUM!"},{"$error":"#NUM!"},{"$error":"#NUM!"},{"$error":"#NUM!"},{"$error":"#NUM!"},{"$error":"#NUM!"},{"$error":"#NUM!"},{"$error":"#NUM!"},{"$error":"#NUM!"},{"$error":"#NUM!"},{"$error":"#NUM!"}]
[4,null,{"$f":"COUNTIF(C50:C154,4)","v":0},0,0,0,0,0,0,0,0,0,0,0,null,null,0,0,0,0,{"$error":"#NUM!"},{"$error":"#NUM!"},{"$error":"#NUM!"},{"$error":"#NUM!"},null,0,{"$error":"#NUM!"},null,"4 ",null,0,0,0,0,{"$error":"#NUM!"},{"$error":"#NUM!"},{"$error":"#NUM!"},{"$error":"#NUM!"},null,{"$error":"#NUM!"},{"$error":"#NUM!"},{"$error":"#NUM!"},{"$error":"#NUM!"},{"$error":"#NUM!"},0,0,null,{"$f":"STANDARDIZE(C7,C41,C42)","v":{"$error":"#NUM!"}},{"$f":"STANDARDIZE(D7,D41,D42)","v":{"$error":"#NUM!"}},0,0,{"$f":"STANDARDIZE(AX7,AX41,AX42)","v":{"$error":"#NUM!"}},{"$f":"STANDARDIZE(AY7,AY41,AY42)","v":{"$error":"#NUM!"}},null,{"$f":"STANDARDIZE(C7,C41,C42)","v":{"$error":"#NUM!"}},{"$error":"#NUM!"},{"$error":"#NUM!"},{"$error":"#NUM!"},{"$error":"#NUM!"},{"$error":"#NUM!"},{"$error":"#NUM!"},{"$error":"#NUM!"},{"$error":"#NUM!"},{"$error":"#NUM!"},{"$error":"#NUM!"},{"$error":"#NUM!"},null,0,{"$f":"STANDARDIZE(BP7,BP41,BP42)","v":{"$error":"#NUM!"}},0,{"$f":"STANDARDIZE(BR7,BR41,BR42)","v":{"$error":"#NUM!"}},null,0,{"$f":"STANDARDIZE(BU7,BU41,BU42)","v":{"$error":"#NUM!"}},null,0,{"$f":"STANDARDIZE(BX7,BX41,BX42)","v":{"$error":"#NUM!"}},null,{"$error":"#NUM!"},{"$error":"#NUM!"},{"$error":"#NUM!"},{"$error":"#NUM!"},{"$error":"#NUM!"},{"$error":"#NUM!"},{"$error":"#NUM!"},{"$error":"#NUM!"},{"$error":"#NUM!"},{"$error":"#NUM!"},{"$error":"#NUM!"},{"$error":"#NUM!"},{"$error":"#NUM!"},{"$error":"#NUM!"},{"$error":"#NUM!"},{"$error":"#NUM!"},{"$error":"#NUM!"},{"$error":"#NUM!"},{"$error":"#NUM!"},{"$error":"#NUM!"},{"$error":"#NUM!"}]
[5,null,{"$f":"COUNTIF(C50:C154,5)","v":0},0,0,0,0,0,0,0,0,0,0,0,null,null,0,0,0,0,{"$error":"#NUM!"},{"$error":"#NUM!"},{"$error":"#NUM!"},{"$error":"#NUM!"},null,0,{"$error":"#NUM!"},null,"5 ",null,0,0,0,0,{"$error":"#NUM!"},{"$error":"#NUM!"},{"$error":"#NUM!"},{"$error":"#NUM!"},null,{"$error":"#NUM!"},{"$error":"#NUM!"},{"$error":"#NUM!"},{"$error":"#NUM!"},{"$error":"#NUM!"},0,0,null,{"$f":"STANDARDIZE(C8,C41,C42)","v":{"$error":"#NUM!"}},{"$f":"STANDARDIZE(D8,D41,D42)","v":{"$error":"#NUM!"}},0,0,{"$f":"STANDARDIZE(AX8,AX41,AX42)","v":{"$error":"#NUM!"}},{"$f":"STANDARDIZE(AY8,AY41,AY42)","v":{"$error":"#NUM!"}},null,{"$f":"STANDARDIZE(C8,C41,C42)","v":{"$error":"#NUM!"}},{"$error":"#NUM!"},{"$error":"#NUM!"},{"$error":"#NUM!"},{"$error":"#NUM!"},{"$error":"#NUM!"},{"$error":"#NUM!"},{"$error":"#NUM!"},{"$error":"#NUM!"},{"$error":"#NUM!"},{"$error":"#NUM!"},{"$error":"#NUM!"},null,0,{"$f":"STANDARDIZE(BP8,BP41,BP42)","v":{"$error":"#NUM!"}},0,{"$f":"STANDARDIZE(BR8,BR41,BR42)","v":{"$error":"#NUM!"}},null,0,{"$f":"STANDARDIZE(BU8,BU41,BU42)","v":{"$error":"#NUM!"}},null,0,{"$f":"STANDARDIZE(BX8,BX41,BX42)","v":{"$error":"#NUM!"}},null,{"$error":"#NUM!"},{"$error":"#NUM!"},{"$error":"#NUM!"},{"$error":"#NUM!"},{"$error":"#NUM!"},{"$error":"#NUM!"},{"$error":"#NUM!"},{"$error":"#NUM!"},{"$error":"#NUM!"},{"$error":"#NUM!"},{"$error":"#NUM!"},{"$error":"#NUM!"},{"$error":"#NUM!"},{"$error":"#NUM!"},{"$error":"#NUM!"},{"$error":"#NUM!"},{"$error":"#NUM!"},{"$error":"#NUM!"},{"$error":"#NUM!"},{"$error":"#NUM!"},{"$error":"#NUM!"}]
[6,null,{"$f":"COUNTIF(C50:C154,6)","v":0},0,0,0,0,0,0,0,0,0,0,0,null,null,0,0,0,0,{"$error":"#NUM!"},{"$error":"#NUM!"},{"$error":"#NUM!"},{"$error":"#NUM!"},null,0,{"$error":"#NUM!"},null,"6 ",null,0,0,0,0,{"$error":"#NUM!"},{"$error":"#NUM!"},{"$error":"#NUM!"},{"$error":"#NUM!"},null,{"$error":"#NUM!"},{"$error":"#NUM!"},{"$error":"#NUM!"},{"$error":"#NUM!"},{"$error":"#NUM!"},0,0,null,{"$f":"STANDARDIZE(C9,C41,C42)","v":{"$error":"#NUM!"}},{"$f":"STANDARDIZE(D9,D41,D42)","v":{"$error":"#NUM!"}},0,0,{"$f":"STANDARDIZE(AX9,AX41,AX42)","v":{"$error":"#NUM!"}},{"$f":"STANDARDIZE(AY9,AY41,AY42)","v":{"$error":"#NUM!"}},null,{"$f":"STANDARDIZE(C9,C41,C42)","v":{"$error":"#NUM!"}},{"$error":"#NUM!"},{"$error":"#NUM!"},{"$error":"#NUM!"},{"$error":"#NUM!"},{"$error":"#NUM!"},{"$error":"#NUM!"},{"$error":"#NUM!"},{"$error":"#NUM!"},{"$error":"#NUM!"},{"$error":"#NUM!"},{"$error":"#NUM!"},null,0,{"$f":"STANDARDIZE(BP9,BP41,BP42)","v":{"$error":"#NUM!"}},0,{"$f":"STANDARDIZE(BR9,BR41,BR42)","v":{"$error":"#NUM!"}},null,0,{"$f":"STANDARDIZE(BU9,BU41,BU42)","v":{"$error":"#NUM!"}},null,0,{"$f":"STANDARDIZE(BX9,BX41,BX42)","v":{"$error":"#NUM!"}},null,{"$error":"#NUM!"},{"$error":"#NUM!"},{"$error":"#NUM!"},{"$error":"#NUM!"},{"$error":"#NUM!"},{"$error":"#NUM!"},{"$error":"#NUM!"},{"$error":"#NUM!"},{"$error":"#NUM!"},{"$error":"#NUM!"},{"$error":"#NUM!"},{"$error":"#NUM!"},{"$error":"#NUM!"},{"$error":"#NUM!"},{"$error":"#NUM!"},{"$error":"#NUM!"},{"$error":"#NUM!"},{"$error":"#NUM!"},{"$error":"#NUM!"},{"$error":"#NUM!"},{"$error":"#NUM!"}]
[7,null,{"$f":"COUNTIF(C50:C154,7)","v":0},0,0,0,0,0,0,0,0,0,0,0,null,null,0,0,0,0,{"$error":"#NUM!"},{"$error":"#NUM!"},{"$error":"#NUM!"},{"$error":"#NUM!"},null,0,{"$error":"#NUM!"},null,"7 ",null,0,0,0,0,{"$error":"#NUM!"},{"$error":"#NUM!"},{"$error":"#NUM!"},{"$error":"#NUM!"},null,{"$error":"#NUM!"},{"$error":"#NUM!"},{"$error":"#NUM!"},{"$error":"#NUM!"},{"$error":"#NUM!"},0,0,null,{"$f":"STANDARDIZE(C10,C41,C42)","v":{"$error":"#NUM!"}},{"$f":"STANDARDIZE(D10,D41,D42)","v":{"$error":"#NUM!"}},0,0,{"$f":"STANDARDIZE(AX10,AX41,AX42)","v":{"$error":"#NUM!"}},{"$f":"STANDARDIZE(AY10,AY41,AY42)","v":{"$error":"#NUM!"}},null,{"$f":"STANDARDIZE(C10,C41,C42)","v":{"$error":"#NUM!"}},{"$error":"#NUM!"},{"$error":"#NUM!"},{"$error":"#NUM!"},{"$error":"#NUM!"},{"$error":"#NUM!"},{"$error":"#NUM!"},{"$error":"#NUM!"},{"$error":"#NUM!"},{"$error":"#NUM!"},{"$error":"#NUM!"},{"$error":"#NUM!"},null,0,{"$f":"STANDARDIZE(BP10,BP41,BP42)","v":{"$error":"#NUM!"}},0,{"$f":"STANDARDIZE(BR10,BR41,BR42)","v":{"$error":"#NUM!"}},null,0,{"$f":"STANDARDIZE(BU10,BU41,BU42)","v":{"$error":"#NUM!"}},null,0,{"$f":"STANDARDIZE(BX10,BX41,BX42)","v":{"$error":"#NUM!"}},null,{"$error":"#NUM!"},{"$error":"#NUM!"},{"$error":"#NUM!"},{"$error":"#NUM!"},{"$error":"#NUM!"},{"$error":"#NUM!"},{"$error":"#NUM!"},{"$error":"#NUM!"},{"$error":"#NUM!"},{"$error":"#NUM!"},{"$error":"#NUM!"},{"$error":"#NUM!"},{"$error":"#NUM!"},{"$error":"#NUM!"},{"$error":"#NUM!"},{"$error":"#NUM!"},{"$error":"#NUM!"},{"$error":"#NUM!"},{"$error":"#NUM!"},{"$error":"#NUM!"},{"$error":"#NUM!"}]
[8,null,{"$f":"COUNTIF(C50:C154,8)","v":0},0,0,0,0,0,0,0,0,0,0,0,null,null,0,0,0,0,{"$error":"#NUM!"},{"$error":"#NUM!"},{"$error":"#NUM!"},{"$error":"#NUM!"},null,0,{"$error":"#NUM!"},null,"8 ",null,0,0,0,0,{"$error":"#NUM!"},{"$error":"#NUM!"},{"$error":"#NUM!"},{"$error":"#NUM!"},null,{"$error":"#NUM!"},{"$error":"#NUM!"},{"$error":"#NUM!"},{"$error":"#NUM!"},{"$error":"#NUM!"},0,0,null,{"$f":"STANDARDIZE(C11,C41,C42)","v":{"$error":"#NUM!"}},{"$f":"STANDARDIZE(D11,D41,D42)","v":{"$error":"#NUM!"}},0,0,{"$f":"STANDARDIZE(AX11,AX41,AX42)","v":{"$error":"#NUM!"}},{"$f":"STANDARDIZE(AY11,AY41,AY42)","v":{"$error":"#NUM!"}},null,{"$f":"STANDARDIZE(C11,C41,C42)","v":{"$error":"#NUM!"}},{"$error":"#NUM!"},{"$error":"#NUM!"},{"$error":"#NUM!"},{"$error":"#NUM!"},{"$error":"#NUM!"},{"$error":"#NUM!"},{"$error":"#NUM!"},{"$error":"#NUM!"},{"$error":"#NUM!"},{"$error":"#NUM!"},{"$error":"#NUM!"},null,0,{"$f":"STANDARDIZE(BP11,BP41,BP42)","v":{"$error":"#NUM!"}},0,{"$f":"STANDARDIZE(BR11,BR41,BR42)","v":{"$error":"#NUM!"}},null,0,{"$f":"STANDARDIZE(BU11,BU41,BU42)","v":{"$error":"#NUM!"}},null,0,{"$f":"STANDARDIZE(BX11,BX41,BX42)","v":{"$error":"#NUM!"}},null,{"$error":"#NUM!"},{"$error":"#NUM!"},{"$error":"#NUM!"},{"$error":"#NUM!"},{"$error":"#NUM!"},{"$error":"#NUM!"},{"$error":"#NUM!"},{"$error":"#NUM!"},{"$error":"#NUM!"},{"$error":"#NUM!"},{"$error":"#NUM!"},{"$error":"#NUM!"},{"$error":"#NUM!"},{"$error":"#NUM!"},{"$error":"#NUM!"},{"$error":"#NUM!"},{"$error":"#NUM!"},{"$error":"#NUM!"},{"$error":"#NUM!"},{"$error":"#NUM!"},{"$error":"#NUM!"}]
[9,null,{"$f":"COUNTIF(C50:C154,9)","v":0},0,0,0,0,0,0,0,0,0,0,0,null,null,0,0,0,0,{"$error":"#NUM!"},{"$error":"#NUM!"},{"$error":"#NUM!"},{"$error":"#NUM!"},null,0,{"$error":"#NUM!"},null,"9 ",null,0,0,0,0,{"$error":"#NUM!"},{"$error":"#NUM!"},{"$error":"#NUM!"},{"$error":"#NUM!"},null,{"$error":"#NUM!"},{"$error":"#NUM!"},{"$error":"#NUM!"},{"$error":"#NUM!"},{"$error":"#NUM!"},0,0,null,{"$f":"STANDARDIZE(C12,C41,C42)","v":{"$error":"#NUM!"}},{"$f":"STANDARDIZE(D12,D41,D42)","v":{"$error":"#NUM!"}},0,0,{"$f":"STANDARDIZE(AX12,AX41,AX42)","v":{"$error":"#NUM!"}},{"$f":"STANDARDIZE(AY12,AY41,AY42)","v":{"$error":"#NUM!"}},null,{"$f":"STANDARDIZE(C12,C41,C42)","v":{"$error":"#NUM!"}},{"$error":"#NUM!"},{"$error":"#NUM!"},{"$error":"#NUM!"},{"$error":"#NUM!"},{"$error":"#NUM!"},{"$error":"#NUM!"},{"$error":"#NUM!"},{"$error":"#NUM!"},{"$error":"#NUM!"},{"$error":"#NUM!"},{"$error":"#NUM!"},null,0,{"$f":"STANDARDIZE(BP12,BP41,BP42)","v":{"$error":"#NUM!"}},0,{"$f":"STANDARDIZE(BR12,BR41,BR42)","v":{"$error":"#NUM!"}},null,0,{"$f":"STANDARDIZE(BU12,BU41,BU42)","v":{"$error":"#NUM!"}},null,0,{"$f":"STANDARDIZE(BX12,BX41,BX42)","v":{"$error":"#NUM!"}},null,{"$error":"#NUM!"},{"$error":"#NUM!"},{"$error":"#NUM!"},{"$error":"#NUM!"},{"$error":"#NUM!"},{"$error":"#NUM!"},{"$error":"#NUM!"},{"$error":"#NUM!"},{"$error":"#NUM!"},{"$error":"#NUM!"},{"$error":"#NUM!"},{"$error":"#NUM!"},{"$error":"#NUM!"},{"$error":"#NUM!"},{"$error":"#NUM!"},{"$error":"#NUM!"},{"$error":"#NUM!"},{"$error":"#NUM!"},{"$error":"#NUM!"},{"$error":"#NUM!"},{"$error":"#NUM!"}]
[10,null,{"$f":"COUNTIF(C50:C154,10)","v":0},0,0,0,0,0,0,0,0,0,0,0,null,null,0,0,0,0,{"$error":"#NUM!"},{"$error":"#NUM!"},{"$error":"#NUM!"},{"$error":"#NUM!"},null,0,{"$error":"#NUM!"},null,"10 ",null,0,0,0,0,{"$error":"#NUM!"},{"$error":"#NUM!"},{"$error":"#NUM!"},{"$error":"#NUM!"},null,{"$error":"#NUM!"},{"$error":"#NUM!"},{"$error":"#NUM!"},{"$error":"#NUM!"},{"$error":"#NUM!"},0,0,null,{"$f":"STANDARDIZE(C13,C41,C42)","v":{"$error":"#NUM!"}},{"$f":"STANDARDIZE(D13,D41,D42)","v":{"$error":"#NUM!"}},0,0,{"$f":"STANDARDIZE(AX13,AX41,AX42)","v":{"$error":"#NUM!"}},{"$f":"STANDARDIZE(AY13,AY41,AY42)","v":{"$error":"#NUM!"}},null,{"$f":"STANDARDIZE(C13,C41,C42)","v":{"$error":"#NUM!"}},{"$error":"#NUM!"},{"$error":"#NUM!"},{"$error":"#NUM!"},{"$error":"#NUM!"},{"$error":"#NUM!"},{"$error":"#NUM!"},{"$error":"#NUM!"},{"$error":"#NUM!"},{"$error":"#NUM!"},{"$error":"#NUM!"},{"$error":"#NUM!"},null,0,{"$f":"STANDARDIZE(BP13,BP41,BP42)","v":{"$error":"#NUM!"}},0,{"$f":"STANDARDIZE(BR13,BR41,BR42)","v":{"$error":"#NUM!"}},null,0,{"$f":"STANDARDIZE(BU13,BU41,BU42)","v":{"$error":"#NUM!"}},null,0,{"$f":"STANDARDIZE(BX13,BX41,BX42)","v":{"$error":"#NUM!"}},null,{"$error":"#NUM!"},{"$error":"#NUM!"},{"$error":"#NUM!"},{"$error":"#NUM!"},{"$error":"#NUM!"},{"$error":"#NUM!"},{"$error":"#NUM!"},{"$error":"#NUM!"},{"$error":"#NUM!"},{"$error":"#NUM!"},{"$error":"#NUM!"},{"$error":"#NUM!"},{"$error":"#NUM!"},{"$error":"#NUM!"},{"$error":"#NUM!"},{"$error":"#NUM!"},{"$error":"#NUM!"},{"$error":"#NUM!"},{"$error":"#NUM!"},{"$error":"#NUM!"},{"$error":"#NUM!"}]
[11,null,{"$f":"COUNTIF(C50:C154,11)","v":0},0,0,0,0,0,0,0,0,0,0,0,null,null,0,0,0,0,{"$error":"#NUM!"},{"$error":"#NUM!"},{"$error":"#NUM!"},{"$error":"#NUM!"},null,0,{"$error":"#NUM!"},null,"11 ",null,0,0,0,0,{"$error":"#NUM!"},{"$error":"#NUM!"},{"$error":"#NUM!"},{"$error":"#NUM!"},null,{"$error":"#NUM!"},{"$error":"#NUM!"},{"$error":"#NUM!"},{"$error":"#NUM!"},{"$error":"#NUM!"},0,0,null,{"$f":"STANDARDIZE(C14,C41,C42)","v":{"$error":"#NUM!"}},{"$f":"STANDARDIZE(D14,D41,D42)","v":{"$error":"#NUM!"}},0,0,{"$f":"STANDARDIZE(AX14,AX41,AX42)","v":{"$error":"#NUM!"}},{"$f":"STANDARDIZE(AY14,AY41,AY42)","v":{"$error":"#NUM!"}},null,{"$f":"STANDARDIZE(C14,C41,C42)","v":{"$error":"#NUM!"}},{"$error":"#NUM!"},{"$error":"#NUM!"},{"$error":"#NUM!"},{"$error":"#NUM!"},{"$error":"#NUM!"},{"$error":"#NUM!"},{"$error":"#NUM!"},{"$error":"#NUM!"},{"$error":"#NUM!"},{"$error":"#NUM!"},{"$error":"#NUM!"},null,0,{"$f":"STANDARDIZE(BP14,BP41,BP42)","v":{"$error":"#NUM!"}},0,{"$f":"STANDARDIZE(BR14,BR41,BR42)","v":{"$error":"#NUM!"}},null,0,{"$f":"STANDARDIZE(BU14,BU41,BU42)","v":{"$error":"#NUM!"}},null,0,{"$f":"STANDARDIZE(BX14,BX41,BX42)","v":{"$error":"#NUM!"}},null,{"$error":"#NUM!"},{"$error":"#NUM!"},{"$error":"#NUM!"},{"$error":"#NUM!"},{"$error":"#NUM!"},{"$error":"#NUM!"},{"$error":"#NUM!"},{"$error":"#NUM!"},{"$error":"#NUM!"},{"$error":"#NUM!"},{"$error":"#NUM!"},{"$error":"#NUM!"},{"$error":"#NUM!"},{"$error":"#NUM!"},{"$error":"#NUM!"},{"$error":"#NUM!"},{"$error":"#NUM!"},{"$error":"#NUM!"},{"$error":"#NUM!"},{"$error":"#NUM!"},{"$error":"#NUM!"}]
[12,null,{"$f":"COUNTIF(C50:C154,12)","v":0},0,0,0,0,0,0,0,0,0,0,0,null,null,0,0,0,0,{"$error":"#NUM!"},{"$error":"#NUM!"},{"$error":"#NUM!"},{"$error":"#NUM!"},null,0,{"$error":"#NUM!"},null,"12 ",null,0,0,0,0,{"$error":"#NUM!"},{"$error":"#NUM!"},{"$error":"#NUM!"},{"$error":"#NUM!"},null,{"$error":"#NUM!"},{"$error":"#NUM!"},{"$error":"#NUM!"},{"$error":"#NUM!"},{"$error":"#NUM!"},0,0,null,{"$f":"STANDARDIZE(C15,C41,C42)","v":{"$error":"#NUM!"}},{"$f":"STANDARDIZE(D15,D41,D42)","v":{"$error":"#NUM!"}},0,0,{"$f":"STANDARDIZE(AX15,AX41,AX42)","v":{"$error":"#NUM!"}},{"$f":"STANDARDIZE(AY15,AY41,AY42)","v":{"$error":"#NUM!"}},null,{"$f":"STANDARDIZE(C15,C41,C42)","v":{"$error":"#NUM!"}},{"$error":"#NUM!"},{"$error":"#NUM!"},{"$error":"#NUM!"},{"$error":"#NUM!"},{"$error":"#NUM!"},{"$error":"#NUM!"},{"$error":"#NUM!"},{"$error":"#NUM!"},{"$error":"#NUM!"},{"$error":"#NUM!"},{"$error":"#NUM!"},null,0,{"$f":"STANDARDIZE(BP15,BP41,BP42)","v":{"$error":"#NUM!"}},0,{"$f":"STANDARDIZE(BR15,BR41,BR42)","v":{"$error":"#NUM!"}},null,0,{"$f":"STANDARDIZE(BU15,BU41,BU42)","v":{"$error":"#NUM!"}},null,0,{"$f":"STANDARDIZE(BX15,BX41,BX42)","v":{"$error":"#NUM!"}},null,{"$error":"#NUM!"},{"$error":"#NUM!"},{"$error":"#NUM!"},{"$error":"#NUM!"},{"$error":"#NUM!"},{"$error":"#NUM!"},{"$error":"#NUM!"},{"$error":"#NUM!"},{"$error":"#NUM!"},{"$error":"#NUM!"},{"$error":"#NUM!"},{"$error":"#NUM!"},{"$error":"#NUM!"},{"$error":"#NUM!"},{"$error":"#NUM!"},{"$error":"#NUM!"},{"$error":"#NUM!"},{"$error":"#NUM!"},{"$error":"#NUM!"},{"$error":"#NUM!"},{"$error":"#NUM!"}]
[13,null,{"$f":"COUNTIF(C50:C154,13)","v":0},0,0,0,0,0,0,0,0,0,0,0,null,null,0,0,0,0,{"$error":"#NUM!"},{"$error":"#NUM!"},{"$error":"#NUM!"},{"$error":"#NUM!"},null,0,{"$error":"#NUM!"},null,"13 ",null,0,0,0,0,{"$error":"#NUM!"},{"$error":"#NUM!"},{"$error":"#NUM!"},{"$error":"#NUM!"},null,{"$error":"#NUM!"},{"$error":"#NUM!"},{"$error":"#NUM!"},{"$error":"#NUM!"},{"$error":"#NUM!"},0,0,null,{"$f":"STANDARDIZE(C16,C41,C42)","v":{"$error":"#NUM!"}},{"$f":"STANDARDIZE(D16,D41,D42)","v":{"$error":"#NUM!"}},0,0,{"$f":"STANDARDIZE(AX16,AX41,AX42)","v":{"$error":"#NUM!"}},{"$f":"STANDARDIZE(AY16,AY41,AY42)","v":{"$error":"#NUM!"}},null,{"$f":"STANDARDIZE(C16,C41,C42)","v":{"$error":"#NUM!"}},{"$error":"#NUM!"},{"$error":"#NUM!"},{"$error":"#NUM!"},{"$error":"#NUM!"},{"$error":"#NUM!"},{"$error":"#NUM!"},{"$error":"#NUM!"},{"$error":"#NUM!"},{"$error":"#NUM!"},{"$error":"#NUM!"},{"$error":"#NUM!"},null,0,{"$f":"STANDARDIZE(BP16,BP41,BP42)","v":{"$error":"#NUM!"}},0,{"$f":"STANDARDIZE(BR16,BR41,BR42)","v":{"$error":"#NUM!"}},null,0,{"$f":"STANDARDIZE(BU16,BU41,BU42)","v":{"$error":"#NUM!"}},null,0,{"$f":"STANDARDIZE(BX16,BX41,BX42)","v":{"$error":"#NUM!"}},null,{"$error":"#NUM!"},{"$error":"#NUM!"},{"$error":"#NUM!"},{"$error":"#NUM!"},{"$error":"#NUM!"},{"$error":"#NUM!"},{"$error":"#NUM!"},{"$error":"#NUM!"},{"$error":"#NUM!"},{"$error":"#NUM!"},{"$error":"#NUM!"},{"$error":"#NUM!"},{"$error":"#NUM!"},{"$error":"#NUM!"},{"$error":"#NUM!"},{"$error":"#NUM!"},{"$error":"#NUM!"},{"$error":"#NUM!"},{"$error":"#NUM!"},{"$error":"#NUM!"},{"$error":"#NUM!"}]
[14,null,{"$f":"COUNTIF(C50:C154,14)","v":0},0,0,0,0,0,0,0,0,0,0,0,null,null,0,0,0,0,{"$error":"#NUM!"},{"$error":"#NUM!"},{"$error":"#NUM!"},{"$error":"#NUM!"},null,0,{"$error":"#NUM!"},null,"14 ",null,0,0,0,0,{"$error":"#NUM!"},{"$error":"#NUM!"},{"$error":"#NUM!"},{"$error":"#NUM!"},null,{"$error":"#NUM!"},{"$error":"#NUM!"},{"$error":"#NUM!"},{"$error":"#NUM!"},{"$error":"#NUM!"},0,0,null,{"$f":"STANDARDIZE(C17,C41,C42)","v":{"$error":"#NUM!"}},{"$f":"STANDARDIZE(D17,D41,D42)","v":{"$error":"#NUM!"}},0,0,{"$f":"STANDARDIZE(AX17,AX41,AX42)","v":{"$error":"#NUM!"}},{"$f":"STANDARDIZE(AY17,AY41,AY42)","v":{"$error":"#NUM!"}},null,{"$f":"STANDARDIZE(C17,C41,C42)","v":{"$error":"#NUM!"}},{"$error":"#NUM!"},{"$error":"#NUM!"},{"$error":"#NUM!"},{"$error":"#NUM!"},{"$error":"#NUM!"},{"$error":"#NUM!"},{"$error":"#NUM!"},{"$error":"#NUM!"},{"$error":"#NUM!"},{"$error":"#NUM!"},{"$error":"#NUM!"},null,0,{"$f":"STANDARDIZE(BP17,BP41,BP42)","v":{"$error":"#NUM!"}},0,{"$f":"STANDARDIZE(BR17,BR41,BR42)","v":{"$error":"#NUM!"}},null,0,{"$f":"STANDARDIZE(BU17,BU41,BU42)","v":{"$error":"#NUM!"}},null,0,{"$f":"STANDARDIZE(BX17,BX41,BX42)","v":{"$error":"#NUM!"}},null,{"$error":"#NUM!"},{"$error":"#NUM!"},{"$error":"#NUM!"},{"$error":"#NUM!"},{"$error":"#NUM!"},{"$error":"#NUM!"},{"$error":"#NUM!"},{"$error":"#NUM!"},{"$error":"#NUM!"},{"$error":"#NUM!"},{"$error":"#NUM!"},{"$error":"#NUM!"},{"$error":"#NUM!"},{"$error":"#NUM!"},{"$error":"#NUM!"},{"$error":"#NUM!"},{"$error":"#NUM!"},{"$error":"#NUM!"},{"$error":"#NUM!"},{"$error":"#NUM!"},{"$error":"#NUM!"}]
[15,null,{"$f":"COUNTIF(C50:C154,15)","v":0},0,0,0,0,0,0,0,0,0,0,0,null,null,0,0,0,0,{"$error":"#NUM!"},{"$error":"#NUM!"},{"$error":"#NUM!"},{"$error":"#NUM!"},null,0,{"$error":"#NUM!"},null,"15 ",null,0,0,0,0,{"$error":"#NUM!"},{"$error":"#NUM!"},{"$error":"#NUM!"},{"$error":"#NUM!"},null,{"$error":"#NUM!"},{"$error":"#NUM!"},{"$error":"#NUM!"},{"$error":"#NUM!"},{"$error":"#NUM!"},0,0,null,{"$f":"STANDARDIZE(C18,C41,C42)","v":{"$error":"#NUM!"}},{"$f":"STANDARDIZE(D18,D41,D42)","v":{"$error":"#NUM!"}},0,0,{"$f":"STANDARDIZE(AX18,AX41,AX42)","v":{"$error":"#NUM!"}},{"$f":"STANDARDIZE(AY18,AY41,AY42)","v":{"$error":"#NUM!"}},null,{"$f":"STANDARDIZE(C18,C41,C42)","v":{"$error":"#NUM!"}},{"$error":"#NUM!"},{"$error":"#NUM!"},{"$error":"#NUM!"},{"$error":"#NUM!"},{"$error":"#NUM!"},{"$error":"#NUM!"},{"$error":"#NUM!"},{"$error":"#NUM!"},{"$error":"#NUM!"},{"$error":"#NUM!"},{"$error":"#NUM!"},null,0,{"$f":"STANDARDIZE(BP18,BP41,BP42)","v":{"$error":"#NUM!"}},0,{"$f":"STANDARDIZE(BR18,BR41,BR42)","v":{"$error":"#NUM!"}},null,0,{"$f":"STANDARDIZE(BU18,BU41,BU42)","v":{"$error":"#NUM!"}},null,0,{"$f":"STANDARDIZE(BX18,BX41,BX42)","v":{"$error":"#NUM!"}},null,{"$error":"#NUM!"},{"$error":"#NUM!"},{"$error":"#NUM!"},{"$error":"#NUM!"},{"$error":"#NUM!"},{"$error":"#NUM!"},{"$error":"#NUM!"},{"$error":"#NUM!"},{"$error":"#NUM!"},{"$error":"#NUM!"},{"$error":"#NUM!"},{"$error":"#NUM!"},{"$error":"#NUM!"},{"$error":"#NUM!"},{"$error":"#NUM!"},{"$error":"#NUM!"},{"$error":"#NUM!"},{"$error":"#NUM!"},{"$error":"#NUM!"},{"$error":"#NUM!"},{"$error":"#NUM!"}]
[16,null,{"$f":"COUNTIF(C50:C154,16)","v":0},0,0,0,0,0,0,0,0,0,0,0,null,null,0,0,0,0,{"$error":"#NUM!"},{"$error":"#NUM!"},{"$error":"#NUM!"},{"$error":"#NUM!"},null,0,{"$error":"#NUM!"},null,"16 ",null,0,0,0,0,{"$error":"#NUM!"},{"$error":"#NUM!"},{"$error":"#NUM!"},{"$error":"#NUM!"},null,{"$error":"#NUM!"},{"$error":"#NUM!"},{"$error":"#NUM!"},{"$error":"#NUM!"},{"$error":"#NUM!"},0,0,null,{"$f":"STANDARDIZE(C19,C41,C42)","v":{"$error":"#NUM!"}},{"$f":"STANDARDIZE(D19,D41,D42)","v":{"$error":"#NUM!"}},0,0,{"$f":"STANDARDIZE(AX19,AX41,AX42)","v":{"$error":"#NUM!"}},{"$f":"STANDARDIZE(AY19,AY41,AY42)","v":{"$error":"#NUM!"}},null,{"$f":"STANDARDIZE(C19,C41,C42)","v":{"$error":"#NUM!"}},{"$error":"#NUM!"},{"$error":"#NUM!"},{"$error":"#NUM!"},{"$error":"#NUM!"},{"$error":"#NUM!"},{"$error":"#NUM!"},{"$error":"#NUM!"},{"$error":"#NUM!"},{"$error":"#NUM!"},{"$error":"#NUM!"},{"$error":"#NUM!"},null,0,{"$f":"STANDARDIZE(BP19,BP41,BP42)","v":{"$error":"#NUM!"}},0,{"$f":"STANDARDIZE(BR19,BR41,BR42)","v":{"$error":"#NUM!"}},null,0,{"$f":"STANDARDIZE(BU19,BU41,BU42)","v":{"$error":"#NUM!"}},null,0,{"$f":"STANDARDIZE(BX19,BX41,BX42)","v":{"$error":"#NUM!"}},null,{"$error":"#NUM!"},{"$error":"#NUM!"},{"$error":"#NUM!"},{"$error":"#NUM!"},{"$error":"#NUM!"},{"$error":"#NUM!"},{"$error":"#NUM!"},{"$error":"#NUM!"},{"$error":"#NUM!"},{"$error":"#NUM!"},{"$error":"#NUM!"},{"$error":"#NUM!"},{"$error":"#NUM!"},{"$error":"#NUM!"},{"$error":"#NUM!"},{"$error":"#NUM!"},{"$error":"#NUM!"},{"$error":"#NUM!"},{"$error":"#NUM!"},{"$error":"#NUM!"},{"$error":"#NUM!"}]
[17,null,{"$f":"COUNTIF(C50:C154,17)","v":0},0,0,0,0,0,0,0,0,0,0,0,null,null,0,0,0,0,{"$error":"#NUM!"},{"$error":"#NUM!"},{"$error":"#NUM!"},{"$error":"#NUM!"},null,0,{"$error":"#NUM!"},null,"17 ",null,0,0,0,0,{"$error":"#NUM!"},{"$error":"#NUM!"},{"$error":"#NUM!"},{"$error":"#NUM!"},null,{"$error":"#NUM!"},{"$error":"#NUM!"},{"$error":"#NUM!"},{"$error":"#NUM!"},{"$error":"#NUM!"},0,0,null,{"$f":"STANDARDIZE(C20,C41,C42)","v":{"$error":"#NUM!"}},{"$f":"STANDARDIZE(D20,D41,D42)","v":{"$error":"#NUM!"}},0,0,{"$f":"STANDARDIZE(AX20,AX41,AX42)","v":{"$error":"#NUM!"}},{"$f":"STANDARDIZE(AY20,AY41,AY42)","v":{"$error":"#NUM!"}},null,{"$f":"STANDARDIZE(C20,C41,C42)","v":{"$error":"#NUM!"}},{"$error":"#NUM!"},{"$error":"#NUM!"},{"$error":"#NUM!"},{"$error":"#NUM!"},{"$error":"#NUM!"},{"$error":"#NUM!"},{"$error":"#NUM!"},{"$error":"#NUM!"},{"$error":"#NUM!"},{"$error":"#NUM!"},{"$error":"#NUM!"},null,0,{"$f":"STANDARDIZE(BP20,BP41,BP42)","v":{"$error":"#NUM!"}},0,{"$f":"STANDARDIZE(BR20,BR41,BR42)","v":{"$error":"#NUM!"}},null,0,{"$f":"STANDARDIZE(BU20,BU41,BU42)","v":{"$error":"#NUM!"}},null,0,{"$f":"STANDARDIZE(BX20,BX41,BX42)","v":{"$error":"#NUM!"}},null,{"$error":"#NUM!"},{"$error":"#NUM!"},{"$error":"#NUM!"},{"$error":"#NUM!"},{"$error":"#NUM!"},{"$error":"#NUM!"},{"$error":"#NUM!"},{"$error":"#NUM!"},{"$error":"#NUM!"},{"$error":"#NUM!"},{"$error":"#NUM!"},{"$error":"#NUM!"},{"$error":"#NUM!"},{"$error":"#NUM!"},{"$error":"#NUM!"},{"$error":"#NUM!"},{"$error":"#NUM!"},{"$error":"#NUM!"},{"$error":"#NUM!"},{"$error":"#NUM!"},{"$error":"#NUM!"}]
[18,null,{"$f":"COUNTIF(C50:C154,18)","v":0},0,0,0,0,0,0,0,0,0,0,0,null,null,0,0,0,0,{"$error":"#NUM!"},{"$error":"#NUM!"},{"$error":"#NUM!"},{"$error":"#NUM!"},null,0,{"$error":"#NUM!"},null,"18 ",null,0,0,0,0,{"$error":"#NUM!"},{"$error":"#NUM!"},{"$error":"#NUM!"},{"$error":"#NUM!"},null,{"$error":"#NUM!"},{"$error":"#NUM!"},{"$error":"#NUM!"},{"$error":"#NUM!"},{"$error":"#NUM!"},0,0,null,{"$f":"STANDARDIZE(C21,C41,C42)","v":{"$error":"#NUM!"}},{"$f":"STANDARDIZE(D21,D41,D42)","v":{"$error":"#NUM!"}},0,0,{"$f":"STANDARDIZE(AX21,AX41,AX42)","v":{"$error":"#NUM!"}},{"$f":"STANDARDIZE(AY21,AY41,AY42)","v":{"$error":"#NUM!"}},null,{"$f":"STANDARDIZE(C21,C41,C42)","v":{"$error":"#NUM!"}},{"$error":"#NUM!"},{"$error":"#NUM!"},{"$error":"#NUM!"},{"$error":"#NUM!"},{"$error":"#NUM!"},{"$error":"#NUM!"},{"$error":"#NUM!"},{"$error":"#NUM!"},{"$error":"#NUM!"},{"$error":"#NUM!"},{"$error":"#NUM!"},null,0,{"$f":"STANDARDIZE(BP21,BP41,BP42)","v":{"$error":"#NUM!"}},0,{"$f":"STANDARDIZE(BR21,BR41,BR42)","v":{"$error":"#NUM!"}},null,0,{"$f":"STANDARDIZE(BU21,BU41,BU42)","v":{"$error":"#NUM!"}},null,0,{"$f":"STANDARDIZE(BX21,BX41,BX42)","v":{"$error":"#NUM!"}},null,{"$error":"#NUM!"},{"$error":"#NUM!"},{"$error":"#NUM!"},{"$error":"#NUM!"},{"$error":"#NUM!"},{"$error":"#NUM!"},{"$error":"#NUM!"},{"$error":"#NUM!"},{"$error":"#NUM!"},{"$error":"#NUM!"},{"$error":"#NUM!"},{"$error":"#NUM!"},{"$error":"#NUM!"},{"$error":"#NUM!"},{"$error":"#NUM!"},{"$error":"#NUM!"},{"$error":"#NUM!"},{"$error":"#NUM!"},{"$error":"#NUM!"},{"$error":"#NUM!"},{"$error":"#NUM!"}]
[19,null,{"$f":"COUNTIF(C50:C154,19)","v":0},0,0,0,0,0,0,0,0,0,0,0,null,null,0,0,0,0,{"$error":"#NUM!"},{"$error":"#NUM!"},{"$error":"#NUM!"},{"$error":"#NUM!"},null,0,{"$error":"#NUM!"},null,"19 ",null,0,0,0,0,{"$error":"#NUM!"},{"$error":"#NUM!"},{"$error":"#NUM!"},{"$error":"#NUM!"},null,{"$error":"#NUM!"},{"$error":"#NUM!"},{"$error":"#NUM!"},{"$error":"#NUM!"},{"$error":"#NUM!"},0,0,null,{"$f":"STANDARDIZE(C22,C41,C42)","v":{"$error":"#NUM!"}},{"$f":"STANDARDIZE(D22,D41,D42)","v":{"$error":"#NUM!"}},0,0,{"$f":"STANDARDIZE(AX22,AX41,AX42)","v":{"$error":"#NUM!"}},{"$f":"STANDARDIZE(AY22,AY41,AY42)","v":{"$error":"#NUM!"}},null,{"$f":"STANDARDIZE(C22,C41,C42)","v":{"$error":"#NUM!"}},{"$error":"#NUM!"},{"$error":"#NUM!"},{"$error":"#NUM!"},{"$error":"#NUM!"},{"$error":"#NUM!"},{"$error":"#NUM!"},{"$error":"#NUM!"},{"$error":"#NUM!"},{"$error":"#NUM!"},{"$error":"#NUM!"},{"$error":"#NUM!"},null,0,{"$f":"STANDARDIZE(BP22,BP41,BP42)","v":{"$error":"#NUM!"}},0,{"$f":"STANDARDIZE(BR22,BR41,BR42)","v":{"$error":"#NUM!"}},null,0,{"$f":"STANDARDIZE(BU22,BU41,BU42)","v":{"$error":"#NUM!"}},null,0,{"$f":"STANDARDIZE(BX22,BX41,BX42)","v":{"$error":"#NUM!"}},null,{"$error":"#NUM!"},{"$error":"#NUM!"},{"$error":"#NUM!"},{"$error":"#NUM!"},{"$error":"#NUM!"},{"$error":"#NUM!"},{"$error":"#NUM!"},{"$error":"#NUM!"},{"$error":"#NUM!"},{"$error":"#NUM!"},{"$error":"#NUM!"},{"$error":"#NUM!"},{"$error":"#NUM!"},{"$error":"#NUM!"},{"$error":"#NUM!"},{"$error":"#NUM!"},{"$error":"#NUM!"},{"$error":"#NUM!"},{"$error":"#NUM!"},{"$error":"#NUM!"},{"$error":"#NUM!"}]
[20,null,{"$f":"COUNTIF(C50:C154,20)","v":0},0,0,0,0,0,0,0,0,0,0,0,null,null,0,0,0,0,{"$error":"#NUM!"},{"$error":"#NUM!"},{"$error":"#NUM!"},{"$error":"#NUM!"},null,0,{"$error":"#NUM!"},null,"20 ",null,0,0,0,0,{"$error":"#NUM!"},{"$error":"#NUM!"},{"$error":"#NUM!"},{"$error":"#NUM!"},null,{"$error":"#NUM!"},{"$error":"#NUM!"},{"$error":"#NUM!"},{"$error":"#NUM!"},{"$error":"#NUM!"},0,0,null,{"$f":"STANDARDIZE(C23,C41,C42)","v":{"$error":"#NUM!"}},{"$f":"STANDARDIZE(D23,D41,D42)","v":{"$error":"#NUM!"}},0,0,{"$f":"STANDARDIZE(AX23,AX41,AX42)","v":{"$error":"#NUM!"}},{"$f":"STANDARDIZE(AY23,AY41,AY42)","v":{"$error":"#NUM!"}},null,{"$f":"STANDARDIZE(C23,C41,C42)","v":{"$error":"#NUM!"}},{"$error":"#NUM!"},{"$error":"#NUM!"},{"$error":"#NUM!"},{"$error":"#NUM!"},{"$error":"#NUM!"},{"$error":"#NUM!"},{"$error":"#NUM!"},{"$error":"#NUM!"},{"$error":"#NUM!"},{"$error":"#NUM!"},{"$error":"#NUM!"},null,0,{"$f":"STANDARDIZE(BP23,BP41,BP42)","v":{"$error":"#NUM!"}},0,{"$f":"STANDARDIZE(BR23,BR41,BR42)","v":{"$error":"#NUM!"}},null,0,{"$f":"STANDARDIZE(BU23,BU41,BU42)","v":{"$error":"#NUM!"}},null,0,{"$f":"STANDARDIZE(BX23,BX41,BX42)","v":{"$error":"#NUM!"}},null,{"$error":"#NUM!"},{"$error":"#NUM!"},{"$error":"#NUM!"},{"$error":"#NUM!"},{"$error":"#NUM!"},{"$error":"#NUM!"},{"$error":"#NUM!"},{"$error":"#NUM!"},{"$error":"#NUM!"},{"$error":"#NUM!"},{"$error":"#NUM!"},{"$error":"#NUM!"},{"$error":"#NUM!"},{"$error":"#NUM!"},{"$error":"#NUM!"},{"$error":"#NUM!"},{"$error":"#NUM!"},{"$error":"#NUM!"},{"$error":"#NUM!"},{"$error":"#NUM!"},{"$error":"#NUM!"}]
[21,null,{"$f":"COUNTIF(C50:C154,21)","v":0},0,0,0,0,0,0,0,0,0,0,0,null,null,0,0,0,0,{"$error":"#NUM!"},{"$error":"#NUM!"},{"$error":"#NUM!"},{"$error":"#NUM!"},null,0,{"$error":"#NUM!"},null,"21 ",null,0,0,0,0,{"$error":"#NUM!"},{"$error":"#NUM!"},{"$error":"#NUM!"},{"$error":"#NUM!"},null,{"$error":"#NUM!"},{"$error":"#NUM!"},{"$error":"#NUM!"},{"$error":"#NUM!"},{"$error":"#NUM!"},0,0,null,{"$f":"STANDARDIZE(C24,C41,C42)","v":{"$error":"#NUM!"}},{"$f":"STANDARDIZE(D24,D41,D42)","v":{"$error":"#NUM!"}},0,0,{"$f":"STANDARDIZE(AX24,AX41,AX42)","v":{"$error":"#NUM!"}},{"$f":"STANDARDIZE(AY24,AY41,AY42)","v":{"$error":"#NUM!"}},null,{"$f":"STANDARDIZE(C24,C41,C42)","v":{"$error":"#NUM!"}},{"$error":"#NUM!"},{"$error":"#NUM!"},{"$error":"#NUM!"},{"$error":"#NUM!"},{"$error":"#NUM!"},{"$error":"#NUM!"},{"$error":"#NUM!"},{"$error":"#NUM!"},{"$error":"#NUM!"},{"$error":"#NUM!"},{"$error":"#NUM!"},null,0,{"$f":"STANDARDIZE(BP24,BP41,BP42)","v":{"$error":"#NUM!"}},0,{"$f":"STANDARDIZE(BR24,BR41,BR42)","v":{"$error":"#NUM!"}},null,0,{"$f":"STANDARDIZE(BU24,BU41,BU42)","v":{"$error":"#NUM!"}},null,0,{"$f":"STANDARDIZE(BX24,BX41,BX42)","v":{"$error":"#NUM!"}},null,{"$error":"#NUM!"},{"$error":"#NUM!"},{"$error":"#NUM!"},{"$error":"#NUM!"},{"$error":"#NUM!"},{"$error":"#NUM!"},{"$error":"#NUM!"},{"$error":"#NUM!"},{"$error":"#NUM!"},{"$error":"#NUM!"},{"$error":"#NUM!"},{"$error":"#NUM!"},{"$error":"#NUM!"},{"$error":"#NUM!"},{"$error":"#NUM!"},{"$error":"#NUM!"},{"$error":"#NUM!"},{"$error":"#NUM!"},{"$error":"#NUM!"},{"$error":"#NUM!"},{"$error":"#NUM!"}]
[22,null,{"$f":"COUNTIF(C50:C154,22)","v":0},0,0,0,0,0,0,0,0,0,0,0,null,null,0,0,0,0,{"$error":"#NUM!"},{"$error":"#NUM!"},{"$error":"#NUM!"},{"$error":"#NUM!"},null,0,{"$error":"#NUM!"},null,"22 ",null,0,0,0,0,{"$error":"#NUM!"},{"$error":"#NUM!"},{"$error":"#NUM!"},{"$error":"#NUM!"},null,{"$error":"#NUM!"},{"$error":"#NUM!"},{"$error":"#NUM!"},{"$error":"#NUM!"},{"$error":"#NUM!"},0,0,null,{"$f":"STANDARDIZE(C25,C41,C42)","v":{"$error":"#NUM!"}},{"$f":"STANDARDIZE(D25,D41,D42)","v":{"$error":"#NUM!"}},0,0,{"$f":"STANDARDIZE(AX25,AX41,AX42)","v":{"$error":"#NUM!"}},{"$f":"STANDARDIZE(AY25,AY41,AY42)","v":{"$error":"#NUM!"}},null,{"$f":"STANDARDIZE(C25,C41,C42)","v":{"$error":"#NUM!"}},{"$error":"#NUM!"},{"$error":"#NUM!"},{"$error":"#NUM!"},{"$error":"#NUM!"},{"$error":"#NUM!"},{"$error":"#NUM!"},{"$error":"#NUM!"},{"$error":"#NUM!"},{"$error":"#NUM!"},{"$error":"#NUM!"},{"$error":"#NUM!"},null,0,{"$f":"STANDARDIZE(BP25,BP41,BP42)","v":{"$error":"#NUM!"}},0,{"$f":"STANDARDIZE(BR25,BR41,BR42)","v":{"$error":"#NUM!"}},null,0,{"$f":"STANDARDIZE(BU25,BU41,BU42)","v":{"$error":"#NUM!"}},null,0,{"$f":"STANDARDIZE(BX25,BX41,BX42)","v":{"$error":"#NUM!"}},null,{"$error":"#NUM!"},{"$error":"#NUM!"},{"$error":"#NUM!"},{"$error":"#NUM!"},{"$error":"#NUM!"},{"$error":"#NUM!"},{"$error":"#NUM!"},{"$error":"#NUM!"},{"$error":"#NUM!"},{"$error":"#NUM!"},{"$error":"#NUM!"},{"$error":"#NUM!"},{"$error":"#NUM!"},{"$error":"#NUM!"},{"$error":"#NUM!"},{"$error":"#NUM!"},{"$error":"#NUM!"},{"$error":"#NUM!"},{"$error":"#NUM!"},{"$error":"#NUM!"},{"$error":"#NUM!"}]
[23,null,{"$f":"COUNTIF(C50:C154,23)","v":0},0,0,0,0,0,0,0,0,0,0,0,null,null,0,0,0,0,{"$error":"#NUM!"},{"$error":"#NUM!"},{"$error":"#NUM!"},{"$error":"#NUM!"},null,0,{"$error":"#NUM!"},null,"23 ",null,0,0,0,0,{"$error":"#NUM!"},{"$error":"#NUM!"},{"$error":"#NUM!"},{"$error":"#NUM!"},null,{"$error":"#NUM!"},{"$error":"#NUM!"},{"$error":"#NUM!"},{"$error":"#NUM!"},{"$error":"#NUM!"},0,0,null,{"$f":"STANDARDIZE(C26,C41,C42)","v":{"$error":"#NUM!"}},{"$f":"STANDARDIZE(D26,D41,D42)","v":{"$error":"#NUM!"}},0,0,{"$f":"STANDARDIZE(AX26,AX41,AX42)","v":{"$error":"#NUM!"}},{"$f":"STANDARDIZE(AY26,AY41,AY42)","v":{"$error":"#NUM!"}},null,{"$f":"STANDARDIZE(C26,C41,C42)","v":{"$error":"#NUM!"}},{"$error":"#NUM!"},{"$error":"#NUM!"},{"$error":"#NUM!"},{"$error":"#NUM!"},{"$error":"#NUM!"},{"$error":"#NUM!"},{"$error":"#NUM!"},{"$error":"#NUM!"},{"$error":"#NUM!"},{"$error":"#NUM!"},{"$error":"#NUM!"},null,0,{"$f":"STANDARDIZE(BP26,BP41,BP42)","v":{"$error":"#NUM!"}},0,{"$f":"STANDARDIZE(BR26,BR41,BR42)","v":{"$error":"#NUM!"}},null,0,{"$f":"STANDARDIZE(BU26,BU41,BU42)","v":{"$error":"#NUM!"}},null,0,{"$f":"STANDARDIZE(BX26,BX41,BX42)","v":{"$error":"#NUM!"}},null,{"$error":"#NUM!"},{"$error":"#NUM!"},{"$error":"#NUM!"},{"$error":"#NUM!"},{"$error":"#NUM!"},{"$error":"#NUM!"},{"$error":"#NUM!"},{"$error":"#NUM!"},{"$error":"#NUM!"},{"$error":"#NUM!"},{"$error":"#NUM!"},{"$error":"#NUM!"},{"$error":"#NUM!"},{"$error":"#NUM!"},{"$error":"#NUM!"},{"$error":"#NUM!"},{"$error":"#NUM!"},{"$error":"#NUM!"},{"$error":"#NUM!"},{"$error":"#NUM!"},{"$error":"#NUM!"}]
[24,null,{"$f":"COUNTIF(C50:C154,24)","v":0},0,0,0,0,0,0,0,0,0,0,0,null,null,0,0,0,0,{"$error":"#NUM!"},{"$error":"#NUM!"},{"$error":"#NUM!"},{"$error":"#NUM!"},null,0,{"$error":"#NUM!"},null,"24 ",null,0,0,0,0,{"$error":"#NUM!"},{"$error":"#NUM!"},{"$error":"#NUM!"},{"$error":"#NUM!"},null,{"$error":"#NUM!"},{"$error":"#NUM!"},{"$error":"#NUM!"},{"$error":"#NUM!"},{"$error":"#NUM!"},0,0,null,{"$f":"STANDARDIZE(C27,C41,C42)","v":{"$error":"#NUM!"}},{"$f":"STANDARDIZE(D27,D41,D42)","v":{"$error":"#NUM!"}},0,0,{"$f":"STANDARDIZE(AX27,AX41,AX42)","v":{"$error":"#NUM!"}},{"$f":"STANDARDIZE(AY27,AY41,AY42)","v":{"$error":"#NUM!"}},null,{"$f":"STANDARDIZE(C27,C41,C42)","v":{"$error":"#NUM!"}},{"$error":"#NUM!"},{"$error":"#NUM!"},{"$error":"#NUM!"},{"$error":"#NUM!"},{"$error":"#NUM!"},{"$error":"#NUM!"},{"$error":"#NUM!"},{"$error":"#NUM!"},{"$error":"#NUM!"},{"$error":"#NUM!"},{"$error":"#NUM!"},null,0,{"$f":"STANDARDIZE(BP27,BP41,BP42)","v":{"$error":"#NUM!"}},0,{"$f":"STANDARDIZE(BR27,BR41,BR42)","v":{"$error":"#NUM!"}},null,0,{"$f":"STANDARDIZE(BU27,BU41,BU42)","v":{"$error":"#NUM!"}},null,0,{"$f":"STANDARDIZE(BX27,BX41,BX42)","v":{"$error":"#NUM!"}},null,{"$error":"#NUM!"},{"$error":"#NUM!"},{"$error":"#NUM!"},{"$error":"#NUM!"},{"$error":"#NUM!"},{"$error":"#NUM!"},{"$error":"#NUM!"},{"$error":"#NUM!"},{"$error":"#NUM!"},{"$error":"#NUM!"},{"$error":"#NUM!"},{"$error":"#NUM!"},{"$error":"#NUM!"},{"$error":"#NUM!"},{"$error":"#NUM!"},{"$error":"#NUM!"},{"$error":"#NUM!"},{"$error":"#NUM!"},{"$error":"#NUM!"},{"$error":"#NUM!"},{"$error":"#NUM!"}]
[25,null,{"$f":"COUNTIF(C50:C154,25)","v":0},0,0,0,0,0,0,0,0,0,0,0,null,null,0,0,0,0,{"$error":"#NUM!"},{"$error":"#NUM!"},{"$error":"#NUM!"},{"$error":"#NUM!"},null,0,{"$error":"#NUM!"},null,"25 ",null,0,0,0,0,{"$error":"#NUM!"},{"$error":"#NUM!"},{"$error":"#NUM!"},{"$error":"#NUM!"},null,{"$error":"#NUM!"},{"$error":"#NUM!"},{"$error":"#NUM!"},{"$error":"#NUM!"},{"$error":"#NUM!"},0,0,null,{"$f":"STANDARDIZE(C28,C41,C42)","v":{"$error":"#NUM!"}},{"$f":"STANDARDIZE(D28,D41,D42)","v":{"$error":"#NUM!"}},0,0,{"$f":"STANDARDIZE(AX28,AX41,AX42)","v":{"$error":"#NUM!"}},{"$f":"STANDARDIZE(AY28,AY41,AY42)","v":{"$error":"#NUM!"}},null,{"$f":"STANDARDIZE(C28,C41,C42)","v":{"$error":"#NUM!"}},{"$error":"#NUM!"},{"$error":"#NUM!"},{"$error":"#NUM!"},{"$error":"#NUM!"},{"$error":"#NUM!"},{"$error":"#NUM!"},{"$error":"#NUM!"},{"$error":"#NUM!"},{"$error":"#NUM!"},{"$error":"#NUM!"},{"$error":"#NUM!"},null,0,{"$f":"STANDARDIZE(BP28,BP41,BP42)","v":{"$error":"#NUM!"}},0,{"$f":"STANDARDIZE(BR28,BR41,BR42)","v":{"$error":"#NUM!"}},null,0,{"$f":"STANDARDIZE(BU28,BU41,BU42)","v":{"$error":"#NUM!"}},null,0,{"$f":"STANDARDIZE(BX28,BX41,BX42)","v":{"$error":"#NUM!"}},null,{"$error":"#NUM!"},{"$error":"#NUM!"},{"$error":"#NUM!"},{"$error":"#NUM!"},{"$error":"#NUM!"},{"$error":"#NUM!"},{"$error":"#NUM!"},{"$error":"#NUM!"},{"$error":"#NUM!"},{"$error":"#NUM!"},{"$error":"#NUM!"},{"$error":"#NUM!"},{"$error":"#NUM!"},{"$error":"#NUM!"},{"$error":"#NUM!"},{"$error":"#NUM!"},{"$error":"#NUM!"},{"$error":"#NUM!"},{"$error":"#NUM!"},{"$error":"#NUM!"},{"$error":"#NUM!"}]
[26,null,{"$f":"COUNTIF(C50:C154,26)","v":0},0,0,0,0,0,0,0,0,0,0,0,null,null,0,0,0,0,{"$error":"#NUM!"},{"$error":"#NUM!"},{"$error":"#NUM!"},{"$error":"#NUM!"},null,0,{"$error":"#NUM!"},null,"26 ",null,0,0,0,0,{"$error":"#NUM!"},{"$error":"#NUM!"},{"$error":"#NUM!"},{"$error":"#NUM!"},null,{"$error":"#NUM!"},{"$error":"#NUM!"},{"$error":"#NUM!"},{"$error":"#NUM!"},{"$error":"#NUM!"},0,0,null,{"$f":"STANDARDIZE(C29,C41,C42)","v":{"$error":"#NUM!"}},{"$f":"STANDARDIZE(D29,D41,D42)","v":{"$error":"#NUM!"}},0,0,{"$f":"STANDARDIZE(AX29,AX41,AX42)","v":{"$error":"#NUM!"}},{"$f":"STANDARDIZE(AY29,AY41,AY42)","v":{"$error":"#NUM!"}},null,{"$f":"STANDARDIZE(C29,C41,C42)","v":{"$error":"#NUM!"}},{"$error":"#NUM!"},{"$error":"#NUM!"},{"$error":"#NUM!"},{"$error":"#NUM!"},{"$error":"#NUM!"},{"$error":"#NUM!"},{"$error":"#NUM!"},{"$error":"#NUM!"},{"$error":"#NUM!"},{"$error":"#NUM!"},{"$error":"#NUM!"},null,0,{"$f":"STANDARDIZE(BP29,BP41,BP42)","v":{"$error":"#NUM!"}},0,{"$f":"STANDARDIZE(BR29,BR41,BR42)","v":{"$error":"#NUM!"}},null,0,{"$f":"STANDARDIZE(BU29,BU41,BU42)","v":{"$error":"#NUM!"}},null,0,{"$f":"STANDARDIZE(BX29,BX41,BX42)","v":{"$error":"#NUM!"}},null,{"$error":"#NUM!"},{"$error":"#NUM!"},{"$error":"#NUM!"},{"$error":"#NUM!"},{"$error":"#NUM!"},{"$error":"#NUM!"},{"$error":"#NUM!"},{"$error":"#NUM!"},{"$error":"#NUM!"},{"$error":"#NUM!"},{"$error":"#NUM!"},{"$error":"#NUM!"},{"$error":"#NUM!"},{"$error":"#NUM!"},{"$error":"#NUM!"},{"$error":"#NUM!"},{"$error":"#NUM!"},{"$error":"#NUM!"},{"$error":"#NUM!"},{"$error":"#NUM!"},{"$error":"#NUM!"}]
[27,null,{"$f":"COUNTIF(C50:C154,27)","v":0},0,0,0,0,0,0,0,0,0,0,0,null,null,0,0,0,0,{"$error":"#NUM!"},{"$error":"#NUM!"},{"$error":"#NUM!"},{"$error":"#NUM!"},null,0,{"$error":"#NUM!"},null,"27 ",null,0,0,0,0,{"$error":"#NUM!"},{"$error":"#NUM!"},{"$error":"#NUM!"},{"$error":"#NUM!"},null,{"$error":"#NUM!"},{"$error":"#NUM!"},{"$error":"#NUM!"},{"$error":"#NUM!"},{"$error":"#NUM!"},0,0,null,{"$f":"STANDARDIZE(C30,C41,C42)","v":{"$error":"#NUM!"}},{"$f":"STANDARDIZE(D30,D41,D42)","v":{"$error":"#NUM!"}},0,0,{"$f":"STANDARDIZE(AX30,AX41,AX42)","v":{"$error":"#NUM!"}},{"$f":"STANDARDIZE(AY30,AY41,AY42)","v":{"$error":"#NUM!"}},null,{"$f":"STANDARDIZE(C30,C41,C42)","v":{"$error":"#NUM!"}},{"$error":"#NUM!"},{"$error":"#NUM!"},{"$error":"#NUM!"},{"$error":"#NUM!"},{"$error":"#NUM!"},{"$error":"#NUM!"},{"$error":"#NUM!"},{"$error":"#NUM!"},{"$error":"#NUM!"},{"$error":"#NUM!"},{"$error":"#NUM!"},null,0,{"$f":"STANDARDIZE(BP30,BP41,BP42)","v":{"$error":"#NUM!"}},0,{"$f":"STANDARDIZE(BR30,BR41,BR42)","v":{"$error":"#NUM!"}},null,0,{"$f":"STANDARDIZE(BU30,BU41,BU42)","v":{"$error":"#NUM!"}},null,0,{"$f":"STANDARDIZE(BX30,BX41,BX42)","v":{"$error":"#NUM!"}},null,{"$error":"#NUM!"},{"$error":"#NUM!"},{"$error":"#NUM!"},{"$error":"#NUM!"},{"$error":"#NUM!"},{"$error":"#NUM!"},{"$error":"#NUM!"},{"$error":"#NUM!"},{"$error":"#NUM!"},{"$error":"#NUM!"},{"$error":"#NUM!"},{"$error":"#NUM!"},{"$error":"#NUM!"},{"$error":"#NUM!"},{"$error":"#NUM!"},{"$error":"#NUM!"},{"$error":"#NUM!"},{"$error":"#NUM!"},{"$error":"#NUM!"},{"$error":"#NUM!"},{"$error":"#NUM!"}]
[28,null,{"$f":"COUNTIF(C50:C154,28)","v":0},0,0,0,0,0,0,0,0,0,0,0,null,null,0,0,0,0,{"$error":"#NUM!"},{"$error":"#NUM!"},{"$error":"#NUM!"},{"$error":"#NUM!"},null,0,{"$error":"#NUM!"},null,"28 ",null,0,0,0,0,{"$error":"#NUM!"},{"$error":"#NUM!"},{"$error":"#NUM!"},{"$error":"#NUM!"},null,{"$error":"#NUM!"},{"$error":"#NUM!"},{"$error":"#NUM!"},{"$error":"#NUM!"},{"$error":"#NUM!"},0,0,null,{"$f":"STANDARDIZE(C31,C41,C42)","v":{"$error":"#NUM!"}},{"$f":"STANDARDIZE(D31,D41,D42)","v":{"$error":"#NUM!"}},0,0,{"$f":"STANDARDIZE(AX31,AX41,AX42)","v":{"$error":"#NUM!"}},{"$f":"STANDARDIZE(AY31,AY41,AY42)","v":{"$error":"#NUM!"}},null,{"$f":"STANDARDIZE(C31,C41,C42)","v":{"$error":"#NUM!"}},{"$error":"#NUM!"},{"$error":"#NUM!"},{"$error":"#NUM!"},{"$error":"#NUM!"},{"$error":"#NUM!"},{"$error":"#NUM!"},{"$error":"#NUM!"},{"$error":"#NUM!"},{"$error":"#NUM!"},{"$error":"#NUM!"},{"$error":"#NUM!"},null,0,{"$f":"STANDARDIZE(BP31,BP41,BP42)","v":{"$error":"#NUM!"}},0,{"$f":"STANDARDIZE(BR31,BR41,BR42)","v":{"$error":"#NUM!"}},null,0,{"$f":"STANDARDIZE(BU31,BU41,BU42)","v":{"$error":"#NUM!"}},null,0,{"$f":"STANDARDIZE(BX31,BX41,BX42)","v":{"$error":"#NUM!"}},null,{"$error":"#NUM!"},{"$error":"#NUM!"},{"$error":"#NUM!"},{"$error":"#NUM!"},{"$error":"#NUM!"},{"$error":"#NUM!"},{"$error":"#NUM!"},{"$error":"#NUM!"},{"$error":"#NUM!"},{"$error":"#NUM!"},{"$error":"#NUM!"},{"$error":"#NUM!"},{"$error":"#NUM!"},{"$error":"#NUM!"},{"$error":"#NUM!"},{"$error":"#NUM!"},{"$error":"#NUM!"},{"$error":"#NUM!"},{"$error":"#NUM!"},{"$error":"#NUM!"},{"$error":"#NUM!"}]
[29,null,{"$f":"COUNTIF(C50:C154,29)","v":0},0,0,0,0,0,0,0,0,0,0,0,null,null,0,0,0,0,{"$error":"#NUM!"},{"$error":"#NUM!"},{"$error":"#NUM!"},{"$error":"#NUM!"},null,0,{"$error":"#NUM!"},null,"29 ",null,0,0,0,0,{"$error":"#NUM!"},{"$error":"#NUM!"},{"$error":"#NUM!"},{"$error":"#NUM!"},null,{"$error":"#NUM!"},{"$error":"#NUM!"},{"$error":"#NUM!"},{"$error":"#NUM!"},{"$error":"#NUM!"},0,0,null,{"$f":"STANDARDIZE(C32,C41,C42)","v":{"$error":"#NUM!"}},{"$f":"STANDARDIZE(D32,D41,D42)","v":{"$error":"#NUM!"}},0,0,{"$f":"STANDARDIZE(AX32,AX41,AX42)","v":{"$error":"#NUM!"}},{"$f":"STANDARDIZE(AY32,AY41,AY42)","v":{"$error":"#NUM!"}},null,{"$f":"STANDARDIZE(C32,C41,C42)","v":{"$error":"#NUM!"}},{"$error":"#NUM!"},{"$error":"#NUM!"},{"$error":"#NUM!"},{"$error":"#NUM!"},{"$error":"#NUM!"},{"$error":"#NUM!"},{"$error":"#NUM!"},{"$error":"#NUM!"},{"$error":"#NUM!"},{"$error":"#NUM!"},{"$error":"#NUM!"},null,0,{"$f":"STANDARDIZE(BP32,BP41,BP42)","v":{"$error":"#NUM!"}},0,{"$f":"STANDARDIZE(BR32,BR41,BR42)","v":{"$error":"#NUM!"}},null,0,{"$f":"STANDARDIZE(BU32,BU41,BU42)","v":{"$error":"#NUM!"}},null,0,{"$f":"STANDARDIZE(BX32,BX41,BX42)","v":{"$error":"#NUM!"}},null,{"$error":"#NUM!"},{"$error":"#NUM!"},{"$error":"#NUM!"},{"$error":"#NUM!"},{"$error":"#NUM!"},{"$error":"#NUM!"},{"$error":"#NUM!"},{"$error":"#NUM!"},{"$error":"#NUM!"},{"$error":"#NUM!"},{"$error":"#NUM!"},{"$error":"#NUM!"},{"$error":"#NUM!"},{"$error":"#NUM!"},{"$error":"#NUM!"},{"$error":"#NUM!"},{"$error":"#NUM!"},{"$error":"#NUM!"},{"$error":"#NUM!"},{"$error":"#NUM!"},{"$error":"#NUM!"}]
[30,null,{"$f":"COUNTIF(C50:C154,30)","v":0},0,0,0,0,0,0,0,0,0,0,0,null,null,0,0,0,0,{"$error":"#NUM!"},{"$error":"#NUM!"},{"$error":"#NUM!"},{"$error":"#NUM!"},null,0,{"$error":"#NUM!"},null,"30 ",null,0,0,0,0,{"$error":"#NUM!"},{"$error":"#NUM!"},{"$error":"#NUM!"},{"$error":"#NUM!"},null,{"$error":"#NUM!"},{"$error":"#NUM!"},{"$error":"#NUM!"},{"$error":"#NUM!"},{"$error":"#NUM!"},0,0,null,{"$f":"STANDARDIZE(C33,C41,C42)","v":{"$error":"#NUM!"}},{"$f":"STANDARDIZE(D33,D41,D42)","v":{"$error":"#NUM!"}},0,0,{"$f":"STANDARDIZE(AX33,AX41,AX42)","v":{"$error":"#NUM!"}},{"$f":"STANDARDIZE(AY33,AY41,AY42)","v":{"$error":"#NUM!"}},null,{"$f":"STANDARDIZE(C33,C41,C42)","v":{"$error":"#NUM!"}},{"$error":"#NUM!"},{"$error":"#NUM!"},{"$error":"#NUM!"},{"$error":"#NUM!"},{"$error":"#NUM!"},{"$error":"#NUM!"},{"$error":"#NUM!"},{"$error":"#NUM!"},{"$error":"#NUM!"},{"$error":"#NUM!"},{"$error":"#NUM!"},null,0,{"$f":"STANDARDIZE(BP33,BP41,BP42)","v":{"$error":"#NUM!"}},0,{"$f":"STANDARDIZE(BR33,BR41,BR42)","v":{"$error":"#NUM!"}},null,0,{"$f":"STANDARDIZE(BU33,BU41,BU42)","v":{"$error":"#NUM!"}},null,0,{"$f":"STANDARDIZE(BX33,BX41,BX42)","v":{"$error":"#NUM!"}},null,{"$error":"#NUM!"},{"$error":"#NUM!"},{"$error":"#NUM!"},{"$error":"#NUM!"},{"$error":"#NUM!"},{"$error":"#NUM!"},{"$error":"#NUM!"},{"$error":"#NUM!"},{"$error":"#NUM!"},{"$error":"#NUM!"},{"$error":"#NUM!"},{"$error":"#NUM!"},{"$error":"#NUM!"},{"$error":"#NUM!"},{"$error":"#NUM!"},{"$error":"#NUM!"},{"$error":"#NUM!"},{"$error":"#NUM!"},{"$error":"#NUM!"},{"$error":"#NUM!"},{"$error":"#NUM!"}]
[31,null,{"$f":"COUNTIF(C50:C154,31)","v":0},0,0,0,0,0,0,0,0,0,0,0,null,null,0,0,0,0,{"$error":"#NUM!"},{"$error":"#NUM!"},{"$error":"#NUM!"},{"$error":"#NUM!"},null,0,{"$error":"#NUM!"},null,"31 ",null,0,0,0,0,{"$error":"#NUM!"},{"$error":"#NUM!"},{"$error":"#NUM!"},{"$error":"#NUM!"},null,{"$error":"#NUM!"},{"$error":"#NUM!"},{"$error":"#NUM!"},{"$error":"#NUM!"},{"$error":"#NUM!"},0,0,null,{"$f":"STANDARDIZE(C34,C41,C42)","v":{"$error":"#NUM!"}},{"$f":"STANDARDIZE(D34,D41,D42)","v":{"$error":"#NUM!"}},0,0,{"$f":"STANDARDIZE(AX34,AX41,AX42)","v":{"$error":"#NUM!"}},{"$f":"STANDARDIZE(AY34,AY41,AY42)","v":{"$error":"#NUM!"}},null,{"$f":"STANDARDIZE(C34,C41,C42)","v":{"$error":"#NUM!"}},{"$error":"#NUM!"},{"$error":"#NUM!"},{"$error":"#NUM!"},{"$error":"#NUM!"},{"$error":"#NUM!"},{"$error":"#NUM!"},{"$error":"#NUM!"},{"$error":"#NUM!"},{"$error":"#NUM!"},{"$error":"#NUM!"},{"$error":"#NUM!"},null,0,{"$f":"STANDARDIZE(BP34,BP41,BP42)","v":{"$error":"#NUM!"}},0,{"$f":"STANDARDIZE(BR34,BR41,BR42)","v":{"$error":"#NUM!"}},null,0,{"$f":"STANDARDIZE(BU34,BU41,BU42)","v":{"$error":"#NUM!"}},null,0,{"$f":"STANDARDIZE(BX34,BX41,BX42)","v":{"$error":"#NUM!"}},null,{"$error":"#NUM!"},{"$error":"#NUM!"},{"$error":"#NUM!"},{"$error":"#NUM!"},{"$error":"#NUM!"},{"$error":"#NUM!"},{"$error":"#NUM!"},{"$error":"#NUM!"},{"$error":"#NUM!"},{"$error":"#NUM!"},{"$error":"#NUM!"},{"$error":"#NUM!"},{"$error":"#NUM!"},{"$error":"#NUM!"},{"$error":"#NUM!"},{"$error":"#NUM!"},{"$error":"#NUM!"},{"$error":"#NUM!"},{"$error":"#NUM!"},{"$error":"#NUM!"},{"$error":"#NUM!"}]
[32,null,{"$f":"COUNTIF(C50:C154,32)","v":0},0,0,0,0,0,0,0,0,0,0,0,null,null,0,0,0,0,{"$error":"#NUM!"},{"$error":"#NUM!"},{"$error":"#NUM!"},{"$error":"#NUM!"},null,0,{"$error":"#NUM!"},null,"32 ",null,0,0,0,0,{"$error":"#NUM!"},{"$error":"#NUM!"},{"$error":"#NUM!"},{"$error":"#NUM!"},null,{"$error":"#NUM!"},{"$error":"#NUM!"},{"$error":"#NUM!"},{"$error":"#NUM!"},{"$error":"#NUM!"},0,0,null,{"$f":"STANDARDIZE(C35,C41,C42)","v":{"$error":"#NUM!"}},{"$f":"STANDARDIZE(D35,D41,D42)","v":{"$error":"#NUM!"}},0,0,{"$f":"STANDARDIZE(AX35,AX41,AX42)","v":{"$error":"#NUM!"}},{"$f":"STANDARDIZE(AY35,AY41,AY42)","v":{"$error":"#NUM!"}},null,{"$f":"STANDARDIZE(C35,C41,C42)","v":{"$error":"#NUM!"}},{"$error":"#NUM!"},{"$error":"#NUM!"},{"$error":"#NUM!"},{"$error":"#NUM!"},{"$error":"#NUM!"},{"$error":"#NUM!"},{"$error":"#NUM!"},{"$error":"#NUM!"},{"$error":"#NUM!"},{"$error":"#NUM!"},{"$error":"#NUM!"},null,0,{"$f":"STANDARDIZE(BP35,BP41,BP42)","v":{"$error":"#NUM!"}},0,{"$f":"STANDARDIZE(BR35,BR41,BR42)","v":{"$error":"#NUM!"}},null,0,{"$f":"STANDARDIZE(BU35,BU41,BU42)","v":{"$error":"#NUM!"}},null,0,{"$f":"STANDARDIZE(BX35,BX41,BX42)","v":{"$error":"#NUM!"}},null,{"$error":"#NUM!"},{"$error":"#NUM!"},{"$error":"#NUM!"},{"$error":"#NUM!"},{"$error":"#NUM!"},{"$error":"#NUM!"},{"$error":"#NUM!"},{"$error":"#NUM!"},{"$error":"#NUM!"},{"$error":"#NUM!"},{"$error":"#NUM!"},{"$error":"#NUM!"},{"$error":"#NUM!"},{"$error":"#NUM!"},{"$error":"#NUM!"},{"$error":"#NUM!"},{"$error":"#NUM!"},{"$error":"#NUM!"},{"$error":"#NUM!"},{"$error":"#NUM!"},{"$error":"#NUM!"}]
[33,null,{"$f":"COUNTIF(C50:C154,33)","v":0},0,0,0,0,0,0,0,0,0,0,0,null,null,0,0,0,0,{"$error":"#NUM!"},{"$error":"#NUM!"},{"$error":"#NUM!"},{"$error":"#NUM!"},null,0,{"$error":"#NUM!"},null,"33 ",null,0,0,0,0,{"$error":"#NUM!"},{"$error":"#NUM!"},{"$error":"#NUM!"},{"$error":"#NUM!"},null,{"$error":"#NUM!"},{"$error":"#NUM!"},{"$error":"#NUM!"},{"$error":"#NUM!"},{"$error":"#NUM!"},0,0,null,{"$f":"STANDARDIZE(C36,C41,C42)","v":{"$error":"#NUM!"}},{"$f":"STANDARDIZE(D36,D41,D42)","v":{"$error":"#NUM!"}},0,0,{"$f":"STANDARDIZE(AX36,AX41,AX42)","v":{"$error":"#NUM!"}},{"$f":"STANDARDIZE(AY36,AY41,AY42)","v":{"$error":"#NUM!"}},null,{"$f":"STANDARDIZE(C36,C41,C42)","v":{"$error":"#NUM!"}},{"$error":"#NUM!"},{"$error":"#NUM!"},{"$error":"#NUM!"},{"$error":"#NUM!"},{"$error":"#NUM!"},{"$error":"#NUM!"},{"$error":"#NUM!"},{"$error":"#NUM!"},{"$error":"#NUM!"},{"$error":"#NUM!"},{"$error":"#NUM!"},null,0,{"$f":"STANDARDIZE(BP36,BP41,BP42)","v":{"$error":"#NUM!"}},0,{"$f":"STANDARDIZE(BR36,BR41,BR42)","v":{"$error":"#NUM!"}},null,0,{"$f":"STANDARDIZE(BU36,BU41,BU42)","v":{"$error":"#NUM!"}},null,0,{"$f":"STANDARDIZE(BX36,BX41,BX42)","v":{"$error":"#NUM!"}},null,{"$error":"#NUM!"},{"$error":"#NUM!"},{"$error":"#NUM!"},{"$error":"#NUM!"},{"$error":"#NUM!"},{"$error":"#NUM!"},{"$error":"#NUM!"},{"$error":"#NUM!"},{"$error":"#NUM!"},{"$error":"#NUM!"},{"$error":"#NUM!"},{"$error":"#NUM!"},{"$error":"#NUM!"},{"$error":"#NUM!"},{"$error":"#NUM!"},{"$error":"#NUM!"},{"$error":"#NUM!"},{"$error":"#NUM!"},{"$error":"#NUM!"},{"$error":"#NUM!"},{"$error":"#NUM!"}]
[34,null,{"$f":"COUNTIF(C50:C154,34)","v":0},0,0,0,0,0,0,0,0,0,0,0,null,null,0,0,0,0,{"$error":"#NUM!"},{"$error":"#NUM!"},{"$error":"#NUM!"},{"$error":"#NUM!"},null,0,{"$error":"#NUM!"},null,"34 ",null,0,0,0,0,{"$error":"#NUM!"},{"$error":"#NUM!"},{"$error":"#NUM!"},{"$error":"#NUM!"},null,{"$error":"#NUM!"},{"$error":"#NUM!"},{"$error":"#NUM!"},{"$error":"#NUM!"},{"$error":"#NUM!"},0,0,null,{"$f":"STANDARDIZE(C37,C41,C42)","v":{"$error":"#NUM!"}},{"$f":"STANDARDIZE(D37,D41,D42)","v":{"$error":"#NUM!"}},0,0,{"$f":"STANDARDIZE(AX37,AX41,AX42)","v":{"$error":"#NUM!"}},{"$f":"STANDARDIZE(AY37,AY41,AY42)","v":{"$error":"#NUM!"}},null,{"$f":"STANDARDIZE(C37,C41,C42)","v":{"$error":"#NUM!"}},{"$error":"#NUM!"},{"$error":"#NUM!"},{"$error":"#NUM!"},{"$error":"#NUM!"},{"$error":"#NUM!"},{"$error":"#NUM!"},{"$error":"#NUM!"},{"$error":"#NUM!"},{"$error":"#NUM!"},{"$error":"#NUM!"},{"$error":"#NUM!"},null,0,{"$f":"STANDARDIZE(BP37,BP41,BP42)","v":{"$error":"#NUM!"}},0,{"$f":"STANDARDIZE(BR37,BR41,BR42)","v":{"$error":"#NUM!"}},null,0,{"$f":"STANDARDIZE(BU37,BU41,BU42)","v":{"$error":"#NUM!"}},null,0,{"$f":"STANDARDIZE(BX37,BX41,BX42)","v":{"$error":"#NUM!"}},null,{"$error":"#NUM!"},{"$error":"#NUM!"},{"$error":"#NUM!"},{"$error":"#NUM!"},{"$error":"#NUM!"},{"$error":"#NUM!"},{"$error":"#NUM!"},{"$error":"#NUM!"},{"$error":"#NUM!"},{"$error":"#NUM!"},{"$error":"#NUM!"},{"$error":"#NUM!"},{"$error":"#NUM!"},{"$error":"#NUM!"},{"$error":"#NUM!"},{"$error":"#NUM!"},{"$error":"#NUM!"},{"$error":"#NUM!"},{"$error":"#NUM!"},{"$error":"#NUM!"},{"$error":"#NUM!"}]
[35,null,{"$f":"COUNTIF(C50:C154,35)","v":0},0,0,0,0,0,0,0,0,0,0,0,null,null,0,0,0,0,{"$error":"#NUM!"},{"$error":"#NUM!"},{"$error":"#NUM!"},{"$error":"#NUM!"},null,0,{"$error":"#NUM!"},null,"35 ",null,0,0,0,0,{"$error":"#NUM!"},{"$error":"#NUM!"},{"$error":"#NUM!"},{"$error":"#NUM!"},null,{"$error":"#NUM!"},{"$error":"#NUM!"},{"$error":"#NUM!"},{"$error":"#NUM!"},{"$error":"#NUM!"},0,0,null,{"$f":"STANDARDIZE(C38,C41,C42)","v":{"$error":"#NUM!"}},{"$f":"STANDARDIZE(D38,D41,D42)","v":{"$error":"#NUM!"}},0,0,{"$f":"STANDARDIZE(AX38,AX41,AX42)","v":{"$error":"#NUM!"}},{"$f":"STANDARDIZE(AY38,AY41,AY42)","v":{"$error":"#NUM!"}},null,{"$f":"STANDARDIZE(C38,C41,C42)","v":{"$error":"#NUM!"}},{"$error":"#NUM!"},{"$error":"#NUM!"},{"$error":"#NUM!"},{"$error":"#NUM!"},{"$error":"#NUM!"},{"$error":"#NUM!"},{"$error":"#NUM!"},{"$error":"#NUM!"},{"$error":"#NUM!"},{"$error":"#NUM!"},{"$error":"#NUM!"},null,0,{"$f":"STANDARDIZE(BP38,BP41,BP42)","v":{"$error":"#NUM!"}},0,{"$f":"STANDARDIZE(BR38,BR41,BR42)","v":{"$error":"#NUM!"}},null,0,{"$f":"STANDARDIZE(BU38,BU41,BU42)","v":{"$error":"#NUM!"}},null,0,{"$f":"STANDARDIZE(BX38,BX41,BX42)","v":{"$error":"#NUM!"}},null,{"$error":"#NUM!"},{"$error":"#NUM!"},{"$error":"#NUM!"},{"$error":"#NUM!"},{"$error":"#NUM!"},{"$error":"#NUM!"},{"$error":"#NUM!"},{"$error":"#NUM!"},{"$error":"#NUM!"},{"$error":"#NUM!"},{"$error":"#NUM!"},{"$error":"#NUM!"},{"$error":"#NUM!"},{"$error":"#NUM!"},{"$error":"#NUM!"},{"$error":"#NUM!"},{"$error":"#NUM!"},{"$error":"#NUM!"},{"$error":"#NUM!"},{"$error":"#NUM!"},{"$error":"#NUM!"}]
[null,"Recompte puntuació 0",{"$f":"COUNTIF(C50:C154,0)","v":0},0,0,0,0,0,0,0,0,0,0,0]
[null,"Total nominacions",{"$f":"SUM(C4:C39)","v":0},0,0,0,0,0,0,0,0,0,0,0,null,null,{"$f":"AVERAGE(Q4:Q38)","v":0},{"$f":"AVERAGE(R4:R38)","v":0},{"$f":"AVERAGE(S4:S38)","v":0},{"$f":"AVERAGE(T4:T38)","v":0},null,null,null,null,null,{"$f":"AVERAGE(Z4:Z38)","v":0},null,null,null,null,{"$f":"AVERAGE(AE4:AE38)","v":0},{"$f":"AVERAGE(AF4:AF38)","v":0},{"$f":"AVERAGE(AG4:AG38)","v":0},{"$f":"AVERAGE(AH4:AH38)","v":0},null,null,null,null,null,null,null,null,null,null,{"$f":"AVERAGE(AS4:AS38)","v":0},{"$f":"AVERAGE(AT4:AT38)","v":0}]
[null,"Mitjana",{"$f":"AVERAGE(C4:C38)","v":0},0,0,0,0,0,0,0,0,0,0,0,null,null,{"$f":"STDEV(Q4:Q38)","v":0},{"$f":"STDEV(R4:R38)","v":0},{"$f":"STDEV(S4:S38)","v":0},{"$f":"STDEV(T4:T38)","v":0},null,null,null,null,null,{"$f":"STDEV(Z4:Z38)","v":0},null,null,null,null,{"$f":"STDEV(AE4:AE38)","v":0},{"$f":"STDEV(AF4:AF38)","v":0},{"$f":"STDEV(AG4:AG38)","v":0},{"$f":"STDEV(AH4:AH38)","v":0},null,null,null,null,null,null,null,null,null,null,{"$f":"STDEV(AS4:AS38)","v":0},{"$f":"STDEV(AT4:AT38)","v":0},null,{"$f":"AVERAGE(AV4:AV38)","v":{"$error":"#NUM!"}},{"$error":"#NUM!"},0,0,{"$error":"#NUM!"},{"$error":"#NUM!"},null,{"$f":"AVERAGE(BC4:BC38)","v":{"$error":"#NUM!"}},{"$error":"#NUM!"},{"$error":"#NUM!"},{"$error":"#NUM!"},{"$error":"#NUM!"},{"$error":"#NUM!"},{"$error":"#NUM!"},{"$error":"#NUM!"},{"$error":"#NUM!"},{"$error":"#NUM!"},{"$error":"#NUM!"},{"$error":"#NUM!"},null,{"$f":"AVERAGE(BP4:BP38)","v":0},{"$f":"AVERAGE(BQ4:BQ38)","v":{"$error":"#NUM!"}},{"$f":"AVERAGE(BR4:BR38)","v":0},{"$f":"AVERAGE(BS4:BS38)","v":{"$error":"#NUM!"}},null,{"$f":"AVERAGE(BU4:BU38)","v":0},{"$f":"AVERAGE(BV4:BV38)","v":{"$error":"#NUM!"}},null,{"$f":"AVERAGE(BX4:BX38)","v":0},{"$f":"AVERAGE(BY4:BY38)","v":{"$error":"#NUM!"}}]
[null,"Desviació estándar",{"$f":"STDEV(C4:C38)","v":0},0,0,0,0,0,0,0,0,0,0,0,null,null,null,null,null,null,null,null,null,null,null,null,null,null,null,null,null,null,null,null,null,null,null,null,null,null,null,null,null,null,null,null,null,{"$f":"STDEV(AV4:AV38)","v":{"$error":"#NUM!"}},{"$error":"#NUM!"},0,0,{"$error":"#NUM!"},{"$error":"#NUM!"},null,{"$f":"STDEV(BC4:BC38)","v":{"$error":"#NUM!"}},{"$error":"#NUM!"},{"$error":"#NUM!"},{"$error":"#NUM!"},{"$error":"#NUM!"},{"$error":"#NUM!"},{"$error":"#NUM!"},{"$error":"#NUM!"},{"$error":"#NUM!"},{"$error":"#NUM!"},{"$error":"#NUM!"},{"$error":"#NUM!"},null,{"$f":"STDEV(BP4:BP38)","v":0},{"$f":"STDEV(BQ4:BQ38)","v":{"$error":"#NUM!"}},{"$f":"STDEV(BR4:BR38)","v":0},{"$f":"STDEV(BS4:BS38)","v":{"$error":"#NUM!"}},null,{"$f":"STDEV(BU4:BU38)","v":0},{"$f":"STDEV(BV4:BV38)","v":{"$error":"#NUM!"}},null,{"$f":"STDEV(BX4:BX38)","v":0},{"$f":"STDEV(BY4:BY38)","v":{"$error":"#NUM!"}}]
[]
[]
[]
[]
[null,"2. Entra les respostes dels alumnes: en el full estan en vertical i aquí les has d'entrar en horitzontal"]
[null,null,"Soc +","Soc -","ARI","Pro","AF","ARD","Pro","AV","VF","VV","VR","Amics"]
[null,null,1,2,3,4,5,6,7,8,9,10,11,12]
[{"$f":"(A4)","v":1},{"$f":"T(B4)","v":""}]
[]
[]
[{"$f":"(A5)","v":2},{"$f":"T(B5)","v":""}]
[]
[]
[{"$f":"(A6)","v":3},{"$f":"T(B6)","v":""}]
[]
[]
[{"$f":"(A7)","v":4},{"$f":"T(B7)","v":""}]
[]
[]
[{"$f":"(A8)","v":5},{"$f":"T(B8)","v":""}]
[]
[]
[{"$f":"(A9)","v":6},{"$f":"T(B9)","v":""}]
[]
[]
[{"$f":"(A10)","v":7},{"$f":"T(B10)","v":""}]
[]
[]
[{"$f":"(A11)","v":8},{"$f":"T(B11)","v":""}]
[]
[]
[{"$f":"(A12)","v":9},{"$f":"T(B12)","v":""}]
[]
[]
[{"$f":"(A13)","v":10},{"$f":"T(B13)","v":""}]
[]
[]
[{"$f":"(A14)","v":11},{"$f":"T(B14)","v":""}]
[]
[]
[{"$f":"(A15)","v":12},{"$f":"T(B15)","v":""}]
[]
[]
[{"$f":"(A16)","v":13},{"$f":"T(B16)","v":""}]
[]
[]
[{"$f":"(A17)","v":14},{"$f":"T(B17)","v":""}]
[]
[]
[{"$f":"(A18)","v":15},{"$f":"T(B18)","v":""}]
[]
[]
[{"$f":"(A19)","v":16},{"$f":"T(B19)","v":""}]
[]
[]
[{"$f":"(A20)","v":17},{"$f":"T(B20)","v":""}]
[]
[]
[{"$f":"(A21)","v":18},{"$f":"T(B21)","v":""}]
[]
[]
[{"$f":"(A22)","v":19},{"$f":"T(B22)","v":""}]
[]
[]
[{"$f":"(A23)","v":20},{"$f":"T(B23)","v":""}]
[]
[]
[{"$f":"(A24)","v":21},{"$f":"T(B24)","v":""}]
[]
[]
[{"$f":"(A25)","v":22},{"$f":"T(B25)","v":""}]
[]
[]
[{"$f":"(A26)","v":23},{"$f":"T(B26)","v":""}]
[]
[]
[{"$f":"(A27)","v":24},{"$f":"T(B27)","v":""}]
[]
[]
[{"$f":"(A28)","v":25},{"$f":"T(B28)","v":""}]
[]
[]
[{"$f":"(A29)","v":26},{"$f":"T(B29)","v":""}]
[]
[]
[{"$f":"(A30)","v":27},{"$f":"T(B30)","v":""}]
[]
[]
[{"$f":"(A31)","v":28},{"$f":"T(B31)","v":""}]
[]
[]
[{"$f":"(A32)","v":29},{"$f":"T(B32)","v":""}]
[]
[]
[{"$f":"(A33)","v":30},{"$f":"T(B33)","v":""}]
[]
[]
[{"$f":"(A34)","v":31},{"$f":"T(B34)","v":""}]
[]
[]
[{"$f":"(A35)","v":32},{"$f":"T(B35)","v":""}]
[]
[]
[{"$f":"(A36)","v":33},{"$f":"T(B36)","v":""}]
[]
[]
[{"$f":"(A37)","v":34},{"$f":"T(B37)","v":""}]
[]
[]
[{"$f":"(A38)","v":35},{"$f":"T(B38)","v":""}]
[]
[]
[]
[]
[]
[]
[null,null,{"$f":"CORREL(C4:C38,C4:C38)","v":{"$error":"#DIV/0!"}},{"$f":"CORREL(C4:C38,D4:D38)","v":{"$error":"#DIV/0!"}},{"$f":"CORREL(C4:C38,E4:E38)","v":{"$error":"#DIV/0!"}},{"$f":"CORREL(C4:C38,F4:F38)","v":{"$error":"#DIV/0!"}},{"$f":"CORREL(C4:C38,G4:G38)","v":{"$error":"#DIV/0!"}},{"$f":"CORREL(C4:C38,H4:H38)","v":{"$error":"#DIV/0!"}},{"$f":"CORREL(C4:C38,I4:I38)","v":{"$error":"#DIV/0!"}},{"$f":"CORREL(C4:C38,J4:J38)","v":{"$error":"#DIV/0!"}},{"$f":"CORREL(C4:C38,K4:K38)","v":{"$error":"#DIV/0!"}},{"$f":"CORREL(C4:C38,L4:L38)","v":{"$error":"#DIV/0!"}},{"$f":"CORREL(C4:C38,M4:M38)","v":{"$error":"#DIV/0!"}},{"$f":"CORREL(C4:C38,N4:N38)","v":{"$error":"#DIV/0!"}}]
[null,null,null,{"$f":"CORREL(D4:D38,D4:D38)","v":{"$error":"#DIV/0!"}},{"$f":"CORREL(D4:D38,E4:E38)","v":{"$error":"#DIV/0!"}},{"$f":"CORREL(D4:D38,F4:F38)","v":{"$error":"#DIV/0!"}},{"$f":"CORREL(D4:D38,G4:G38)","v":{"$error":"#DIV/0!"}},{"$f":"CORREL(D4:D38,H4:H38)","v":{"$error":"#DIV/0!"}},{"$f":"CORREL(D4:D38,I4:I38)","v":{"$error":"#DIV/0!"}},{"$f":"CORREL(D4:D38,J4:J38)","v":{"$error":"#DIV/0!"}},{"$f":"CORREL(D4:D38,K4:K38)","v":{"$error":"#DIV/0!"}},{"$f":"CORREL(D4:D38,L4:L38)","v":{"$error":"#DIV/0!"}},{"$f":"CORREL(D4:D38,M4:M38)","v":{"$error":"#DIV/0!"}},{"$f":"CORREL(D4:D38,N4:N38)","v":{"$error":"#DIV/0!"}}]
[null,null,null,null,{"$f":"CORREL(E4:E38,E4:E38)","v":{"$error":"#DIV/0!"}},{"$f":"CORREL(E4:E38,F4:F38)","v":{"$error":"#DIV/0!"}},{"$f":"CORREL(E4:E38,G4:G38)","v":{"$error":"#DIV/0!"}},{"$f":"CORREL(E4:E38,H4:H38)","v":{"$error":"#DIV/0!"}},{"$f":"CORREL(E4:E38,I4:I38)","v":{"$error":"#DIV/0!"}},{"$f":"CORREL(E4:E38,J4:J38)","v":{"$error":"#DIV/0!"}},{"$f":"CORREL(E4:E38,K4:K38)","v":{"$error":"#DIV/0!"}},{"$f":"CORREL(E4:E38,L4:L38)","v":{"$error":"#DIV/0!"}},{"$f":"CORREL(E4:E38,M4:M38)","v":{"$error":"#DIV/0!"}},{"$f":"CORREL(E4:E38,N4:N38)","v":{"$error":"#DIV/0!"}}]
[null,null,null,null,null,{"$f":"CORREL(F4:F38,F4:F38)","v":{"$error":"#DIV/0!"}},{"$f":"CORREL(F4:F38,G4:G38)","v":{"$error":"#DIV/0!"}},{"$f":"CORREL(F4:F38,H4:H38)","v":{"$error":"#DIV/0!"}},{"$f":"CORREL(F4:F38,I4:I38)","v":{"$error":"#DIV/0!"}},{"$f":"CORREL(F4:F38,J4:J38)","v":{"$error":"#DIV/0!"}},{"$f":"CORREL(F4:F38,K4:K38)","v":{"$error":"#DIV/0!"}},{"$f":"CORREL(F4:F38,L4:L38)","v":{"$error":"#DIV/0!"}},{"$f":"CORREL(F4:F38,M4:M38)","v":{"$error":"#DIV/0!"}},{"$f":"CORREL(F4:F38,N4:N38)","v":{"$error":"#DIV/0!"}}]
[null,null,null,null,null,null,{"$f":"CORREL(G4:G38,G4:G38)","v":{"$error":"#DIV/0!"}},{"$f":"CORREL(G4:G38,H4:H38)","v":{"$error":"#DIV/0!"}},{"$f":"CORREL(G4:G38,I4:I38)","v":{"$error":"#DIV/0!"}},{"$f":"CORREL(G4:G38,J4:J38)","v":{"$error":"#DIV/0!"}},{"$f":"CORREL(G4:G38,K4:K38)","v":{"$error":"#DIV/0!"}},{"$f":"CORREL(G4:G38,L4:L38)","v":{"$error":"#DIV/0!"}},{"$f":"CORREL(G4:G38,M4:M38)","v":{"$error":"#DIV/0!"}},{"$f":"CORREL(G4:G38,N4:N38)","v":{"$error":"#DIV/0!"}}]
[null,null,null,null,null,null,null,{"$f":"CORREL(H4:H38,H4:H38)","v":{"$error":"#DIV/0!"}},{"$f":"CORREL(H4:H38,I4:I38)","v":{"$error":"#DIV/0!"}},{"$f":"CORREL(H4:H38,J4:J38)","v":{"$error":"#DIV/0!"}},{"$f":"CORREL(H4:H38,K4:K38)","v":{"$error":"#DIV/0!"}},{"$f":"CORREL(H4:H38,L4:L38)","v":{"$error":"#DIV/0!"}},{"$f":"CORREL(H4:H38,M4:M38)","v":{"$error":"#DIV/0!"}},{"$f":"CORREL(H4:H38,N4:N38)","v":{"$error":"#DIV/0!"}}]
[null,null,null,null,null,null,null,null,{"$f":"CORREL(I4:I38,I4:I38)","v":{"$error":"#DIV/0!"}},{"$f":"CORREL(I4:I38,J4:J38)","v":{"$error":"#DIV/0!"}},{"$f":"CORREL(I4:I38,K4:K38)","v":{"$error":"#DIV/0!"}},{"$f":"CORREL(I4:I38,L4:L38)","v":{"$error":"#DIV/0!"}},{"$f":"CORREL(I4:I38,M4:M38)","v":{"$error":"#DIV/0!"}},{"$f":"CORREL(I4:I38,N4:N38)","v":{"$error":"#DIV/0!"}}]
[null,null,null,null,null,null,null,null,null,{"$f":"CORREL(J4:J38,J4:J38)","v":{"$error":"#DIV/0!"}},{"$f":"CORREL(J4:J38,K4:K38)","v":{"$error":"#DIV/0!"}},{"$f":"CORREL(J4:J38,L4:L38)","v":{"$error":"#DIV/0!"}},{"$f":"CORREL(J4:J38,M4:M38)","v":{"$error":"#DIV/0!"}},{"$f":"CORREL(J4:J38,N4:N38)","v":{"$error":"#DIV/0!"}}]
[null,null,null,null,null,null,null,null,null,null,{"$f":"CORREL(K4:K38,K4:K38)","v":{"$error":"#DIV/0!"}},{"$f":"CORREL(K4:K38,L4:L38)","v":{"$error":"#DIV/0!"}},{"$f":"CORREL(K4:K38,M4:M38)","v":{"$error":"#DIV/0!"}},{"$f":"CORREL(K4:K38,N4:N38)","v":{"$error":"#DIV/0!"}}]
[null,null,null,null,null,null,null,null,null,null,null,{"$f":"CORREL(L4:L38,L4:L38)","v":{"$error":"#DIV/0!"}},{"$f":"CORREL(L4:L38,M4:M38)","v":{"$error":"#DIV/0!"}},{"$f":"CORREL(L4:L38,N4:N38)","v":{"$error":"#DIV/0!"}}]
[null,null,null,null,null,null,null,null,null,null,null,null,{"$f":"CORREL(M4:M38,M4:M38)","v":{"$error":"#DIV/0!"}},{"$f":"CORREL(M4:M38,N4:N38)","v":{"$error":"#DIV/0!"}}]
[null,null,null,null,null,null,null,null,null,null,null,null,null,{"$f":"CORREL(N4:N38,N4:N38)","v":{"$error":"#DIV/0!"}}]

{"sheet":"IMPRIMIR RESULTATS","index":1,"n_rows":41,"n_cols":27,"rows_kept":41,"cut":false,"hidden":false,"merged":[[3,31,3,34],[3,35,3,38],[1,1,1,11],[1,12,1,26],[2,12,2,19],[2,20,2,26],[2,9,2,10],[2,1,2,8]]}
[]
[null,{"$f":"'Entrar Dades'!B1","v":"Centre i grup: "},null,null,null,null,null,null,null,null,null,null,{"$f":"'Entrar Dades'!B2","v":"Data: "}]
[null,{"$f":"'Entrar Dades'!U2","v":"Agressivitat"},null,null,null,null,null,null,null,{"$f":"'Entrar Dades'!Z2","v":"Prosocial"},null,{"$f":"'Entrar Dades'!AC2","v":"Alumnes"},{"$f":"'Entrar Dades'!AI2","v":"Victimització"},null,null,null,null,null,null,null,{"$f":"'Entrar Dades'!AN2","v":"Estatus sociomètric"}]
[null,{"$f":"'Entrar Dades'!Q3","v":"Total Agressivitat"},{"$f":"'Entrar Dades'!R3","v":"Agressivitat Física"},{"$f":"'Entrar Dades'!S3","v":"Agressivitat Verbal"},{"$f":"'Entrar Dades'!T3","v":"Agressivitat Relacional"},{"$f":"'Entrar Dades'!U3","v":"Total Agressivitat"},{"$f":"'Entrar Dades'!V3","v":"Agressivitat Física"},{"$f":"'Entrar Dades'!W3","v":"Agressivitat Verbal"},{"$f":"'Entrar Dades'!X3","v":"Agressivitat Relacional"},{"$f":"'Entrar Dades'!Z3","v":"Prosocialitat"},{"$f":"'Entrar Dades'!AA3","v":"Prosocialitat"},null,{"$f":"'Entrar Dades'!AE3","v":"Total Victimització"},{"$f":"'Entrar Dades'!AF3","v":"Victimització Física"},{"$f":"'Entrar Dades'!AG3","v":"Victimització Verbal"},{"$f":"'Entrar Dades'!AH3","v":"Victimització Relacional"},{"$f":"'Entrar Dades'!AI3","v":"Total Victimització"},{"$f":"'Entrar Dades'!AJ3","v":"Victimització Física"},{"$f":"'Entrar Dades'!AK3","v":"Victimització Verbal"},{"$f":"'Entrar Dades'!AL3","v":"Victimització Relacional"},{"$f":"'Entrar Dades'!AN3","v":"Popular"},{"$f":"'Entrar Dades'!AO3","v":"Rebutjat"},{"$f":"'Entrar Dades'!AP3","v":"Ignorat"},{"$f":"'Entrar Dades'!AQ3","v":"Controvertit"},"Normatiu",{"$f":"'Entrar Dades'!AS3","v":"Tries positives"},{"$f":"'Entrar Dades'!AT3","v":"Tries negatives"}]
[null,{"$f":"'Entrar Dades'!Q4","v":0},{"$f":"'Entrar Dades'!R4","v":0},{"$f":"'Entrar Dades'!S4","v":0},{"$f":"'Entrar Dades'!T4","v":0},{"$f":"'Entrar Dades'!U4","v":{"$error":"#NUM!"}},{"$f":"'Entrar Dades'!V4","v":{"$error":"#NUM!"}},{"$f":"'Entrar Dades'!W4","v":{"$error":"#NUM!"}},{"$f":"'Entrar Dades'!X4","v":{"$error":"#NUM!"}},{"$f":"'Entrar Dades'!Z4","v":0},{"$f":"'Entrar Dades'!AA4","v":{"$error":"#NUM!"}},{"$f":"'Entrar Dades'!AC4","v":"1 "},{"$f":"'Entrar Dades'!AE4","v":0},{"$f":"'Entrar Dades'!AF4","v":0},{"$f":"'Entrar Dades'!AG4","v":0},{"$f":"'Entrar Dades'!AH4","v":0},{"$f":"'Entrar Dades'!AI4","v":{"$error":"#NUM!"}},{"$f":"'Entrar Dades'!AJ4","v":{"$error":"#NUM!"}},{"$f":"'Entrar Dades'!AK4","v":{"$error":"#NUM!"}},{"$f":"'Entrar Dades'!AL4","v":{"$error":"#NUM!"}},{"$f":"'Entrar Dades'!AN4","v":{"$error":"#NUM!"}},{"$f":"'Entrar Dades'!AO4","v":{"$error":"#NUM!"}},{"$f":"'Entrar Dades'!AP4","v":{"$error":"#NUM!"}},{"$f":"'Entrar Dades'!AQ4","v":{"$error":"#NUM!"}},{"$f":"'Entrar Dades'!AR4","v":{"$error":"#NUM!"}},{"$f":"'Entrar Dades'!AS4","v":0},{"$f":"'Entrar Dades'!AT4","v":0}]
[null,{"$f":"'Entrar Dades'!Q5","v":0},{"$f":"'Entrar Dades'!R5","v":0},{"$f":"'Entrar Dades'!S5","v":0},{"$f":"'Entrar Dades'!T5","v":0},{"$f":"'Entrar Dades'!U5","v":{"$error":"#NUM!"}},{"$f":"'Entrar Dades'!V5","v":{"$error":"#NUM!"}},{"$f":"'Entrar Dades'!W5","v":{"$error":"#NUM!"}},{"$f":"'Entrar Dades'!X5","v":{"$error":"#NUM!"}},{"$f":"'Entrar Dades'!Z5","v":0},{"$f":"'Entrar Dades'!AA5","v":{"$error":"#NUM!"}},{"$f":"'Entrar Dades'!AC5","v":"2 "},{"$f":"'Entrar Dades'!AE5","v":0},{"$f":"'Entrar Dades'!AF5","v":0},{"$f":"'Entrar Dades'!AG5","v":0},{"$f":"'Entrar Dades'!AH5","v":0},{"$f":"'Entrar Dades'!AI5","v":{"$error":"#NUM!"}},{"$f":"'Entrar Dades'!AJ5","v":{"$error":"#NUM!"}},{"$f":"'Entrar Dades'!AK5","v":{"$error":"#NUM!"}},{"$f":"'Entrar Dades'!AL5","v":{"$error":"#NUM!"}},{"$f":"'Entrar Dades'!AN5","v":{"$error":"#NUM!"}},{"$f":"'Entrar Dades'!AO5","v":{"$error":"#NUM!"}},{"$f":"'Entrar Dades'!AP5","v":{"$error":"#NUM!"}},{"$f":"'Entrar Dades'!AQ5","v":{"$error":"#NUM!"}},{"$f":"'Entrar Dades'!AR5","v":{"$error":"#NUM!"}},{"$f":"'Entrar Dades'!AS5","v":0},{"$f":"'Entrar Dades'!AT5","v":0}]
[null,{"$f":"'Entrar Dades'!Q6","v":0},{"$f":"'Entrar Dades'!R6","v":0},{"$f":"'Entrar Dades'!S6","v":0},{"$f":"'Entrar Dades'!T6","v":0},{"$f":"'Entrar Dades'!U6","v":{"$error":"#NUM!"}},{"$f":"'Entrar Dades'!V6","v":{"$error":"#NUM!"}},{"$f":"'Entrar Dades'!W6","v":{"$error":"#NUM!"}},{"$f":"'Entrar Dades'!X6","v":{"$error":"#NUM!"}},{"$f":"'Entrar Dades'!Z6","v":0},{"$f":"'Entrar Dades'!AA6","v":{"$error":"#NUM!"}},{"$f":"'Entrar Dades'!AC6","v":"3 "},{"$f":"'Entrar Dades'!AE6","v":0},{"$f":"'Entrar Dades'!AF6","v":0},{"$f":"'Entrar Dades'!AG6","v":0},{"$f":"'Entrar Dades'!AH6","v":0},{"$f":"'Entrar Dades'!AI6","v":{"$error":"#NUM!"}},{"$f":"'Entrar Dades'!AJ6","v":{"$error":"#NUM!"}},{"$f":"'Entrar Dades'!AK6","v":{"$error":"#NUM!"}},{"$f":"'Entrar Dades'!AL6","v":{"$error":"#NUM!"}},{"$f":"'Entrar Dades'!AN6","v":{"$error":"#NUM!"}},{"$f":"'Entrar Dades'!AO6","v":{"$error":"#NUM!"}},{"$f":"'Entrar Dades'!AP6","v":{"$error":"#NUM!"}},{"$f":"'Entrar Dades'!AQ6","v":{"$error":"#NUM!"}},{"$f":"'Entrar Dades'!AR6","v":{"$error":"#NUM!"}},{"$f":"'Entrar Dades'!AS6","v":0},{"$f":"'Entrar Dades'!AT6","v":0}]
[null,{"$f":"'Entrar Dades'!Q7","v":0},{"$f":"'Entrar Dades'!R7","v":0},{"$f":"'Entrar Dades'!S7","v":0},{"$f":"'Entrar Dades'!T7","v":0},{"$f":"'Entrar Dades'!U7","v":{"$error":"#NUM!"}},{"$f":"'Entrar Dades'!V7","v":{"$error":"#NUM!"}},{"$f":"'Entrar Dades'!W7","v":{"$error":"#NUM!"}},{"$f":"'Entrar Dades'!X7","v":{"$error":"#NUM!"}},{"$f":"'Entrar Dades'!Z7","v":0},{"$f":"'Entrar Dades'!AA7","v":{"$error":"#NUM!"}},{"$f":"'Entrar Dades'!AC7","v":"4 "},{"$f":"'Entrar Dades'!AE7","v":0},{"$f":"'Entrar Dades'!AF7","v":0},{"$f":"'Entrar Dades'!AG7","v":0},{"$f":"'Entrar Dades'!AH7","v":0},{"$f":"'Entrar Dades'!AI7","v":{"$error":"#NUM!"}},{"$f":"'Entrar Dades'!AJ7","v":{"$error":"#NUM!"}},{"$f":"'Entrar Dades'!AK7","v":{"$error":"#NUM!"}},{"$f":"'Entrar Dades'!AL7","v":{"$error":"#NUM!"}},{"$f":"'Entrar Dades'!AN7","v":{"$error":"#NUM!"}},{"$f":"'Entrar Dades'!AO7","v":{"$error":"#NUM!"}},{"$f":"'Entrar Dades'!AP7","v":{"$error":"#NUM!"}},{"$f":"'Entrar Dades'!AQ7","v":{"$error":"#NUM!"}},{"$f":"'Entrar Dades'!AR7","v":{"$error":"#NUM!"}},{"$f":"'Entrar Dades'!AS7","v":0},{"$f":"'Entrar Dades'!AT7","v":0}]
[null,{"$f":"'Entrar Dades'!Q8","v":0},{"$f":"'Entrar Dades'!R8","v":0},{"$f":"'Entrar Dades'!S8","v":0},{"$f":"'Entrar Dades'!T8","v":0},{"$f":"'Entrar Dades'!U8","v":{"$error":"#NUM!"}},{"$f":"'Entrar Dades'!V8","v":{"$error":"#NUM!"}},{"$f":"'Entrar Dades'!W8","v":{"$error":"#NUM!"}},{"$f":"'Entrar Dades'!X8","v":{"$error":"#NUM!"}},{"$f":"'Entrar Dades'!Z8","v":0},{"$f":"'Entrar Dades'!AA8","v":{"$error":"#NUM!"}},{"$f":"'Entrar Dades'!AC8","v":"5 "},{"$f":"'Entrar Dades'!AE8","v":0},{"$f":"'Entrar Dades'!AF8","v":0},{"$f":"'Entrar Dades'!AG8","v":0},{"$f":"'Entrar Dades'!AH8","v":0},{"$f":"'Entrar Dades'!AI8","v":{"$error":"#NUM!"}},{"$f":"'Entrar Dades'!AJ8","v":{"$error":"#NUM!"}},{"$f":"'Entrar Dades'!AK8","v":{"$error":"#NUM!"}},{"$f":"'Entrar Dades'!AL8","v":{"$error":"#NUM!"}},{"$f":"'Entrar Dades'!AN8","v":{"$error":"#NUM!"}},{"$f":"'Entrar Dades'!AO8","v":{"$error":"#NUM!"}},{"$f":"'Entrar Dades'!AP8","v":{"$error":"#NUM!"}},{"$f":"'Entrar Dades'!AQ8","v":{"$error":"#NUM!"}},{"$f":"'Entrar Dades'!AR8","v":{"$error":"#NUM!"}},{"$f":"'Entrar Dades'!AS8","v":0},{"$f":"'Entrar Dades'!AT8","v":0}]
[null,{"$f":"'Entrar Dades'!Q9","v":0},{"$f":"'Entrar Dades'!R9","v":0},{"$f":"'Entrar Dades'!S9","v":0},{"$f":"'Entrar Dades'!T9","v":0},{"$f":"'Entrar Dades'!U9","v":{"$error":"#NUM!"}},{"$f":"'Entrar Dades'!V9","v":{"$error":"#NUM!"}},{"$f":"'Entrar Dades'!W9","v":{"$error":"#NUM!"}},{"$f":"'Entrar Dades'!X9","v":{"$error":"#NUM!"}},{"$f":"'Entrar Dades'!Z9","v":0},{"$f":"'Entrar Dades'!AA9","v":{"$error":"#NUM!"}},{"$f":"'Entrar Dades'!AC9","v":"6 "},{"$f":"'Entrar Dades'!AE9","v":0},{"$f":"'Entrar Dades'!AF9","v":0},{"$f":"'Entrar Dades'!AG9","v":0},{"$f":"'Entrar Dades'!AH9","v":0},{"$f":"'Entrar Dades'!AI9","v":{"$error":"#NUM!"}},{"$f":"'Entrar Dades'!AJ9","v":{"$error":"#NUM!"}},{"$f":"'Entrar Dades'!AK9","v":{"$error":"#NUM!"}},{"$f":"'Entrar Dades'!AL9","v":{"$error":"#NUM!"}},{"$f":"'Entrar Dades'!AN9","v":{"$error":"#NUM!"}},{"$f":"'Entrar Dades'!AO9","v":{"$error":"#NUM!"}},{"$f":"'Entrar Dades'!AP9","v":{"$error":"#NUM!"}},{"$f":"'Entrar Dades'!AQ9","v":{"$error":"#NUM!"}},{"$f":"'Entrar Dades'!AR9","v":{"$error":"#NUM!"}},{"$f":"'Entrar Dades'!AS9","v":0},{"$f":"'Entrar Dades'!AT9","v":0}]
[null,{"$f":"'Entrar Dades'!Q10","v":0},{"$f":"'Entrar Dades'!R10","v":0},{"$f":"'Entrar Dades'!S10","v":0},{"$f":"'Entrar Dades'!T10","v":0},{"$f":"'Entrar Dades'!U10","v":{"$error":"#NUM!"}},{"$f":"'Entrar Dades'!V10","v":{"$error":"#NUM!"}},{"$f":"'Entrar Dades'!W10","v":{"$error":"#NUM!"}},{"$f":"'Entrar Dades'!X10","v":{"$error":"#NUM!"}},{"$f":"'Entrar Dades'!Z10","v":0},{"$f":"'Entrar Dades'!AA10","v":{"$error":"#NUM!"}},{"$f":"'Entrar Dades'!AC10","v":"7 "},{"$f":"'Entrar Dades'!AE10","v":0},{"$f":"'Entrar Dades'!AF10","v":0},{"$f":"'Entrar Dades'!AG10","v":0},{"$f":"'Entrar Dades'!AH10","v":0},{"$f":"'Entrar Dades'!AI10","v":{"$error":"#NUM!"}},{"$f":"'Entrar Dades'!AJ10","v":{"$error":"#NUM!"}},{"$f":"'Entrar Dades'!AK10","v":{"$error":"#NUM!"}},{"$f":"'Entrar Dades'!AL10","v":{"$error":"#NUM!"}},{"$f":"'Entrar Dades'!AN10","v":{"$error":"#NUM!"}},{"$f":"'Entrar Dades'!AO10","v":{"$error":"#NUM!"}},{"$f":"'Entrar Dades'!AP10","v":{"$error":"#NUM!"}},{"$f":"'Entrar Dades'!AQ10","v":{"$error":"#NUM!"}},{"$f":"'Entrar Dades'!AR10","v":{"$error":"#NUM!"}},{"$f":"'Entrar Dades'!AS10","v":0},{"$f":"'Entrar Dades'!AT10","v":0}]
[null,{"$f":"'Entrar Dades'!Q11","v":0},{"$f":"'Entrar Dades'!R11","v":0},{"$f":"'Entrar Dades'!S11","v":0},{"$f":"'Entrar Dades'!T11","v":0},{"$f":"'Entrar Dades'!U11","v":{"$error":"#NUM!"}},{"$f":"'Entrar Dades'!V11","v":{"$error":"#NUM!"}},{"$f":"'Entrar Dades'!W11","v":{"$error":"#NUM!"}},{"$f":"'Entrar Dades'!X11","v":{"$error":"#NUM!"}},{"$f":"'Entrar Dades'!Z11","v":0},{"$f":"'Entrar Dades'!AA11","v":{"$error":"#NUM!"}},{"$f":"'Entrar Dades'!AC11","v":"8 "},{"$f":"'Entrar Dades'!AE11","v":0},{"$f":"'Entrar Dades'!AF11","v":0},{"$f":"'Entrar Dades'!AG11","v":0},{"$f":"'Entrar Dades'!AH11","v":0},{"$f":"'Entrar Dades'!AI11","v":{"$error":"#NUM!"}},{"$f":"'Entrar Dades'!AJ11","v":{"$error":"#NUM!"}},{"$f":"'Entrar Dades'!AK11","v":{"$error":"#NUM!"}},{"$f":"'Entrar Dades'!AL11","v":{"$error":"#NUM!"}},{"$f":"'Entrar Dades'!AN11","v":{"$error":"#NUM!"}},{"$f":"'Entrar Dades'!AO11","v":{"$error":"#NUM!"}},{"$f":"'Entrar Dades'!AP11","v":{"$error":"#NUM!"}},{"$f":"'Entrar Dades'!AQ11","v":{"$error":"#NUM!"}},{"$f":"'Entrar Dades'!AR11","v":{"$error":"#NUM!"}},{"$f":"'Entrar Dades'!AS11","v":0},{"$f":"'Entrar Dades'!AT11","v":0}]
[null,{"$f":"'Entrar Dades'!Q12","v":0},{"$f":"'Entrar Dades'!R12","v":0},{"$f":"'Entrar Dades'!S12","v":0},{"$f":"'Entrar Dades'!T12","v":0},{"$f":"'Entrar Dades'!U12","v":{"$error":"#NUM!"}},{"$f":"'Entrar Dades'!V12","v":{"$error":"#NUM!"}},{"$f":"'Entrar Dades'!W12","v":{"$error":"#NUM!"}},{"$f":"'Entrar Dades'!X12","v":{"$error":"#NUM!"}},{"$f":"'Entrar Dades'!Z12","v":0},{"$f":"'Entrar Dades'!AA12","v":{"$error":"#NUM!"}},{"$f":"'Entrar Dades'!AC12","v":"9 "},{"$f":"'Entrar Dades'!AE12","v":0},{"$f":"'Entrar Dades'!AF12","v":0},{"$f":"'Entrar Dades'!AG12","v":0},{"$f":"'Entrar Dades'!AH12","v":0},{"$f":"'Entrar Dades'!AI12","v":{"$error":"#NUM!"}},{"$f":"'Entrar Dades'!AJ12","v":{"$error":"#NUM!"}},{"$f":"'Entrar Dades'!AK12","v":{"$error":"#NUM!"}},{"$f":"'Entrar Dades'!AL12","v":{"$error":"#NUM!"}},{"$f":"'Entrar Dades'!AN12","v":{"$error":"#NUM!"}},{"$f":"'Entrar Dades'!AO12","v":{"$error":"#NUM!"}},{"$f":"'Entrar Dades'!AP12","v":{"$error":"#NUM!"}},{"$f":"'Entrar Dades'!AQ12","v":{"$error":"#NUM!"}},{"$f":"'Entrar Dades'!AR12","v":{"$error":"#NUM!"}},{"$f":"'Entrar Dades'!AS12","v":0},{"$f":"'Entrar Dades'!AT12","v":0}]
[null,{"$f":"'Entrar Dades'!Q13","v":0},{"$f":"'Entrar Dades'!R13","v":0},{"$f":"'Entrar Dades'!S13","v":0},{"$f":"'Entrar Dades'!T13","v":0},{"$f":"'Entrar Dades'!U13","v":{"$error":"#NUM!"}},{"$f":"'Entrar Dades'!V13","v":{"$error":"#NUM!"}},{"$f":"'Entrar Dades'!W13","v":{"$error":"#NUM!"}},{"$f":"'Entrar Dades'!X13","v":{"$error":"#NUM!"}},{"$f":"'Entrar Dades'!Z13","v":0},{"$f":"'Entrar Dades'!AA13","v":{"$error":"#NUM!"}},{"$f":"'Entrar Dades'!AC13","v":"10 "},{"$f":"'Entrar Dades'!AE13","v":0},{"$f":"'Entrar Dades'!AF13","v":0},{"$f":"'Entrar Dades'!AG13","v":0},{"$f":"'Entrar Dades'!AH13","v":0},{"$f":"'Entrar Dades'!AI13","v":{"$error":"#NUM!"}},{"$f":"'Entrar Dades'!AJ13","v":{"$error":"#NUM!"}},{"$f":"'Entrar Dades'!AK13","v":{"$error":"#NUM!"}},{"$f":"'Entrar Dades'!AL13","v":{"$error":"#NUM!"}},{"$f":"'Entrar Dades'!AN13","v":{"$error":"#NUM!"}},{"$f":"'Entrar Dades'!AO13","v":{"$error":"#NUM!"}},{"$f":"'Entrar Dades'!AP13","v":{"$error":"#NUM!"}},{"$f":"'Entrar Dades'!AQ13","v":{"$error":"#NUM!"}},{"$f":"'Entrar Dades'!AR13","v":{"$error":"#NUM!"}},{"$f":"'Entrar Dades'!AS13","v":0},{"$f":"'Entrar Dades'!AT13","v":0}]
[null,{"$f":"'Entrar Dades'!Q14","v":0},{"$f":"'Entrar Dades'!R14","v":0},{"$f":"'Entrar Dades'!S14","v":0},{"$f":"'Entrar Dades'!T14","v":0},{"$f":"'Entrar Dades'!U14","v":{"$error":"#NUM!"}},{"$f":"'Entrar Dades'!V14","v":{"$error":"#NUM!"}},{"$f":"'Entrar Dades'!W14","v":{"$error":"#NUM!"}},{"$f":"'Entrar Dades'!X14","v":{"$error":"#NUM!"}},{"$f":"'Entrar Dades'!Z14","v":0},{"$f":"'Entrar Dades'!AA14","v":{"$error":"#NUM!"}},{"$f":"'Entrar Dades'!AC14","v":"11 "},{"$f":"'Entrar Dades'!AE14","v":0},{"$f":"'Entrar Dades'!AF14","v":0},{"$f":"'Entrar Dades'!AG14","v":0},{"$f":"'Entrar Dades'!AH14","v":0},{"$f":"'Entrar Dades'!AI14","v":{"$error":"#NUM!"}},{"$f":"'Entrar Dades'!AJ14","v":{"$error":"#NUM!"}},{"$f":"'Entrar Dades'!AK14","v":{"$error":"#NUM!"}},{"$f":"'Entrar Dades'!AL14","v":{"$error":"#NUM!"}},{"$f":"'Entrar Dades'!AN14","v":{"$error":"#NUM!"}},{"$f":"'Entrar Dades'!AO14","v":{"$error":"#NUM!"}},{"$f":"'Entrar Dades'!AP14","v":{"$error":"#NUM!"}},{"$f":"'Entrar Dades'!AQ14","v":{"$error":"#NUM!"}},{"$f":"'Entrar Dades'!AR14","v":{"$error":"#NUM!"}},{"$f":"'Entrar Dades'!AS14","v":0},{"$f":"'Entrar Dades'!AT14","v":0}]
[null,{"$f":"'Entrar Dades'!Q15","v":0},{"$f":"'Entrar Dades'!R15","v":0},{"$f":"'Entrar Dades'!S15","v":0},{"$f":"'Entrar Dades'!T15","v":0},{"$f":"'Entrar Dades'!U15","v":{"$error":"#NUM!"}},{"$f":"'Entrar Dades'!V15","v":{"$error":"#NUM!"}},{"$f":"'Entrar Dades'!W15","v":{"$error":"#NUM!"}},{"$f":"'Entrar Dades'!X15","v":{"$error":"#NUM!"}},{"$f":"'Entrar Dades'!Z15","v":0},{"$f":"'Entrar Dades'!AA15","v":{"$error":"#NUM!"}},{"$f":"'Entrar Dades'!AC15","v":"12 "},{"$f":"'Entrar Dades'!AE15","v":0},{"$f":"'Entrar Dades'!AF15","v":0},{"$f":"'Entrar Dades'!AG15","v":0},{"$f":"'Entrar Dades'!AH15","v":0},{"$f":"'Entrar Dades'!AI15","v":{"$error":"#NUM!"}},{"$f":"'Entrar Dades'!AJ15","v":{"$error":"#NUM!"}},{"$f":"'Entrar Dades'!AK15","v":{"$error":"#NUM!"}},{"$f":"'Entrar Dades'!AL15","v":{"$error":"#NUM!"}},{"$f":"'Entrar Dades'!AN15","v":{"$error":"#NUM!"}},{"$f":"'Entrar Dades'!AO15","v":{"$error":"#NUM!"}},{"$f":"'Entrar Dades'!AP15","v":{"$error":"#NUM!"}},{"$f":"'Entrar Dades'!AQ15","v":{"$error":"#NUM!"}},{"$f":"'Entrar Dades'!AR15","v":{"$error":"#NUM!"}},{"$f":"'Entrar Dades'!AS15","v":0},{"$f":"'Entrar Dades'!AT15","v":0}]
[null,{"$f":"'Entrar Dades'!Q16","v":0},{"$f":"'Entrar Dades'!R16","v":0},{"$f":"'Entrar Dades'!S16","v":0},{"$f":"'Entrar Dades'!T16","v":0},{"$f":"'Entrar Dades'!U16","v":{"$error":"#NUM!"}},{"$f":"'Entrar Dades'!V16","v":{"$error":"#NUM!"}},{"$f":"'Entrar Dades'!W16","v":{"$error":"#NUM!"}},{"$f":"'Entrar Dades'!X16","v":{"$error":"#NUM!"}},{"$f":"'Entrar Dades'!Z16","v":0},{"$f":"'Entrar Dades'!AA16","v":{"$error":"#NUM!"}},{"$f":"'Entrar Dades'!AC16","v":"13 "},{"$f":"'Entrar Dades'!AE16","v":0},{"$f":"'Entrar Dades'!AF16","v":0},{"$f":"'Entrar Dades'!AG16","v":0},{"$f":"'Entrar Dades'!AH16","v":0},{"$f":"'Entrar Dades'!AI16","v":{"$error":"#NUM!"}},{"$f":"'Entrar Dades'!AJ16","v":{"$error":"#NUM!"}},{"$f":"'Entrar Dades'!AK16","v":{"$error":"#NUM!"}},{"$f":"'Entrar Dades'!AL16","v":{"$error":"#NUM!"}},{"$f":"'Entrar Dades'!AN16","v":{"$error":"#NUM!"}},{"$f":"'Entrar Dades'!AO16","v":{"$error":"#NUM!"}},{"$f":"'Entrar Dades'!AP16","v":{"$error":"#NUM!"}},{"$f":"'Entrar Dades'!AQ16","v":{"$error":"#NUM!"}},{"$f":"'Entrar Dades'!AR16","v":{"$error":"#NUM!"}},{"$f":"'Entrar Dades'!AS16","v":0},{"$f":"'Entrar Dades'!AT16","v":0}]
[null,{"$f":"'Entrar Dades'!Q17","v":0},{"$f":"'Entrar Dades'!R17","v":0},{"$f":"'Entrar Dades'!S17","v":0},{"$f":"'Entrar Dades'!T17","v":0},{"$f":"'Entrar Dades'!U17","v":{"$error":"#NUM!"}},{"$f":"'Entrar Dades'!V17","v":{"$error":"#NUM!"}},{"$f":"'Entrar Dades'!W17","v":{"$error":"#NUM!"}},{"$f":"'Entrar Dades'!X17","v":{"$error":"#NUM!"}},{"$f":"'Entrar Dades'!Z17","v":0},{"$f":"'Entrar Dades'!AA17","v":{"$error":"#NUM!"}},{"$f":"'Entrar Dades'!AC17","v":"14 "},{"$f":"'Entrar Dades'!AE17","v":0},{"$f":"'Entrar Dades'!AF17","v":0},{"$f":"'Entrar Dades'!AG17","v":0},{"$f":"'Entrar Dades'!AH17","v":0},{"$f":"'Entrar Dades'!AI17","v":{"$error":"#NUM!"}},{"$f":"'Entrar Dades'!AJ17","v":{"$error":"#NUM!"}},{"$f":"'Entrar Dades'!AK17","v":{"$error":"#NUM!"}},{"$f":"'Entrar Dades'!AL17","v":{"$error":"#NUM!"}},{"$f":"'Entrar Dades'!AN17","v":{"$error":"#NUM!"}},{"$f":"'Entrar Dades'!AO17","v":{"$error":"#NUM!"}},{"$f":"'Entrar Dades'!AP17","v":{"$error":"#NUM!"}},{"$f":"'Entrar Dades'!AQ17","v":{"$error":"#NUM!"}},{"$f":"'Entrar Dades'!AR17","v":{"$error":"#NUM!"}},{"$f":"'Entrar Dades'!AS17","v":0},{"$f":"'Entrar Dades'!AT17","v":0}]
[null,{"$f":"'Entrar Dades'!Q18","v":0},{"$f":"'Entrar Dades'!R18","v":0},{"$f":"'Entrar Dades'!S18","v":0},{"$f":"'Entrar Dades'!T18","v":0},{"$f":"'Entrar Dades'!U18","v":{"$error":"#NUM!"}},{"$f":"'Entrar Dades'!V18","v":{"$error":"#NUM!"}},{"$f":"'Entrar Dades'!W18","v":{"$error":"#NUM!"}},{"$f":"'Entrar Dades'!X18","v":{"$error":"#NUM!"}},{"$f":"'Entrar Dades'!Z18","v":0},{"$f":"'Entrar Dades'!AA18","v":{"$error":"#NUM!"}},{"$f":"'Entrar Dades'!AC18","v":"15 "},{"$f":"'Entrar Dades'!AE18","v":0},{"$f":"'Entrar Dades'!AF18","v":0},{"$f":"'Entrar Dades'!AG18","v":0},{"$f":"'Entrar Dades'!AH18","v":0},{"$f":"'Entrar Dades'!AI18","v":{"$error":"#NUM!"}},{"$f":"'Entrar Dades'!AJ18","v":{"$error":"#NUM!"}},{"$f":"'Entrar Dades'!AK18","v":{"$error":"#NUM!"}},{"$f":"'Entrar Dades'!AL18","v":{"$error":"#NUM!"}},{"$f":"'Entrar Dades'!AN18","v":{"$error":"#NUM!"}},{"$f":"'Entrar Dades'!AO18","v":{"$error":"#NUM!"}},{"$f":"'Entrar Dades'!AP18","v":{"$error":"#NUM!"}},{"$f":"'Entrar Dades'!AQ18","v":{"$error":"#NUM!"}},{"$f":"'Entrar Dades'!AR18","v":{"$error":"#NUM!"}},{"$f":"'Entrar Dades'!AS18","v":0},{"$f":"'Entrar Dades'!AT18","v":0}]
[null,{"$f":"'Entrar Dades'!Q19","v":0},{"$f":"'Entrar Dades'!R19","v":0},{"$f":"'Entrar Dades'!S19","v":0},{"$f":"'Entrar Dades'!T19","v":0},{"$f":"'Entrar Dades'!U19","v":{"$error":"#NUM!"}},{"$f":"'Entrar Dades'!V19","v":{"$error":"#NUM!"}},{"$f":"'Entrar Dades'!W19","v":{"$error":"#NUM!"}},{"$f":"'Entrar Dades'!X19","v":{"$error":"#NUM!"}},{"$f":"'Entrar Dades'!Z19","v":0},{"$f":"'Entrar Dades'!AA19","v":{"$error":"#NUM!"}},{"$f":"'Entrar Dades'!AC19","v":"16 "},{"$f":"'Entrar Dades'!AE19","v":0},{"$f":"'Entrar Dades'!AF19","v":0},{"$f":"'Entrar Dades'!AG19","v":0},{"$f":"'Entrar Dades'!AH19","v":0},{"$f":"'Entrar Dades'!AI19","v":{"$error":"#NUM!"}},{"$f":"'Entrar Dades'!AJ19","v":{"$error":"#NUM!"}},{"$f":"'Entrar Dades'!AK19","v":{"$error":"#NUM!"}},{"$f":"'Entrar Dades'!AL19","v":{"$error":"#NUM!"}},{"$f":"'Entrar Dades'!AN19","v":{"$error":"#NUM!"}},{"$f":"'Entrar Dades'!AO19","v":{"$error":"#NUM!"}},{"$f":"'Entrar Dades'!AP19","v":{"$error":"#NUM!"}},{"$f":"'Entrar Dades'!AQ19","v":{"$error":"#NUM!"}},{"$f":"'Entrar Dades'!AR19","v":{"$error":"#NUM!"}},{"$f":"'Entrar Dades'!AS19","v":0},{"$f":"'Entrar Dades'!AT19","v":0}]
[null,{"$f":"'Entrar Dades'!Q20","v":0},{"$f":"'Entrar Dades'!R20","v":0},{"$f":"'Entrar Dades'!S20","v":0},{"$f":"'Entrar Dades'!T20","v":0},{"$f":"'Entrar Dades'!U20","v":{"$error":"#NUM!"}},{"$f":"'Entrar Dades'!V20","v":{"$error":"#NUM!"}},{"$f":"'Entrar Dades'!W20","v":{"$error":"#NUM!"}},{"$f":"'Entrar Dades'!X20","v":{"$error":"#NUM!"}},{"$f":"'Entrar Dades'!Z20","v":0},{"$f":"'Entrar Dades'!AA20","v":{"$error":"#NUM!"}},{"$f":"'Entrar Dades'!AC20","v":"17 "},{"$f":"'Entrar Dades'!AE20","v":0},{"$f":"'Entrar Dades'!AF20","v":0},{"$f":"'Entrar Dades'!AG20","v":0},{"$f":"'Entrar Dades'!AH20","v":0},{"$f":"'Entrar Dades'!AI20","v":{"$error":"#NUM!"}},{"$f":"'Entrar Dades'!AJ20","v":{"$error":"#NUM!"}},{"$f":"'Entrar Dades'!AK20","v":{"$error":"#NUM!"}},{"$f":"'Entrar Dades'!AL20","v":{"$error":"#NUM!"}},{"$f":"'Entrar Dades'!AN20","v":{"$error":"#NUM!"}},{"$f":"'Entrar Dades'!AO20","v":{"$error":"#NUM!"}},{"$f":"'Entrar Dades'!AP20","v":{"$error":"#NUM!"}},{"$f":"'Entrar Dades'!AQ20","v":{"$error":"#NUM!"}},{"$f":"'Entrar Dades'!AR20","v":{"$error":"#NUM!"}},{"$f":"'Entrar Dades'!AS20","v":0},{"$f":"'Entrar Dades'!AT20","v":0}]
[null,{"$f":"'Entrar Dades'!Q21","v":0},{"$f":"'Entrar Dades'!R21","v":0},{"$f":"'Entrar Dades'!S21","v":0},{"$f":"'Entrar Dades'!T21","v":0},{"$f":"'Entrar Dades'!U21","v":{"$error":"#NUM!"}},{"$f":"'Entrar Dades'!V21","v":{"$error":"#NUM!"}},{"$f":"'Entrar Dades'!W21","v":{"$error":"#NUM!"}},{"$f":"'Entrar Dades'!X21","v":{"$error":"#NUM!"}},{"$f":"'Entrar Dades'!Z21","v":0},{"$f":"'Entrar Dades'!AA21","v":{"$error":"#NUM!"}},{"$f":"'Entrar Dades'!AC21","v":"18 "},{"$f":"'Entrar Dades'!AE21","v":0},{"$f":"'Entrar Dades'!AF21","v":0},{"$f":"'Entrar Dades'!AG21","v":0},{"$f":"'Entrar Dades'!AH21","v":0},{"$f":"'Entrar Dades'!AI21","v":{"$error":"#NUM!"}},{"$f":"'Entrar Dades'!AJ21","v":{"$error":"#NUM!"}},{"$f":"'Entrar Dades'!AK21","v":{"$error":"#NUM!"}},{"$f":"'Entrar Dades'!AL21","v":{"$error":"#NUM!"}},{"$f":"'Entrar Dades'!AN21","v":{"$error":"#NUM!"}},{"$f":"'Entrar Dades'!AO21","v":{"$error":"#NUM!"}},{"$f":"'Entrar Dades'!AP21","v":{"$error":"#NUM!"}},{"$f":"'Entrar Dades'!AQ21","v":{"$error":"#NUM!"}},{"$f":"'Entrar Dades'!AR21","v":{"$error":"#NUM!"}},{"$f":"'Entrar Dades'!AS21","v":0},{"$f":"'Entrar Dades'!AT21","v":0}]
[null,{"$f":"'Entrar Dades'!Q22","v":0},{"$f":"'Entrar Dades'!R22","v":0},{"$f":"'Entrar Dades'!S22","v":0},{"$f":"'Entrar Dades'!T22","v":0},{"$f":"'Entrar Dades'!U22","v":{"$error":"#NUM!"}},{"$f":"'Entrar Dades'!V22","v":{"$error":"#NUM!"}},{"$f":"'Entrar Dades'!W22","v":{"$error":"#NUM!"}},{"$f":"'Entrar Dades'!X22","v":{"$error":"#NUM!"}},{"$f":"'Entrar Dades'!Z22","v":0},{"$f":"'Entrar Dades'!AA22","v":{"$error":"#NUM!"}},{"$f":"'Entrar Dades'!AC22","v":"19 "},{"$f":"'Entrar Dades'!AE22","v":0},{"$f":"'Entrar Dades'!AF22","v":0},{"$f":"'Entrar Dades'!AG22","v":0},{"$f":"'Entrar Dades'!AH22","v":0},{"$f":"'Entrar Dades'!AI22","v":{"$error":"#NUM!"}},{"$f":"'Entrar Dades'!AJ22","v":{"$error":"#NUM!"}},{"$f":"'Entrar Dades'!AK22","v":{"$error":"#NUM!"}},{"$f":"'Entrar Dades'!AL22","v":{"$error":"#NUM!"}},{"$f":"'Entrar Dades'!AN22","v":{"$error":"#NUM!"}},{"$f":"'Entrar Dades'!AO22","v":{"$error":"#NUM!"}},{"$f":"'Entrar Dades'!AP22","v":{"$error":"#NUM!"}},{"$f":"'Entrar Dades'!AQ22","v":{"$error":"#NUM!"}},{"$f":"'Entrar Dades'!AR22","v":{"$error":"#NUM!"}},{"$f":"'Entrar Dades'!AS22","v":0},{"$f":"'Entrar Dades'!AT22","v":0}]
[null,{"$f":"'Entrar Dades'!Q23","v":0},{"$f":"'Entrar Dades'!R23","v":0},{"$f":"'Entrar Dades'!S23","v":0},{"$f":"'Entrar Dades'!T23","v":0},{"$f":"'Entrar Dades'!U23","v":{"$error":"#NUM!"}},{"$f":"'Entrar Dades'!V23","v":{"$error":"#NUM!"}},{"$f":"'Entrar Dades'!W23","v":{"$error":"#NUM!"}},{"$f":"'Entrar Dades'!X23","v":{"$error":"#NUM!"}},{"$f":"'Entrar Dades'!Z23","v":0},{"$f":"'Entrar Dades'!AA23","v":{"$error":"#NUM!"}},{"$f":"'Entrar Dades'!AC23","v":"20 "},{"$f":"'Entrar Dades'!AE23","v":0},{"$f":"'Entrar Dades'!AF23","v":0},{"$f":"'Entrar Dades'!AG23","v":0},{"$f":"'Entrar Dades'!AH23","v":0},{"$f":"'Entrar Dades'!AI23","v":{"$error":"#NUM!"}},{"$f":"'Entrar Dades'!AJ23","v":{"$error":"#NUM!"}},{"$f":"'Entrar Dades'!AK23","v":{"$error":"#NUM!"}},{"$f":"'Entrar Dades'!AL23","v":{"$error":"#NUM!"}},{"$f":"'Entrar Dades'!AN23","v":{"$error":"#NUM!"}},{"$f":"'Entrar Dades'!AO23","v":{"$error":"#NUM!"}},{"$f":"'Entrar Dades'!AP23","v":{"$error":"#NUM!"}},{"$f":"'Entrar Dades'!AQ23","v":{"$error":"#NUM!"}},{"$f":"'Entrar Dades'!AR23","v":{"$error":"#NUM!"}},{"$f":"'Entrar Dades'!AS23","v":0},{"$f":"'Entrar Dades'!AT23","v":0}]
[null,{"$f":"'Entrar Dades'!Q24","v":0},{"$f":"'Entrar Dades'!R24","v":0},{"$f":"'Entrar Dades'!S24","v":0},{"$f":"'Entrar Dades'!T24","v":0},{"$f":"'Entrar Dades'!U24","v":{"$error":"#NUM!"}},{"$f":"'Entrar Dades'!V24","v":{"$error":"#NUM!"}},{"$f":"'Entrar Dades'!W24","v":{"$error":"#NUM!"}},{"$f":"'Entrar Dades'!X24","v":{"$error":"#NUM!"}},{"$f":"'Entrar Dades'!Z24","v":0},{"$f":"'Entrar Dades'!AA24","v":{"$error":"#NUM!"}},{"$f":"'Entrar Dades'!AC24","v":"21 "},{"$f":"'Entrar Dades'!AE24","v":0},{"$f":"'Entrar Dades'!AF24","v":0},{"$f":"'Entrar Dades'!AG24","v":0},{"$f":"'Entrar Dades'!AH24","v":0},{"$f":"'Entrar Dades'!AI24","v":{"$error":"#NUM!"}},{"$f":"'Entrar Dades'!AJ24","v":{"$error":"#NUM!"}},{"$f":"'Entrar Dades'!AK24","v":{"$error":"#NUM!"}},{"$f":"'Entrar Dades'!AL24","v":{"$error":"#NUM!"}},{"$f":"'Entrar Dades'!AN24","v":{"$error":"#NUM!"}},{"$f":"'Entrar Dades'!AO24","v":{"$error":"#NUM!"}},{"$f":"'Entrar Dades'!AP24","v":{"$error":"#NUM!"}},{"$f":"'Entrar Dades'!AQ24","v":{"$error":"#NUM!"}},{"$f":"'Entrar Dades'!AR24","v":{"$error":"#NUM!"}},{"$f":"'Entrar Dades'!AS24","v":0},{"$f":"'Entrar Dades'!AT24","v":0}]
[null,{"$f":"'Entrar Dades'!Q25","v":0},{"$f":"'Entrar Dades'!R25","v":0},{"$f":"'Entrar Dades'!S25","v":0},{"$f":"'Entrar Dades'!T25","v":0},{"$f":"'Entrar Dades'!U25","v":{"$error":"#NUM!"}},{"$f":"'Entrar Dades'!V25","v":{"$error":"#NUM!"}},{"$f":"'Entrar Dades'!W25","v":{"$error":"#NUM!"}},{"$f":"'Entrar Dades'!X25","v":{"$error":"#NUM!"}},{"$f":"'Entrar Dades'!Z25","v":0},{"$f":"'Entrar Dades'!AA25","v":{"$error":"#NUM!"}},{"$f":"'Entrar Dades'!AC25","v":"22 "},{"$f":"'Entrar Dades'!AE25","v":0},{"$f":"'Entrar Dades'!AF25","v":0},{"$f":"'Entrar Dades'!AG25","v":0},{"$f":"'Entrar Dades'!AH25","v":0},{"$f":"'Entrar Dades'!AI25","v":{"$error":"#NUM!"}},{"$f":"'Entrar Dades'!AJ25","v":{"$error":"#NUM!"}},{"$f":"'Entrar Dades'!AK25","v":{"$error":"#NUM!"}},{"$f":"'Entrar Dades'!AL25","v":{"$error":"#NUM!"}},{"$f":"'Entrar Dades'!AN25","v":{"$error":"#NUM!"}},{"$f":"'Entrar Dades'!AO25","v":{"$error":"#NUM!"}},{"$f":"'Entrar Dades'!AP25","v":{"$error":"#NUM!"}},{"$f":"'Entrar Dades'!AQ25","v":{"$error":"#NUM!"}},{"$f":"'Entrar Dades'!AR25","v":{"$error":"#NUM!"}},{"$f":"'Entrar Dades'!AS25","v":0},{"$f":"'Entrar Dades'!AT25","v":0}]
[null,{"$f":"'Entrar Dades'!Q26","v":0},{"$f":"'Entrar Dades'!R26","v":0},{"$f":"'Entrar Dades'!S26","v":0},{"$f":"'Entrar Dades'!T26","v":0},{"$f":"'Entrar Dades'!U26","v":{"$error":"#NUM!"}},{"$f":"'Entrar Dades'!V26","v":{"$error":"#NUM!"}},{"$f":"'Entrar Dades'!W26","v":{"$error":"#NUM!"}},{"$f":"'Entrar Dades'!X26","v":{"$error":"#NUM!"}},{"$f":"'Entrar Dades'!Z26","v":0},{"$f":"'Entrar Dades'!AA26","v":{"$error":"#NUM!"}},{"$f":"'Entrar Dades'!AC26","v":"23 "},{"$f":"'Entrar Dades'!AE26","v":0},{"$f":"'Entrar Dades'!AF26","v":0},{"$f":"'Entrar Dades'!AG26","v":0},{"$f":"'Entrar Dades'!AH26","v":0},{"$f":"'Entrar Dades'!AI26","v":{"$error":"#NUM!"}},{"$f":"'Entrar Dades'!AJ26","v":{"$error":"#NUM!"}},{"$f":"'Entrar Dades'!AK26","v":{"$error":"#NUM!"}},{"$f":"'Entrar Dades'!AL26","v":{"$error":"#NUM!"}},{"$f":"'Entrar Dades'!AN26","v":{"$error":"#NUM!"}},{"$f":"'Entrar Dades'!AO26","v":{"$error":"#NUM!"}},{"$f":"'Entrar Dades'!AP26","v":{"$error":"#NUM!"}},{"$f":"'Entrar Dades'!AQ26","v":{"$error":"#NUM!"}},{"$f":"'Entrar Dades'!AR26","v":{"$error":"#NUM!"}},{"$f":"'Entrar Dades'!AS26","v":0},{"$f":"'Entrar Dades'!AT26","v":0}]
[null,{"$f":"'Entrar Dades'!Q27","v":0},{"$f":"'Entrar Dades'!R27","v":0},{"$f":"'Entrar Dades'!S27","v":0},{"$f":"'Entrar Dades'!T27","v":0},{"$f":"'Entrar Dades'!U27","v":{"$error":"#NUM!"}},{"$f":"'Entrar Dades'!V27","v":{"$error":"#NUM!"}},{"$f":"'Entrar Dades'!W27","v":{"$error":"#NUM!"}},{"$f":"'Entrar Dades'!X27","v":{"$error":"#NUM!"}},{"$f":"'Entrar Dades'!Z27","v":0},{"$f":"'Entrar Dades'!AA27","v":{"$error":"#NUM!"}},{"$f":"'Entrar Dades'!AC27","v":"24 "},{"$f":"'Entrar Dades'!AE27","v":0},{"$f":"'Entrar Dades'!AF27","v":0},{"$f":"'Entrar Dades'!AG27","v":0},{"$f":"'Entrar Dades'!AH27","v":0},{"$f":"'Entrar Dades'!AI27","v":{"$error":"#NUM!"}},{"$f":"'Entrar Dades'!AJ27","v":{"$error":"#NUM!"}},{"$f":"'Entrar Dades'!AK27","v":{"$error":"#NUM!"}},{"$f":"'Entrar Dades'!AL27","v":{"$error":"#NUM!"}},{"$f":"'Entrar Dades'!AN27","v":{"$error":"#NUM!"}},{"$f":"'Entrar Dades'!AO27","v":{"$error":"#NUM!"}},{"$f":"'Entrar Dades'!AP27","v":{"$error":"#NUM!"}},{"$f":"'Entrar Dades'!AQ27","v":{"$error":"#NUM!"}},{"$f":"'Entrar Dades'!AR27","v":{"$error":"#NUM!"}},{"$f":"'Entrar Dades'!AS27","v":0},{"$f":"'Entrar Dades'!AT27","v":0}]
[null,{"$f":"'Entrar Dades'!Q28","v":0},{"$f":"'Entrar Dades'!R28","v":0},{"$f":"'Entrar Dades'!S28","v":0},{"$f":"'Entrar Dades'!T28","v":0},{"$f":"'Entrar Dades'!U28","v":{"$error":"#NUM!"}},{"$f":"'Entrar Dades'!V28","v":{"$error":"#NUM!"}},{"$f":"'Entrar Dades'!W28","v":{"$error":"#NUM!"}},{"$f":"'Entrar Dades'!X28","v":{"$error":"#NUM!"}},{"$f":"'Entrar Dades'!Z28","v":0},{"$f":"'Entrar Dades'!AA28","v":{"$error":"#NUM!"}},{"$f":"'Entrar Dades'!AC28","v":"25 "},{"$f":"'Entrar Dades'!AE28","v":0},{"$f":"'Entrar Dades'!AF28","v":0},{"$f":"'Entrar Dades'!AG28","v":0},{"$f":"'Entrar Dades'!AH28","v":0},{"$f":"'Entrar Dades'!AI28","v":{"$error":"#NUM!"}},{"$f":"'Entrar Dades'!AJ28","v":{"$error":"#NUM!"}},{"$f":"'Entrar Dades'!AK28","v":{"$error":"#NUM!"}},{"$f":"'Entrar Dades'!AL28","v":{"$error":"#NUM!"}},{"$f":"'Entrar Dades'!AN28","v":{"$error":"#NUM!"}},{"$f":"'Entrar Dades'!AO28","v":{"$error":"#NUM!"}},{"$f":"'Entrar Dades'!AP28","v":{"$error":"#NUM!"}},{"$f":"'Entrar Dades'!AQ28","v":{"$error":"#NUM!"}},{"$f":"'Entrar Dades'!AR28","v":{"$error":"#NUM!"}},{"$f":"'Entrar Dades'!AS28","v":0},{"$f":"'Entrar Dades'!AT28","v":0}]
[null,{"$f":"'Entrar Dades'!Q29","v":0},{"$f":"'Entrar Dades'!R29","v":0},{"$f":"'Entrar Dades'!S29","v":0},{"$f":"'Entrar Dades'!T29","v":0},{"$f":"'Entrar Dades'!U29","v":{"$error":"#NUM!"}},{"$f":"'Entrar Dades'!V29","v":{"$error":"#NUM!"}},{"$f":"'Entrar Dades'!W29","v":{"$error":"#NUM!"}},{"$f":"'Entrar Dades'!X29","v":{"$error":"#NUM!"}},{"$f":"'Entrar Dades'!Z29","v":0},{"$f":"'Entrar Dades'!AA29","v":{"$error":"#NUM!"}},{"$f":"'Entrar Dades'!AC29","v":"26 "},{"$f":"'Entrar Dades'!AE29","v":0},{"$f":"'Entrar Dades'!AF29","v":0},{"$f":"'Entrar Dades'!AG29","v":0},{"$f":"'Entrar Dades'!AH29","v":0},{"$f":"'Entrar Dades'!AI29","v":{"$error":"#NUM!"}},{"$f":"'Entrar Dades'!AJ29","v":{"$error":"#NUM!"}},{"$f":"'Entrar Dades'!AK29","v":{"$error":"#NUM!"}},{"$f":"'Entrar Dades'!AL29","v":{"$error":"#NUM!"}},{"$f":"'Entrar Dades'!AN29","v":{"$error":"#NUM!"}},{"$f":"'Entrar Dades'!AO29","v":{"$error":"#NUM!"}},{"$f":"'Entrar Dades'!AP29","v":{"$error":"#NUM!"}},{"$f":"'Entrar Dades'!AQ29","v":{"$error":"#NUM!"}},{"$f":"'Entrar Dades'!AR29","v":{"$error":"#NUM!"}},{"$f":"'Entrar Dades'!AS29","v":0},{"$f":"'Entrar Dades'!AT29","v":0}]
[null,{"$f":"'Entrar Dades'!Q30","v":0},{"$f":"'Entrar Dades'!R30","v":0},{"$f":"'Entrar Dades'!S30","v":0},{"$f":"'Entrar Dades'!T30","v":0},{"$f":"'Entrar Dades'!U30","v":{"$error":"#NUM!"}},{"$f":"'Entrar Dades'!V30","v":{"$error":"#NUM!"}},{"$f":"'Entrar Dades'!W30","v":{"$error":"#NUM!"}},{"$f":"'Entrar Dades'!X30","v":{"$error":"#NUM!"}},{"$f":"'Entrar Dades'!Z30","v":0},{"$f":"'Entrar Dades'!AA30","v":{"$error":"#NUM!"}},{"$f":"'Entrar Dades'!AC30","v":"27 "},{"$f":"'Entrar Dades'!AE30","v":0},{"$f":"'Entrar Dades'!AF30","v":0},{"$f":"'Entrar Dades'!AG30","v":0},{"$f":"'Entrar Dades'!AH30","v":0},{"$f":"'Entrar Dades'!AI30","v":{"$error":"#NUM!"}},{"$f":"'Entrar Dades'!AJ30","v":{"$error":"#NUM!"}},{"$f":"'Entrar Dades'!AK30","v":{"$error":"#NUM!"}},{"$f":"'Entrar Dades'!AL30","v":{"$error":"#NUM!"}},{"$f":"'Entrar Dades'!AN30","v":{"$error":"#NUM!"}},{"$f":"'Entrar Dades'!AO30","v":{"$error":"#NUM!"}},{"$f":"'Entrar Dades'!AP30","v":{"$error":"#NUM!"}},{"$f":"'Entrar Dades'!AQ30","v":{"$error":"#NUM!"}},{"$f":"'Entrar Dades'!AR30","v":{"$error":"#NUM!"}},{"$f":"'Entrar Dades'!AS30","v":0},{"$f":"'Entrar Dades'!AT30","v":0}]
[null,{"$f":"'Entrar Dades'!Q31","v":0},{"$f":"'Entrar Dades'!R31","v":0},{"$f":"'Entrar Dades'!S31","v":0},{"$f":"'Entrar Dades'!T31","v":0},{"$f":"'Entrar Dades'!U31","v":{"$error":"#NUM!"}},{"$f":"'Entrar Dades'!V31","v":{"$error":"#NUM!"}},{"$f":"'Entrar Dades'!W31","v":{"$error":"#NUM!"}},{"$f":"'Entrar Dades'!X31","v":{"$error":"#NUM!"}},{"$f":"'Entrar Dades'!Z31","v":0},{"$f":"'Entrar Dades'!AA31","v":{"$error":"#NUM!"}},{"$f":"'Entrar Dades'!AC31","v":"28 "},{"$f":"'Entrar Dades'!AE31","v":0},{"$f":"'Entrar Dades'!AF31","v":0},{"$f":"'Entrar Dades'!AG31","v":0},{"$f":"'Entrar Dades'!AH31","v":0},{"$f":"'Entrar Dades'!AI31","v":{"$error":"#NUM!"}},{"$f":"'Entrar Dades'!AJ31","v":{"$error":"#NUM!"}},{"$f":"'Entrar Dades'!AK31","v":{"$error":"#NUM!"}},{"$f":"'Entrar Dades'!AL31","v":{"$error":"#NUM!"}},{"$f":"'Entrar Dades'!AN31","v":{"$error":"#NUM!"}},{"$f":"'Entrar Dades'!AO31","v":{"$error":"#NUM!"}},{"$f":"'Entrar Dades'!AP31","v":{"$error":"#NUM!"}},{"$f":"'Entrar Dades'!AQ31","v":{"$error":"#NUM!"}},{"$f":"'Entrar Dades'!AR31","v":{"$error":"#NUM!"}},{"$f":"'Entrar Dades'!AS31","v":0},{"$f":"'Entrar Dades'!AT31","v":0}]
[null,{"$f":"'Entrar Dades'!Q32","v":0},{"$f":"'Entrar Dades'!R32","v":0},{"$f":"'Entrar Dades'!S32","v":0},{"$f":"'Entrar Dades'!T32","v":0},{"$f":"'Entrar Dades'!U32","v":{"$error":"#NUM!"}},{"$f":"'Entrar Dades'!V32","v":{"$error":"#NUM!"}},{"$f":"'Entrar Dades'!W32","v":{"$error":"#NUM!"}},{"$f":"'Entrar Dades'!X32","v":{"$error":"#NUM!"}},{"$f":"'Entrar Dades'!Z32","v":0},{"$f":"'Entrar Dades'!AA32","v":{"$error":"#NUM!"}},{"$f":"'Entrar Dades'!AC32","v":"29 "},{"$f":"'Entrar Dades'!AE32","v":0},{"$f":"'Entrar Dades'!AF32","v":0},{"$f":"'Entrar Dades'!AG32","v":0},{"$f":"'Entrar Dades'!AH32","v":0},{"$f":"'Entrar Dades'!AI32","v":{"$error":"#NUM!"}},{"$f":"'Entrar Dades'!AJ32","v":{"$error":"#NUM!"}},{"$f":"'Entrar Dades'!AK32","v":{"$error":"#NUM!"}},{"$f":"'Entrar Dades'!AL32","v":{"$error":"#NUM!"}},{"$f":"'Entrar Dades'!AN32","v":{"$error":"#NUM!"}},{"$f":"'Entrar Dades'!AO32","v":{"$error":"#NUM!"}},{"$f":"'Entrar Dades'!AP32","v":{"$error":"#NUM!"}},{"$f":"'Entrar Dades'!AQ32","v":{"$error":"#NUM!"}},{"$f":"'Entrar Dades'!AR32","v":{"$error":"#NUM!"}},{"$f":"'Entrar Dades'!AS32","v":0},{"$f":"'Entrar Dades'!AT32","v":0}]
[null,{"$f":"'Entrar Dades'!Q33","v":0},{"$f":"'Entrar Dades'!R33","v":0},{"$f":"'Entrar Dades'!S33","v":0},{"$f":"'Entrar Dades'!T33","v":0},{"$f":"'Entrar Dades'!U33","v":{"$error":"#NUM!"}},{"$f":"'Entrar Dades'!V33","v":{"$error":"#NUM!"}},{"$f":"'Entrar Dades'!W33","v":{"$error":"#NUM!"}},{"$f":"'Entrar Dades'!X33","v":{"$error":"#NUM!"}},{"$f":"'Entrar Dades'!Z33","v":0},{"$f":"'Entrar Dades'!AA33","v":{"$error":"#NUM!"}},{"$f":"'Entrar Dades'!AC33","v":"30 "},{"$f":"'Entrar Dades'!AE33","v":0},{"$f":"'Entrar Dades'!AF33","v":0},{"$f":"'Entrar Dades'!AG33","v":0},{"$f":"'Entrar Dades'!AH33","v":0},{"$f":"'Entrar Dades'!AI33","v":{"$error":"#NUM!"}},{"$f":"'Entrar Dades'!AJ33","v":{"$error":"#NUM!"}},{"$f":"'Entrar Dades'!AK33","v":{"$error":"#NUM!"}},{"$f":"'Entrar Dades'!AL33","v":{"$error":"#NUM!"}},{"$f":"'Entrar Dades'!AN33","v":{"$error":"#NUM!"}},{"$f":"'Entrar Dades'!AO33","v":{"$error":"#NUM!"}},{"$f":"'Entrar Dades'!AP33","v":{"$error":"#NUM!"}},{"$f":"'Entrar Dades'!AQ33","v":{"$error":"#NUM!"}},{"$f":"'Entrar Dades'!AR33","v":{"$error":"#NUM!"}},{"$f":"'Entrar Dades'!AS33","v":0},{"$f":"'Entrar Dades'!AT33","v":0}]
[null,{"$f":"'Entrar Dades'!Q34","v":0},{"$f":"'Entrar Dades'!R34","v":0},{"$f":"'Entrar Dades'!S34","v":0},{"$f":"'Entrar Dades'!T34","v":0},{"$f":"'Entrar Dades'!U34","v":{"$error":"#NUM!"}},{"$f":"'Entrar Dades'!V34","v":{"$error":"#NUM!"}},{"$f":"'Entrar Dades'!W34","v":{"$error":"#NUM!"}},{"$f":"'Entrar Dades'!X34","v":{"$error":"#NUM!"}},{"$f":"'Entrar Dades'!Z34","v":0},{"$f":"'Entrar Dades'!AA34","v":{"$error":"#NUM!"}},{"$f":"'Entrar Dades'!AC34","v":"31 "},{"$f":"'Entrar Dades'!AE34","v":0},{"$f":"'Entrar Dades'!AF34","v":0},{"$f":"'Entrar Dades'!AG34","v":0},{"$f":"'Entrar Dades'!AH34","v":0},{"$f":"'Entrar Dades'!AI34","v":{"$error":"#NUM!"}},{"$f":"'Entrar Dades'!AJ34","v":{"$error":"#NUM!"}},{"$f":"'Entrar Dades'!AK34","v":{"$error":"#NUM!"}},{"$f":"'Entrar Dades'!AL34","v":{"$error":"#NUM!"}},{"$f":"'Entrar Dades'!AN34","v":{"$error":"#NUM!"}},{"$f":"'Entrar Dades'!AO34","v":{"$error":"#NUM!"}},{"$f":"'Entrar Dades'!AP34","v":{"$error":"#NUM!"}},{"$f":"'Entrar Dades'!AQ34","v":{"$error":"#NUM!"}},{"$f":"'Entrar Dades'!AR34","v":{"$error":"#NUM!"}},{"$f":"'Entrar Dades'!AS34","v":0},{"$f":"'Entrar Dades'!AT34","v":0}]
[null,{"$f":"'Entrar Dades'!Q35","v":0},{"$f":"'Entrar Dades'!R35","v":0},{"$f":"'Entrar Dades'!S35","v":0},{"$f":"'Entrar Dades'!T35","v":0},{"$f":"'Entrar Dades'!U35","v":{"$error":"#NUM!"}},{"$f":"'Entrar Dades'!V35","v":{"$error":"#NUM!"}},{"$f":"'Entrar Dades'!W35","v":{"$error":"#NUM!"}},{"$f":"'Entrar Dades'!X35","v":{"$error":"#NUM!"}},{"$f":"'Entrar Dades'!Z35","v":0},{"$f":"'Entrar Dades'!AA35","v":{"$error":"#NUM!"}},{"$f":"'Entrar Dades'!AC35","v":"32 "},{"$f":"'Entrar Dades'!AE35","v":0},{"$f":"'Entrar Dades'!AF35","v":0},{"$f":"'Entrar Dades'!AG35","v":0},{"$f":"'Entrar Dades'!AH35","v":0},{"$f":"'Entrar Dades'!AI35","v":{"$error":"#NUM!"}},{"$f":"'Entrar Dades'!AJ35","v":{"$error":"#NUM!"}},{"$f":"'Entrar Dades'!AK35","v":{"$error":"#NUM!"}},{"$f":"'Entrar Dades'!AL35","v":{"$error":"#NUM!"}},{"$f":"'Entrar Dades'!AN35","v":{"$error":"#NUM!"}},{"$f":"'Entrar Dades'!AO35","v":{"$error":"#NUM!"}},{"$f":"'Entrar Dades'!AP35","v":{"$error":"#NUM!"}},{"$f":"'Entrar Dades'!AQ35","v":{"$error":"#NUM!"}},{"$f":"'Entrar Dades'!AR35","v":{"$error":"#NUM!"}},{"$f":"'Entrar Dades'!AS35","v":0},{"$f":"'Entrar Dades'!AT35","v":0}]
[null,{"$f":"'Entrar Dades'!Q36","v":0},{"$f":"'Entrar Dades'!R36","v":0},{"$f":"'Entrar Dades'!S36","v":0},{"$f":"'Entrar Dades'!T36","v":0},{"$f":"'Entrar Dades'!U36","v":{"$error":"#NUM!"}},{"$f":"'Entrar Dades'!V36","v":{"$error":"#NUM!"}},{"$f":"'Entrar Dades'!W36","v":{"$error":"#NUM!"}},{"$f":"'Entrar Dades'!X36","v":{"$error":"#NUM!"}},{"$f":"'Entrar Dades'!Z36","v":0},{"$f":"'Entrar Dades'!AA36","v":{"$error":"#NUM!"}},{"$f":"'Entrar Dades'!AC36","v":"33 "},{"$f":"'Entrar Dades'!AE36","v":0},{"$f":"'Entrar Dades'!AF36","v":0},{"$f":"'Entrar Dades'!AG36","v":0},{"$f":"'Entrar Dades'!AH36","v":0},{"$f":"'Entrar Dades'!AI36","v":{"$error":"#NUM!"}},{"$f":"'Entrar Dades'!AJ36","v":{"$error":"#NUM!"}},{"$f":"'Entrar Dades'!AK36","v":{"$error":"#NUM!"}},{"$f":"'Entrar Dades'!AL36","v":{"$error":"#NUM!"}},{"$f":"'Entrar Dades'!AN36","v":{"$error":"#NUM!"}},{"$f":"'Entrar Dades'!AO36","v":{"$error":"#NUM!"}},{"$f":"'Entrar Dades'!AP36","v":{"$error":"#NUM!"}},{"$f":"'Entrar Dades'!AQ36","v":{"$error":"#NUM!"}},{"$f":"'Entrar Dades'!AR36","v":{"$error":"#NUM!"}},{"$f":"'Entrar Dades'!AS36","v":0},{"$f":"'Entrar Dades'!AT36","v":0}]
[null,{"$f":"'Entrar Dades'!Q37","v":0},{"$f":"'Entrar Dades'!R37","v":0},{"$f":"'Entrar Dades'!S37","v":0},{"$f":"'Entrar Dades'!T37","v":0},{"$f":"'Entrar Dades'!U37","v":{"$error":"#NUM!"}},{"$f":"'Entrar Dades'!V37","v":{"$error":"#NUM!"}},{"$f":"'Entrar Dades'!W37","v":{"$error":"#NUM!"}},{"$f":"'Entrar Dades'!X37","v":{"$error":"#NUM!"}},{"$f":"'Entrar Dades'!Z37","v":0},{"$f":"'Entrar Dades'!AA37","v":{"$error":"#NUM!"}},{"$f":"'Entrar Dades'!AC37","v":"34 "},{"$f":"'Entrar Dades'!AE37","v":0},{"$f":"'Entrar Dades'!AF37","v":0},{"$f":"'Entrar Dades'!AG37","v":0},{"$f":"'Entrar Dades'!AH37","v":0},{"$f":"'Entrar Dades'!AI37","v":{"$error":"#NUM!"}},{"$f":"'Entrar Dades'!AJ37","v":{"$error":"#NUM!"}},{"$f":"'Entrar Dades'!AK37","v":{"$error":"#NUM!"}},{"$f":"'Entrar Dades'!AL37","v":{"$error":"#NUM!"}},{"$f":"'Entrar Dades'!AN37","v":{"$error":"#NUM!"}},{"$f":"'Entrar Dades'!AO37","v":{"$error":"#NUM!"}},{"$f":"'Entrar Dades'!AP37","v":{"$error":"#NUM!"}},{"$f":"'Entrar Dades'!AQ37","v":{"$error":"#NUM!"}},{"$f":"'Entrar Dades'!AR37","v":{"$error":"#NUM!"}},{"$f":"'Entrar Dades'!AS37","v":0},{"$f":"'Entrar Dades'!AT37","v":0}]
[null,{"$f":"'Entrar Dades'!Q38","v":0},{"$f":"'Entrar Dades'!R38","v":0},{"$f":"'Entrar Dades'!S38","v":0},{"$f":"'Entrar Dades'!T38","v":0},{"$f":"'Entrar Dades'!U38","v":{"$error":"#NUM!"}},{"$f":"'Entrar Dades'!V38","v":{"$error":"#NUM!"}},{"$f":"'Entrar Dades'!W38","v":{"$error":"#NUM!"}},{"$f":"'Entrar Dades'!X38","v":{"$error":"#NUM!"}},{"$f":"'Entrar Dades'!Z38","v":0},{"$f":"'Entrar Dades'!AA38","v":{"$error":"#NUM!"}},{"$f":"'Entrar Dades'!AC38","v":"35 "},{"$f":"'Entrar Dades'!AE38","v":0},{"$f":"'Entrar Dades'!AF38","v":0},{"$f":"'Entrar Dades'!AG38","v":0},{"$f":"'Entrar Dades'!AH38","v":0},{"$f":"'Entrar Dades'!AI38","v":{"$error":"#NUM!"}},{"$f":"'Entrar Dades'!AJ38","v":{"$error":"#NUM!"}},{"$f":"'Entrar Dades'!AK38","v":{"$error":"#NUM!"}},{"$f":"'Entrar Dades'!AL38","v":{"$error":"#NUM!"}},{"$f":"'Entrar Dades'!AN38","v":{"$error":"#NUM!"}},{"$f":"'Entrar Dades'!AO38","v":{"$error":"#NUM!"}},{"$f":"'Entrar Dades'!AP38","v":{"$error":"#NUM!"}},{"$f":"'Entrar Dades'!AQ38","v":{"$error":"#NUM!"}},{"$f":"'Entrar Dades'!AR38","v":{"$error":"#NUM!"}},{"$f":"'Entrar Dades'!AS38","v":0},{"$f":"'Entrar Dades'!AT38","v":0}]
[null,{"$f":"'Entrar Dades'!Q40","v":0},{"$f":"'Entrar Dades'!R40","v":0},{"$f":"'Entrar Dades'!S40","v":0},{"$f":"'Entrar Dades'!T40","v":0},null,null,null,null,{"$f":"'Entrar Dades'!Z40","v":0},null,"mitjana",{"$f":"'Entrar Dades'!AE40","v":0},{"$f":"'Entrar Dades'!AF40","v":0},{"$f":"'Entrar Dades'!AG40","v":0},{"$f":"'Entrar Dades'!AH40","v":0},null,null,null,null,null,null,null,null,null,{"$f":"'Entrar Dades'!AS40","v":0},{"$f":"'Entrar Dades'!AT40","v":0}]
[null,{"$f":"'Entrar Dades'!Q41","v":0},{"$f":"'Entrar Dades'!R41","v":0},{"$f":"'Entrar Dades'!S41","v":0},{"$f":"'Entrar Dades'!T41","v":0},null,null,null,null,{"$f":"'Entrar Dades'!Z41","v":0},null,"desviació estándar",{"$f":"'Entrar Dades'!AE41","v":0},{"$f":"'Entrar Dades'!AF41","v":0},{"$f":"'Entrar Dades'!AG41","v":0},{"$f":"'Entrar Dades'!AH41","v":0},null,null,null,null,null,null,null,null,null,{"$f":"'Entrar Dades'!AS41","v":0},{"$f":"'Entrar Dades'!AT41","v":0}]

{"sheet":"IMPRIMIR RESPOSTES","index":2,"n_rows":108,"n_cols":28,"rows_kept":108,"cut":false,"hidden":false,"merged":[]}
[]
[null,{"$f":"'Entrar Dades'!B1","v":"Centre i grup: "},"M'agrada (+)","No m'agrada (-)","Empenta (Ag Física)","Insulta (Ag Verbal)","Exclou (Ag Relac)","Rumor (Ag Relac)","Ajuda (Prosocial)","Anima (Prosocial)","L'empenten (Vic Fís)","L'insulten (Víc Verbal)","L'exclouen (Vic Relac)","Amics",null,{"$f":"B2","v":"Centre i grup: "},"M'agrada (+)","No m'agrada (-)","Empenta (Ag Física)","Insulta (Ag Verbal)","Exclou (Ag Relac)","Rumor (Ag Relac)","Ajuda (Prosocial)","Anima (Prosocial)","L'empenten (Vic Fís)","L'insulten (Víc Verbal)","L'exclouen (Vic Relac)","Amics"]
[null,{"$f":"'Entrar Dades'!B2","v":"Data: "},1,2,5,8,6,3,4,7,9,10,11,12,null,{"$f":"B3","v":"Data: "},1,2,5,8,6,3,4,7,9,10,11,12]
[null,{"$f":"'Entrar Dades'!A50&\" \"&'Entrar Dades'!B50","v":"1 "},{"$f":"'Entrar Dades'!C50","v":0},{"$f":"'Entrar Dades'!D50","v":0},{"$f":"'Entrar Dades'!G50","v":0},{"$f":"'Entrar Dades'!J50","v":0},{"$f":"'Entrar Dades'!H50","v":0},{"$f":"'Entrar Dades'!E50","v":0},{"$f":"'Entrar Dades'!F50","v":0},{"$f":"'Entrar Dades'!I50","v":0},{"$f":"'Entrar Dades'!K50","v":0},{"$f":"'Entrar Dades'!L50","v":0},{"$f":"'Entrar Dades'!M50","v":0},{"$f":"'Entrar Dades'!N50","v":0}]
[null,null,{"$f":"'Entrar Dades'!C51","v":0},{"$f":"'Entrar Dades'!D51","v":0},{"$f":"'Entrar Dades'!G51","v":0},{"$f":"'Entrar Dades'!J51","v":0},{"$f":"'Entrar Dades'!H51","v":0},{"$f":"'Entrar Dades'!E51","v":0},{"$f":"'Entrar Dades'!F51","v":0},{"$f":"'Entrar Dades'!I51","v":0},{"$f":"'Entrar Dades'!K51","v":0},{"$f":"'Entrar Dades'!L51","v":0},{"$f":"'Entrar Dades'!M51","v":0},{"$f":"'Entrar Dades'!N51","v":0}]
[null,null,{"$f":"'Entrar Dades'!C52","v":0},{"$f":"'Entrar Dades'!D52","v":0},{"$f":"'Entrar Dades'!G52","v":0},{"$f":"'Entrar Dades'!J52","v":0},{"$f":"'Entrar Dades'!H52","v":0},{"$f":"'Entrar Dades'!E52","v":0},{"$f":"'Entrar Dades'!F52","v":0},{"$f":"'Entrar Dades'!I52","v":0},{"$f":"'Entrar Dades'!K52","v":0},{"$f":"'Entrar Dades'!L52","v":0},{"$f":"'Entrar Dades'!M52","v":0},{"$f":"'Entrar Dades'!N52","v":0}]
[null,{"$f":"'Entrar Dades'!A53&\" \"&'Entrar Dades'!B53","v":"2 "},{"$f":"'Entrar Dades'!C53","v":0},{"$f":"'Entrar Dades'!D53","v":0},{"$f":"'Entrar Dades'!G53","v":0},{"$f":"'Entrar Dades'!J53","v":0},{"$f":"'Entrar Dades'!H53","v":0},{"$f":"'Entrar Dades'!E53","v":0},{"$f":"'Entrar Dades'!F53","v":0},{"$f":"'Entrar Dades'!I53","v":0},{"$f":"'Entrar Dades'!K53","v":0},{"$f":"'Entrar Dades'!L53","v":0},{"$f":"'Entrar Dades'!M53","v":0},{"$f":"'Entrar Dades'!N53","v":0}]
[null,null,{"$f":"'Entrar Dades'!C54","v":0},{"$f":"'Entrar Dades'!D54","v":0},{"$f":"'Entrar Dades'!G54","v":0},{"$f":"'Entrar Dades'!J54","v":0},{"$f":"'Entrar Dades'!H54","v":0},{"$f":"'Entrar Dades'!E54","v":0},{"$f":"'Entrar Dades'!F54","v":0},{"$f":"'Entrar Dades'!I54","v":0},{"$f":"'Entrar Dades'!K54","v":0},{"$f":"'Entrar Dades'!L54","v":0},{"$f":"'Entrar Dades'!M54","v":0},{"$f":"'Entrar Dades'!N54","v":0}]
[null,null,{"$f":"'Entrar Dades'!C55","v":0},{"$f":"'Entrar Dades'!D55","v":0},{"$f":"'Entrar Dades'!G55","v":0},{"$f":"'Entrar Dades'!J55","v":0},{"$f":"'Entrar Dades'!H55","v":0},{"$f":"'Entrar Dades'!E55","v":0},{"$f":"'Entrar Dades'!F55","v":0},{"$f":"'Entrar Dades'!I55","v":0},{"$f":"'Entrar Dades'!K55","v":0},{"$f":"'Entrar Dades'!L55","v":0},{"$f":"'Entrar Dades'!M55","v":0},{"$f":"'Entrar Dades'!N55","v":0}]
[null,{"$f":"'Entrar Dades'!A56&\" \"&'Entrar Dades'!B56","v":"3 "},{"$f":"'Entrar Dades'!C56","v":0},{"$f":"'Entrar Dades'!D56","v":0},{"$f":"'Entrar Dades'!G56","v":0},{"$f":"'Entrar Dades'!J56","v":0},{"$f":"'Entrar Dades'!H56","v":0},{"$f":"'Entrar Dades'!E56","v":0},{"$f":"'Entrar Dades'!F56","v":0},{"$f":"'Entrar Dades'!I56","v":0},{"$f":"'Entrar Dades'!K56","v":0},{"$f":"'Entrar Dades'!L56","v":0},{"$f":"'Entrar Dades'!M56","v":0},{"$f":"'Entrar Dades'!N56","v":0}]
[null,null,{"$f":"'Entrar Dades'!C57","v":0},{"$f":"'Entrar Dades'!D57","v":0},{"$f":"'Entrar Dades'!G57","v":0},{"$f":"'Entrar Dades'!J57","v":0},{"$f":"'Entrar Dades'!H57","v":0},{"$f":"'Entrar Dades'!E57","v":0},{"$f":"'Entrar Dades'!F57","v":0},{"$f":"'Entrar Dades'!I57","v":0},{"$f":"'Entrar Dades'!K57","v":0},{"$f":"'Entrar Dades'!L57","v":0},{"$f":"'Entrar Dades'!M57","v":0},{"$f":"'Entrar Dades'!N57","v":0}]
[null,null,{"$f":"'Entrar Dades'!C58","v":0},{"$f":"'Entrar Dades'!D58","v":0},{"$f":"'Entrar Dades'!G58","v":0},{"$f":"'Entrar Dades'!J58","v":0},{"$f":"'Entrar Dades'!H58","v":0},{"$f":"'Entrar Dades'!E58","v":0},{"$f":"'Entrar Dades'!F58","v":0},{"$f":"'Entrar Dades'!I58","v":0},{"$f":"'Entrar Dades'!K58","v":0},{"$f":"'Entrar Dades'!L58","v":0},{"$f":"'Entrar Dades'!M58","v":0},{"$f":"'Entrar Dades'!N58","v":0}]
[null,{"$f":"'Entrar Dades'!A59&\" \"&'Entrar Dades'!B59","v":"4 "},{"$f":"'Entrar Dades'!C59","v":0},{"$f":"'Entrar Dades'!D59","v":0},{"$f":"'Entrar Dades'!G59","v":0},{"$f":"'Entrar Dades'!J59","v":0},{"$f":"'Entrar Dades'!H59","v":0},{"$f":"'Entrar Dades'!E59","v":0},{"$f":"'Entrar Dades'!F59","v":0},{"$f":"'Entrar Dades'!I59","v":0},{"$f":"'Entrar Dades'!K59","v":0},{"$f":"'Entrar Dades'!L59","v":0},{"$f":"'Entrar Dades'!M59","v":0},{"$f":"'Entrar Dades'!N59","v":0}]
[null,null,{"$f":"'Entrar Dades'!C60","v":0},{"$f":"'Entrar Dades'!D60","v":0},{"$f":"'Entrar Dades'!G60","v":0},{"$f":"'Entrar Dades'!J60","v":0},{"$f":"'Entrar Dades'!H60","v":0},{"$f":"'Entrar Dades'!E60","v":0},{"$f":"'Entrar Dades'!F60","v":0},{"$f":"'Entrar Dades'!I60","v":0},{"$f":"'Entrar Dades'!K60","v":0},{"$f":"'Entrar Dades'!L60","v":0},{"$f":"'Entrar Dades'!M60","v":0},{"$f":"'Entrar Dades'!N60","v":0}]
[null,null,{"$f":"'Entrar Dades'!C61","v":0},{"$f":"'Entrar Dades'!D61","v":0},{"$f":"'Entrar Dades'!G61","v":0},{"$f":"'Entrar Dades'!J61","v":0},{"$f":"'Entrar Dades'!H61","v":0},{"$f":"'Entrar Dades'!E61","v":0},{"$f":"'Entrar Dades'!F61","v":0},{"$f":"'Entrar Dades'!I61","v":0},{"$f":"'Entrar Dades'!K61","v":0},{"$f":"'Entrar Dades'!L61","v":0},{"$f":"'Entrar Dades'!M61","v":0},{"$f":"'Entrar Dades'!N61","v":0}]
[null,{"$f":"'Entrar Dades'!A62&\" \"&'Entrar Dades'!B62","v":"5 "},{"$f":"'Entrar Dades'!C62","v":0},{"$f":"'Entrar Dades'!D62","v":0},{"$f":"'Entrar Dades'!G62","v":0},{"$f":"'Entrar Dades'!J62","v":0},{"$f":"'Entrar Dades'!H62","v":0},{"$f":"'Entrar Dades'!E62","v":0},{"$f":"'Entrar Dades'!F62","v":0},{"$f":"'Entrar Dades'!I62","v":0},{"$f":"'Entrar Dades'!K62","v":0},{"$f":"'Entrar Dades'!L62","v":0},{"$f":"'Entrar Dades'!M62","v":0},{"$f":"'Entrar Dades'!N62","v":0}]
[null,null,{"$f":"'Entrar Dades'!C63","v":0},{"$f":"'Entrar Dades'!D63","v":0},{"$f":"'Entrar Dades'!G63","v":0},{"$f":"'Entrar Dades'!J63","v":0},{"$f":"'Entrar Dades'!H63","v":0},{"$f":"'Entrar Dades'!E63","v":0},{"$f":"'Entrar Dades'!F63","v":0},{"$f":"'Entrar Dades'!I63","v":0},{"$f":"'Entrar Dades'!K63","v":0},{"$f":"'Entrar Dades'!L63","v":0},{"$f":"'Entrar Dades'!M63","v":0},{"$f":"'Entrar Dades'!N63","v":0}]
[null,null,{"$f":"'Entrar Dades'!C64","v":0},{"$f":"'Entrar Dades'!D64","v":0},{"$f":"'Entrar Dades'!G64","v":0},{"$f":"'Entrar Dades'!J64","v":0},{"$f":"'Entrar Dades'!H64","v":0},{"$f":"'Entrar Dades'!E64","v":0},{"$f":"'Entrar Dades'!F64","v":0},{"$f":"'Entrar Dades'!I64","v":0},{"$f":"'Entrar Dades'!K64","v":0},{"$f":"'Entrar Dades'!L64","v":0},{"$f":"'Entrar Dades'!M64","v":0},{"$f":"'Entrar Dades'!N64","v":0}]
[null,{"$f":"'Entrar Dades'!A65&\" \"&'Entrar Dades'!B65","v":"6 "},{"$f":"'Entrar Dades'!C65","v":0},{"$f":"'Entrar Dades'!D65","v":0},{"$f":"'Entrar Dades'!G65","v":0},{"$f":"'Entrar Dades'!J65","v":0},{"$f":"'Entrar Dades'!H65","v":0},{"$f":"'Entrar Dades'!E65","v":0},{"$f":"'Entrar Dades'!F65","v":0},{"$f":"'Entrar Dades'!I65","v":0},{"$f":"'Entrar Dades'!K65","v":0},{"$f":"'Entrar Dades'!L65","v":0},{"$f":"'Entrar Dades'!M65","v":0},{"$f":"'Entrar Dades'!N65","v":0}]
[null,null,{"$f":"'Entrar Dades'!C66","v":0},{"$f":"'Entrar Dades'!D66","v":0},{"$f":"'Entrar Dades'!G66","v":0},{"$f":"'Entrar Dades'!J66","v":0},{"$f":"'Entrar Dades'!H66","v":0},{"$f":"'Entrar Dades'!E66","v":0},{"$f":"'Entrar Dades'!F66","v":0},{"$f":"'Entrar Dades'!I66","v":0},{"$f":"'Entrar Dades'!K66","v":0},{"$f":"'Entrar Dades'!L66","v":0},{"$f":"'Entrar Dades'!M66","v":0},{"$f":"'Entrar Dades'!N66","v":0}]
[null,null,{"$f":"'Entrar Dades'!C67","v":0},{"$f":"'Entrar Dades'!D67","v":0},{"$f":"'Entrar Dades'!G67","v":0},{"$f":"'Entrar Dades'!J67","v":0},{"$f":"'Entrar Dades'!H67","v":0},{"$f":"'Entrar Dades'!E67","v":0},{"$f":"'Entrar Dades'!F67","v":0},{"$f":"'Entrar Dades'!I67","v":0},{"$f":"'Entrar Dades'!K67","v":0},{"$f":"'Entrar Dades'!L67","v":0},{"$f":"'Entrar Dades'!M67","v":0},{"$f":"'Entrar Dades'!N67","v":0}]
[null,{"$f":"'Entrar Dades'!A68&\" \"&'Entrar Dades'!B68","v":"7 "},{"$f":"'Entrar Dades'!C68","v":0},{"$f":"'Entrar Dades'!D68","v":0},{"$f":"'Entrar Dades'!G68","v":0},{"$f":"'Entrar Dades'!J68","v":0},{"$f":"'Entrar Dades'!H68","v":0},{"$f":"'Entrar Dades'!E68","v":0},{"$f":"'Entrar Dades'!F68","v":0},{"$f":"'Entrar Dades'!I68","v":0},{"$f":"'Entrar Dades'!K68","v":0},{"$f":"'Entrar Dades'!L68","v":0},{"$f":"'Entrar Dades'!M68","v":0},{"$f":"'Entrar Dades'!N68","v":0}]
[null,null,{"$f":"'Entrar Dades'!C69","v":0},{"$f":"'Entrar Dades'!D69","v":0},{"$f":"'Entrar Dades'!G69","v":0},{"$f":"'Entrar Dades'!J69","v":0},{"$f":"'Entrar Dades'!H69","v":0},{"$f":"'Entrar Dades'!E69","v":0},{"$f":"'Entrar Dades'!F69","v":0},{"$f":"'Entrar Dades'!I69","v":0},{"$f":"'Entrar Dades'!K69","v":0},{"$f":"'Entrar Dades'!L69","v":0},{"$f":"'Entrar Dades'!M69","v":0},{"$f":"'Entrar Dades'!N69","v":0}]
[null,null,{"$f":"'Entrar Dades'!C70","v":0},{"$f":"'Entrar Dades'!D70","v":0},{"$f":"'Entrar Dades'!G70","v":0},{"$f":"'Entrar Dades'!J70","v":0},{"$f":"'Entrar Dades'!H70","v":0},{"$f":"'Entrar Dades'!E70","v":0},{"$f":"'Entrar Dades'!F70","v":0},{"$f":"'Entrar Dades'!I70","v":0},{"$f":"'Entrar Dades'!K70","v":0},{"$f":"'Entrar Dades'!L70","v":0},{"$f":"'Entrar Dades'!M70","v":0},{"$f":"'Entrar Dades'!N70","v":0}]
[null,{"$f":"'Entrar Dades'!A71&\" \"&'Entrar Dades'!B71","v":"8 "},{"$f":"'Entrar Dades'!C71","v":0},{"$f":"'Entrar Dades'!D71","v":0},{"$f":"'Entrar Dades'!G71","v":0},{"$f":"'Entrar Dades'!J71","v":0},{"$f":"'Entrar Dades'!H71","v":0},{"$f":"'Entrar Dades'!E71","v":0},{"$f":"'Entrar Dades'!F71","v":0},{"$f":"'Entrar Dades'!I71","v":0},{"$f":"'Entrar Dades'!K71","v":0},{"$f":"'Entrar Dades'!L71","v":0},{"$f":"'Entrar Dades'!M71","v":0},{"$f":"'Entrar Dades'!N71","v":0}]
[null,null,{"$f":"'Entrar Dades'!C72","v":0},{"$f":"'Entrar Dades'!D72","v":0},{"$f":"'Entrar Dades'!G72","v":0},{"$f":"'Entrar Dades'!J72","v":0},{"$f":"'Entrar Dades'!H72","v":0},{"$f":"'Entrar Dades'!E72","v":0},{"$f":"'Entrar Dades'!F72","v":0},{"$f":"'Entrar Dades'!I72","v":0},{"$f":"'Entrar Dades'!K72","v":0},{"$f":"'Entrar Dades'!L72","v":0},{"$f":"'Entrar Dades'!M72","v":0},{"$f":"'Entrar Dades'!N72","v":0}]
[null,null,{"$f":"'Entrar Dades'!C73","v":0},{"$f":"'Entrar Dades'!D73","v":0},{"$f":"'Entrar Dades'!G73","v":0},{"$f":"'Entrar Dades'!J73","v":0},{"$f":"'Entrar Dades'!H73","v":0},{"$f":"'Entrar Dades'!E73","v":0},{"$f":"'Entrar Dades'!F73","v":0},{"$f":"'Entrar Dades'!I73","v":0},{"$f":"'Entrar Dades'!K73","v":0},{"$f":"'Entrar Dades'!L73","v":0},{"$f":"'Entrar Dades'!M73","v":0},{"$f":"'Entrar Dades'!N73","v":0}]
[null,{"$f":"'Entrar Dades'!A74&\" \"&'Entrar Dades'!B74","v":"9 "},{"$f":"'Entrar Dades'!C74","v":0},{"$f":"'Entrar Dades'!D74","v":0},{"$f":"'Entrar Dades'!G74","v":0},{"$f":"'Entrar Dades'!J74","v":0},{"$f":"'Entrar Dades'!H74","v":0},{"$f":"'Entrar Dades'!E74","v":0},{"$f":"'Entrar Dades'!F74","v":0},{"$f":"'Entrar Dades'!I74","v":0},{"$f":"'Entrar Dades'!K74","v":0},{"$f":"'Entrar Dades'!L74","v":0},{"$f":"'Entrar Dades'!M74","v":0},{"$f":"'Entrar Dades'!N74","v":0}]
[null,null,{"$f":"'Entrar Dades'!C75","v":0},{"$f":"'Entrar Dades'!D75","v":0},{"$f":"'Entrar Dades'!G75","v":0},{"$f":"'Entrar Dades'!J75","v":0},{"$f":"'Entrar Dades'!H75","v":0},{"$f":"'Entrar Dades'!E75","v":0},{"$f":"'Entrar Dades'!F75","v":0},{"$f":"'Entrar Dades'!I75","v":0},{"$f":"'Entrar Dades'!K75","v":0},{"$f":"'Entrar Dades'!L75","v":0},{"$f":"'Entrar Dades'!M75","v":0},{"$f":"'Entrar Dades'!N75","v":0}]
[null,null,{"$f":"'Entrar Dades'!C76","v":0},{"$f":"'Entrar Dades'!D76","v":0},{"$f":"'Entrar Dades'!G76","v":0},{"$f":"'Entrar Dades'!J76","v":0},{"$f":"'Entrar Dades'!H76","v":0},{"$f":"'Entrar Dades'!E76","v":0},{"$f":"'Entrar Dades'!F76","v":0},{"$f":"'Entrar Dades'!I76","v":0},{"$f":"'Entrar Dades'!K76","v":0},{"$f":"'Entrar Dades'!L76","v":0},{"$f":"'Entrar Dades'!M76","v":0},{"$f":"'Entrar Dades'!N76","v":0}]
[null,{"$f":"'Entrar Dades'!A77&\" \"&'Entrar Dades'!B77","v":"10 "},{"$f":"'Entrar Dades'!C77","v":0},{"$f":"'Entrar Dades'!D77","v":0},{"$f":"'Entrar Dades'!G77","v":0},{"$f":"'Entrar Dades'!J77","v":0},{"$f":"'Entrar Dades'!H77","v":0},{"$f":"'Entrar Dades'!E77","v":0},{"$f":"'Entrar Dades'!F77","v":0},{"$f":"'Entrar Dades'!I77","v":0},{"$f":"'Entrar Dades'!K77","v":0},{"$f":"'Entrar Dades'!L77","v":0},{"$f":"'Entrar Dades'!M77","v":0},{"$f":"'Entrar Dades'!N77","v":0}]
[null,null,{"$f":"'Entrar Dades'!C78","v":0},{"$f":"'Entrar Dades'!D78","v":0},{"$f":"'Entrar Dades'!G78","v":0},{"$f":"'Entrar Dades'!J78","v":0},{"$f":"'Entrar Dades'!H78","v":0},{"$f":"'Entrar Dades'!E78","v":0},{"$f":"'Entrar Dades'!F78","v":0},{"$f":"'Entrar Dades'!I78","v":0},{"$f":"'Entrar Dades'!K78","v":0},{"$f":"'Entrar Dades'!L78","v":0},{"$f":"'Entrar Dades'!M78","v":0},{"$f":"'Entrar Dades'!N78","v":0}]
[null,null,{"$f":"'Entrar Dades'!C79","v":0},{"$f":"'Entrar Dades'!D79","v":0},{"$f":"'Entrar Dades'!G79","v":0},{"$f":"'Entrar Dades'!J79","v":0},{"$f":"'Entrar Dades'!H79","v":0},{"$f":"'Entrar Dades'!E79","v":0},{"$f":"'Entrar Dades'!F79","v":0},{"$f":"'Entrar Dades'!I79","v":0},{"$f":"'Entrar Dades'!K79","v":0},{"$f":"'Entrar Dades'!L79","v":0},{"$f":"'Entrar Dades'!M79","v":0},{"$f":"'Entrar Dades'!N79","v":0}]
[null,{"$f":"'Entrar Dades'!A80&\" \"&'Entrar Dades'!B80","v":"11 "},{"$f":"'Entrar Dades'!C80","v":0},{"$f":"'Entrar Dades'!D80","v":0},{"$f":"'Entrar Dades'!G80","v":0},{"$f":"'Entrar Dades'!J80","v":0},{"$f":"'Entrar Dades'!H80","v":0},{"$f":"'Entrar Dades'!E80","v":0},{"$f":"'Entrar Dades'!F80","v":0},{"$f":"'Entrar Dades'!I80","v":0},{"$f":"'Entrar Dades'!K80","v":0},{"$f":"'Entrar Dades'!L80","v":0},{"$f":"'Entrar Dades'!M80","v":0},{"$f":"'Entrar Dades'!N80","v":0}]
[null,null,{"$f":"'Entrar Dades'!C81","v":0},{"$f":"'Entrar Dades'!D81","v":0},{"$f":"'Entrar Dades'!G81","v":0},{"$f":"'Entrar Dades'!J81","v":0},{"$f":"'Entrar Dades'!H81","v":0},{"$f":"'Entrar Dades'!E81","v":0},{"$f":"'Entrar Dades'!F81","v":0},{"$f":"'Entrar Dades'!I81","v":0},{"$f":"'Entrar Dades'!K81","v":0},{"$f":"'Entrar Dades'!L81","v":0},{"$f":"'Entrar Dades'!M81","v":0},{"$f":"'Entrar Dades'!N81","v":0}]
[null,null,{"$f":"'Entrar Dades'!C82","v":0},{"$f":"'Entrar Dades'!D82","v":0},{"$f":"'Entrar Dades'!G82","v":0},{"$f":"'Entrar Dades'!J82","v":0},{"$f":"'Entrar Dades'!H82","v":0},{"$f":"'Entrar Dades'!E82","v":0},{"$f":"'Entrar Dades'!F82","v":0},{"$f":"'Entrar Dades'!I82","v":0},{"$f":"'Entrar Dades'!K82","v":0},{"$f":"'Entrar Dades'!L82","v":0},{"$f":"'Entrar Dades'!M82","v":0},{"$f":"'Entrar Dades'!N82","v":0}]
[null,{"$f":"'Entrar Dades'!A83&\" \"&'Entrar Dades'!B83","v":"12 "},{"$f":"'Entrar Dades'!C83","v":0},{"$f":"'Entrar Dades'!D83","v":0},{"$f":"'Entrar Dades'!G83","v":0},{"$f":"'Entrar Dades'!J83","v":0},{"$f":"'Entrar Dades'!H83","v":0},{"$f":"'Entrar Dades'!E83","v":0},{"$f":"'Entrar Dades'!F83","v":0},{"$f":"'Entrar Dades'!I83","v":0},{"$f":"'Entrar Dades'!K83","v":0},{"$f":"'Entrar Dades'!L83","v":0},{"$f":"'Entrar Dades'!M83","v":0},{"$f":"'Entrar Dades'!N83","v":0}]
[null,null,{"$f":"'Entrar Dades'!C84","v":0},{"$f":"'Entrar Dades'!D84","v":0},{"$f":"'Entrar Dades'!G84","v":0},{"$f":"'Entrar Dades'!J84","v":0},{"$f":"'Entrar Dades'!H84","v":0},{"$f":"'Entrar Dades'!E84","v":0},{"$f":"'Entrar Dades'!F84","v":0},{"$f":"'Entrar Dades'!I84","v":0},{"$f":"'Entrar Dades'!K84","v":0},{"$f":"'Entrar Dades'!L84","v":0},{"$f":"'Entrar Dades'!M84","v":0},{"$f":"'Entrar Dades'!N84","v":0}]
[null,null,{"$f":"'Entrar Dades'!C85","v":0},{"$f":"'Entrar Dades'!D85","v":0},{"$f":"'Entrar Dades'!G85","v":0},{"$f":"'Entrar Dades'!J85","v":0},{"$f":"'Entrar Dades'!H85","v":0},{"$f":"'Entrar Dades'!E85","v":0},{"$f":"'Entrar Dades'!F85","v":0},{"$f":"'Entrar Dades'!I85","v":0},{"$f":"'Entrar Dades'!K85","v":0},{"$f":"'Entrar Dades'!L85","v":0},{"$f":"'Entrar Dades'!M85","v":0},{"$f":"'Entrar Dades'!N85","v":0}]
[null,{"$f":"'Entrar Dades'!A86&\" \"&'Entrar Dades'!B86","v":"13 "},{"$f":"'Entrar Dades'!C86","v":0},{"$f":"'Entrar Dades'!D86","v":0},{"$f":"'Entrar Dades'!G86","v":0},{"$f":"'Entrar Dades'!J86","v":0},{"$f":"'Entrar Dades'!H86","v":0},{"$f":"'Entrar Dades'!E86","v":0},{"$f":"'Entrar Dades'!F86","v":0},{"$f":"'Entrar Dades'!I86","v":0},{"$f":"'Entrar Dades'!K86","v":0},{"$f":"'Entrar Dades'!L86","v":0},{"$f":"'Entrar Dades'!M86","v":0},{"$f":"'Entrar Dades'!N86","v":0}]
[null,null,{"$f":"'Entrar Dades'!C87","v":0},{"$f":"'Entrar Dades'!D87","v":0},{"$f":"'Entrar Dades'!G87","v":0},{"$f":"'Entrar Dades'!J87","v":0},{"$f":"'Entrar Dades'!H87","v":0},{"$f":"'Entrar Dades'!E87","v":0},{"$f":"'Entrar Dades'!F87","v":0},{"$f":"'Entrar Dades'!I87","v":0},{"$f":"'Entrar Dades'!K87","v":0},{"$f":"'Entrar Dades'!L87","v":0},{"$f":"'Entrar Dades'!M87","v":0},{"$f":"'Entrar Dades'!N87","v":0}]
[null,null,{"$f":"'Entrar Dades'!C88","v":0},{"$f":"'Entrar Dades'!D88","v":0},{"$f":"'Entrar Dades'!G88","v":0},{"$f":"'Entrar Dades'!J88","v":0},{"$f":"'Entrar Dades'!H88","v":0},{"$f":"'Entrar Dades'!E88","v":0},{"$f":"'Entrar Dades'!F88","v":0},{"$f":"'Entrar Dades'!I88","v":0},{"$f":"'Entrar Dades'!K88","v":0},{"$f":"'Entrar Dades'!L88","v":0},{"$f":"'Entrar Dades'!M88","v":0},{"$f":"'Entrar Dades'!N88","v":0}]
[null,{"$f":"'Entrar Dades'!A89&\" \"&'Entrar Dades'!B89","v":"14 "},{"$f":"'Entrar Dades'!C89","v":0},{"$f":"'Entrar Dades'!D89","v":0},{"$f":"'Entrar Dades'!G89","v":0},{"$f":"'Entrar Dades'!J89","v":0},{"$f":"'Entrar Dades'!H89","v":0},{"$f":"'Entrar Dades'!E89","v":0},{"$f":"'Entrar Dades'!F89","v":0},{"$f":"'Entrar Dades'!I89","v":0},{"$f":"'Entrar Dades'!K89","v":0},{"$f":"'Entrar Dades'!L89","v":0},{"$f":"'Entrar Dades'!M89","v":0},{"$f":"'Entrar Dades'!N89","v":0}]
[null,null,{"$f":"'Entrar Dades'!C90","v":0},{"$f":"'Entrar Dades'!D90","v":0},{"$f":"'Entrar Dades'!G90","v":0},{"$f":"'Entrar Dades'!J90","v":0},{"$f":"'Entrar Dades'!H90","v":0},{"$f":"'Entrar Dades'!E90","v":0},{"$f":"'Entrar Dades'!F90","v":0},{"$f":"'Entrar Dades'!I90","v":0},{"$f":"'Entrar Dades'!K90","v":0},{"$f":"'Entrar Dades'!L90","v":0},{"$f":"'Entrar Dades'!M90","v":0},{"$f":"'Entrar Dades'!N90","v":0}]
[null,null,{"$f":"'Entrar Dades'!C91","v":0},{"$f":"'Entrar Dades'!D91","v":0},{"$f":"'Entrar Dades'!G91","v":0},{"$f":"'Entrar Dades'!J91","v":0},{"$f":"'Entrar Dades'!H91","v":0},{"$f":"'Entrar Dades'!E91","v":0},{"$f":"'Entrar Dades'!F91","v":0},{"$f":"'Entrar Dades'!I91","v":0},{"$f":"'Entrar Dades'!K91","v":0},{"$f":"'Entrar Dades'!L91","v":0},{"$f":"'Entrar Dades'!M91","v":0},{"$f":"'Entrar Dades'!N91","v":0}]
[null,{"$f":"'Entrar Dades'!A92&\" \"&'Entrar Dades'!B92","v":"15 "},{"$f":"'Entrar Dades'!C92","v":0},{"$f":"'Entrar Dades'!D92","v":0},{"$f":"'Entrar Dades'!G92","v":0},{"$f":"'Entrar Dades'!J92","v":0},{"$f":"'Entrar Dades'!H92","v":0},{"$f":"'Entrar Dades'!E92","v":0},{"$f":"'Entrar Dades'!F92","v":0},{"$f":"'Entrar Dades'!I92","v":0},{"$f":"'Entrar Dades'!K92","v":0},{"$f":"'Entrar Dades'!L92","v":0},{"$f":"'Entrar Dades'!M92","v":0},{"$f":"'Entrar Dades'!N92","v":0}]
[null,null,{"$f":"'Entrar Dades'!C93","v":0},{"$f":"'Entrar Dades'!D93","v":0},{"$f":"'Entrar Dades'!G93","v":0},{"$f":"'Entrar Dades'!J93","v":0},{"$f":"'Entrar Dades'!H93","v":0},{"$f":"'Entrar Dades'!E93","v":0},{"$f":"'Entrar Dades'!F93","v":0},{"$f":"'Entrar Dades'!I93","v":0},{"$f":"'Entrar Dades'!K93","v":0},{"$f":"'Entrar Dades'!L93","v":0},{"$f":"'Entrar Dades'!M93","v":0},{"$f":"'Entrar Dades'!N93","v":0}]
[null,null,{"$f":"'Entrar Dades'!C94","v":0},{"$f":"'Entrar Dades'!D94","v":0},{"$f":"'Entrar Dades'!G94","v":0},{"$f":"'Entrar Dades'!J94","v":0},{"$f":"'Entrar Dades'!H94","v":0},{"$f":"'Entrar Dades'!E94","v":0},{"$f":"'Entrar Dades'!F94","v":0},{"$f":"'Entrar Dades'!I94","v":0},{"$f":"'Entrar Dades'!K94","v":0},{"$f":"'Entrar Dades'!L94","v":0},{"$f":"'Entrar Dades'!M94","v":0},{"$f":"'Entrar Dades'!N94","v":0}]
[null,{"$f":"'Entrar Dades'!A95&\" \"&'Entrar Dades'!B95","v":"16 "},{"$f":"'Entrar Dades'!C95","v":0},{"$f":"'Entrar Dades'!D95","v":0},{"$f":"'Entrar Dades'!G95","v":0},{"$f":"'Entrar Dades'!J95","v":0},{"$f":"'Entrar Dades'!H95","v":0},{"$f":"'Entrar Dades'!E95","v":0},{"$f":"'Entrar Dades'!F95","v":0},{"$f":"'Entrar Dades'!I95","v":0},{"$f":"'Entrar Dades'!K95","v":0},{"$f":"'Entrar Dades'!L95","v":0},{"$f":"'Entrar Dades'!M95","v":0},{"$f":"'Entrar Dades'!N95","v":0}]
[null,null,{"$f":"'Entrar Dades'!C96","v":0},{"$f":"'Entrar Dades'!D96","v":0},{"$f":"'Entrar Dades'!G96","v":0},{"$f":"'Entrar Dades'!J96","v":0},{"$f":"'Entrar Dades'!H96","v":0},{"$f":"'Entrar Dades'!E96","v":0},{"$f":"'Entrar Dades'!F96","v":0},{"$f":"'Entrar Dades'!I96","v":0},{"$f":"'Entrar Dades'!K96","v":0},{"$f":"'Entrar Dades'!L96","v":0},{"$f":"'Entrar Dades'!M96","v":0},{"$f":"'Entrar Dades'!N96","v":0}]
[null,null,{"$f":"'Entrar Dades'!C97","v":0},{"$f":"'Entrar Dades'!D97","v":0},{"$f":"'Entrar Dades'!G97","v":0},{"$f":"'Entrar Dades'!J97","v":0},{"$f":"'Entrar Dades'!H97","v":0},{"$f":"'Entrar Dades'!E97","v":0},{"$f":"'Entrar Dades'!F97","v":0},{"$f":"'Entrar Dades'!I97","v":0},{"$f":"'Entrar Dades'!K97","v":0},{"$f":"'Entrar Dades'!L97","v":0},{"$f":"'Entrar Dades'!M97","v":0},{"$f":"'Entrar Dades'!N97","v":0}]
[null,{"$f":"'Entrar Dades'!A98&\" \"&'Entrar Dades'!B98","v":"17 "},{"$f":"'Entrar Dades'!C98","v":0},{"$f":"'Entrar Dades'!D98","v":0},{"$f":"'Entrar Dades'!G98","v":0},{"$f":"'Entrar Dades'!J98","v":0},{"$f":"'Entrar Dades'!H98","v":0},{"$f":"'Entrar Dades'!E98","v":0},{"$f":"'Entrar Dades'!F98","v":0},{"$f":"'Entrar Dades'!I98","v":0},{"$f":"'Entrar Dades'!K98","v":0},{"$f":"'Entrar Dades'!L98","v":0},{"$f":"'Entrar Dades'!M98","v":0},{"$f":"'Entrar Dades'!N98","v":0}]
[null,null,{"$f":"'Entrar Dades'!C99","v":0},{"$f":"'Entrar Dades'!D99","v":0},{"$f":"'Entrar Dades'!G99","v":0},{"$f":"'Entrar Dades'!J99","v":0},{"$f":"'Entrar Dades'!H99","v":0},{"$f":"'Entrar Dades'!E99","v":0},{"$f":"'Entrar Dades'!F99","v":0},{"$f":"'Entrar Dades'!I99","v":0},{"$f":"'Entrar Dades'!K99","v":0},{"$f":"'Entrar Dades'!L99","v":0},{"$f":"'Entrar Dades'!M99","v":0},{"$f":"'Entrar Dades'!N99","v":0}]
[null,null,{"$f":"'Entrar Dades'!C100","v":0},{"$f":"'Entrar Dades'!D100","v":0},{"$f":"'Entrar Dades'!G100","v":0},{"$f":"'Entrar Dades'!J100","v":0},{"$f":"'Entrar Dades'!H100","v":0},{"$f":"'Entrar Dades'!E100","v":0},{"$f":"'Entrar Dades'!F100","v":0},{"$f":"'Entrar Dades'!I100","v":0},{"$f":"'Entrar Dades'!K100","v":0},{"$f":"'Entrar Dades'!L100","v":0},{"$f":"'Entrar Dades'!M100","v":0},{"$f":"'Entrar Dades'!N100","v":0}]
[null,{"$f":"'Entrar Dades'!A101&\" \"&'Entrar Dades'!B101","v":"18 "},{"$f":"'Entrar Dades'!C101","v":0},{"$f":"'Entrar Dades'!D101","v":0},{"$f":"'Entrar Dades'!G101","v":0},{"$f":"'Entrar Dades'!J101","v":0},{"$f":"'Entrar Dades'!H101","v":0},{"$f":"'Entrar Dades'!E101","v":0},{"$f":"'Entrar Dades'!F101","v":0},{"$f":"'Entrar Dades'!I101","v":0},{"$f":"'Entrar Dades'!K101","v":0},{"$f":"'Entrar Dades'!L101","v":0},{"$f":"'Entrar Dades'!M101","v":0},{"$f":"'Entrar Dades'!N101","v":0}]
[null,null,{"$f":"'Entrar Dades'!C102","v":0},{"$f":"'Entrar Dades'!D102","v":0},{"$f":"'Entrar Dades'!G102","v":0},{"$f":"'Entrar Dades'!J102","v":0},{"$f":"'Entrar Dades'!H102","v":0},{"$f":"'Entrar Dades'!E102","v":0},{"$f":"'Entrar Dades'!F102","v":0},{"$f":"'Entrar Dades'!I102","v":0},{"$f":"'Entrar Dades'!K102","v":0},{"$f":"'Entrar Dades'!L102","v":0},{"$f":"'Entrar Dades'!M102","v":0},{"$f":"'Entrar Dades'!N102","v":0}]
[null,null,{"$f":"'Entrar Dades'!C103","v":0},{"$f":"'Entrar Dades'!D103","v":0},{"$f":"'Entrar Dades'!G103","v":0},{"$f":"'Entrar Dades'!J103","v":0},{"$f":"'Entrar Dades'!H103","v":0},{"$f":"'Entrar Dades'!E103","v":0},{"$f":"'Entrar Dades'!F103","v":0},{"$f":"'Entrar Dades'!I103","v":0},{"$f":"'Entrar Dades'!K103","v":0},{"$f":"'Entrar Dades'!L103","v":0},{"$f":"'Entrar Dades'!M103","v":0},{"$f":"'Entrar Dades'!N103","v":0}]
[null,{"$f":"'Entrar Dades'!A104&\" \"&'Entrar Dades'!B104","v":"19 "},{"$f":"'Entrar Dades'!C104","v":0},{"$f":"'Entrar Dades'!D104","v":0},{"$f":"'Entrar Dades'!G104","v":0},{"$f":"'Entrar Dades'!J104","v":0},{"$f":"'Entrar Dades'!H104","v":0},{"$f":"'Entrar Dades'!E104","v":0},{"$f":"'Entrar Dades'!F104","v":0},{"$f":"'Entrar Dades'!I104","v":0},{"$f":"'Entrar Dades'!K104","v":0},{"$f":"'Entrar Dades'!L104","v":0},{"$f":"'Entrar Dades'!M104","v":0},{"$f":"'Entrar Dades'!N104","v":0}]
[null,null,{"$f":"'Entrar Dades'!C105","v":0},{"$f":"'Entrar Dades'!D105","v":0},{"$f":"'Entrar Dades'!G105","v":0},{"$f":"'Entrar Dades'!J105","v":0},{"$f":"'Entrar Dades'!H105","v":0},{"$f":"'Entrar Dades'!E105","v":0},{"$f":"'Entrar Dades'!F105","v":0},{"$f":"'Entrar Dades'!I105","v":0},{"$f":"'Entrar Dades'!K105","v":0},{"$f":"'Entrar Dades'!L105","v":0},{"$f":"'Entrar Dades'!M105","v":0},{"$f":"'Entrar Dades'!N105","v":0}]
[null,null,{"$f":"'Entrar Dades'!C106","v":0},{"$f":"'Entrar Dades'!D106","v":0},{"$f":"'Entrar Dades'!G106","v":0},{"$f":"'Entrar Dades'!J106","v":0},{"$f":"'Entrar Dades'!H106","v":0},{"$f":"'Entrar Dades'!E106","v":0},{"$f":"'Entrar Dades'!F106","v":0},{"$f":"'Entrar Dades'!I106","v":0},{"$f":"'Entrar Dades'!K106","v":0},{"$f":"'Entrar Dades'!L106","v":0},{"$f":"'Entrar Dades'!M106","v":0},{"$f":"'Entrar Dades'!N106","v":0}]
[null,{"$f":"'Entrar Dades'!A107&\" \"&'Entrar Dades'!B107","v":"20 "},{"$f":"'Entrar Dades'!C107","v":0},{"$f":"'Entrar Dades'!D107","v":0},{"$f":"'Entrar Dades'!G107","v":0},{"$f":"'Entrar Dades'!J107","v":0},{"$f":"'Entrar Dades'!H107","v":0},{"$f":"'Entrar Dades'!E107","v":0},{"$f":"'Entrar Dades'!F107","v":0},{"$f":"'Entrar Dades'!I107","v":0},{"$f":"'Entrar Dades'!K107","v":0},{"$f":"'Entrar Dades'!L107","v":0},{"$f":"'Entrar Dades'!M107","v":0},{"$f":"'Entrar Dades'!N107","v":0}]
[null,null,{"$f":"'Entrar Dades'!C108","v":0},{"$f":"'Entrar Dades'!D108","v":0},{"$f":"'Entrar Dades'!G108","v":0},{"$f":"'Entrar Dades'!J108","v":0},{"$f":"'Entrar Dades'!H108","v":0},{"$f":"'Entrar Dades'!E108","v":0},{"$f":"'Entrar Dades'!F108","v":0},{"$f":"'Entrar Dades'!I108","v":0},{"$f":"'Entrar Dades'!K108","v":0},{"$f":"'Entrar Dades'!L108","v":0},{"$f":"'Entrar Dades'!M108","v":0},{"$f":"'Entrar Dades'!N108","v":0}]
[null,null,{"$f":"'Entrar Dades'!C109","v":0},{"$f":"'Entrar Dades'!D109","v":0},{"$f":"'Entrar Dades'!G109","v":0},{"$f":"'Entrar Dades'!J109","v":0},{"$f":"'Entrar Dades'!H109","v":0},{"$f":"'Entrar Dades'!E109","v":0},{"$f":"'Entrar Dades'!F109","v":0},{"$f":"'Entrar Dades'!I109","v":0},{"$f":"'Entrar Dades'!K109","v":0},{"$f":"'Entrar Dades'!L109","v":0},{"$f":"'Entrar Dades'!M109","v":0},{"$f":"'Entrar Dades'!N109","v":0}]
[null,{"$f":"'Entrar Dades'!A110&\" \"&'Entrar Dades'!B110","v":"21 "},{"$f":"'Entrar Dades'!C110","v":0},{"$f":"'Entrar Dades'!D110","v":0},{"$f":"'Entrar Dades'!G110","v":0},{"$f":"'Entrar Dades'!J110","v":0},{"$f":"'Entrar Dades'!H110","v":0},{"$f":"'Entrar Dades'!E110","v":0},{"$f":"'Entrar Dades'!F110","v":0},{"$f":"'Entrar Dades'!I110","v":0},{"$f":"'Entrar Dades'!K110","v":0},{"$f":"'Entrar Dades'!L110","v":0},{"$f":"'Entrar Dades'!M110","v":0},{"$f":"'Entrar Dades'!N110","v":0}]
[null,null,{"$f":"'Entrar Dades'!C111","v":0},{"$f":"'Entrar Dades'!D111","v":0},{"$f":"'Entrar Dades'!G111","v":0},{"$f":"'Entrar Dades'!J111","v":0},{"$f":"'Entrar Dades'!H111","v":0},{"$f":"'Entrar Dades'!E111","v":0},{"$f":"'Entrar Dades'!F111","v":0},{"$f":"'Entrar Dades'!I111","v":0},{"$f":"'Entrar Dades'!K111","v":0},{"$f":"'Entrar Dades'!L111","v":0},{"$f":"'Entrar Dades'!M111","v":0},{"$f":"'Entrar Dades'!N111","v":0}]
[null,null,{"$f":"'Entrar Dades'!C112","v":0},{"$f":"'Entrar Dades'!D112","v":0},{"$f":"'Entrar Dades'!G112","v":0},{"$f":"'Entrar Dades'!J112","v":0},{"$f":"'Entrar Dades'!H112","v":0},{"$f":"'Entrar Dades'!E112","v":0},{"$f":"'Entrar Dades'!F112","v":0},{"$f":"'Entrar Dades'!I112","v":0},{"$f":"'Entrar Dades'!K112","v":0},{"$f":"'Entrar Dades'!L112","v":0},{"$f":"'Entrar Dades'!M112","v":0},{"$f":"'Entrar Dades'!N112","v":0}]
[null,{"$f":"'Entrar Dades'!A113&\" \"&'Entrar Dades'!B113","v":"22 "},{"$f":"'Entrar Dades'!C113","v":0},{"$f":"'Entrar Dades'!D113","v":0},{"$f":"'Entrar Dades'!G113","v":0},{"$f":"'Entrar Dades'!J113","v":0},{"$f":"'Entrar Dades'!H113","v":0},{"$f":"'Entrar Dades'!E113","v":0},{"$f":"'Entrar Dades'!F113","v":0},{"$f":"'Entrar Dades'!I113","v":0},{"$f":"'Entrar Dades'!K113","v":0},{"$f":"'Entrar Dades'!L113","v":0},{"$f":"'Entrar Dades'!M113","v":0},{"$f":"'Entrar Dades'!N113","v":0}]
[null,null,{"$f":"'Entrar Dades'!C114","v":0},{"$f":"'Entrar Dades'!D114","v":0},{"$f":"'Entrar Dades'!G114","v":0},{"$f":"'Entrar Dades'!J114","v":0},{"$f":"'Entrar Dades'!H114","v":0},{"$f":"'Entrar Dades'!E114","v":0},{"$f":"'Entrar Dades'!F114","v":0},{"$f":"'Entrar Dades'!I114","v":0},{"$f":"'Entrar Dades'!K114","v":0},{"$f":"'Entrar Dades'!L114","v":0},{"$f":"'Entrar Dades'!M114","v":0},{"$f":"'Entrar Dades'!N114","v":0}]
[null,null,{"$f":"'Entrar Dades'!C115","v":0},{"$f":"'Entrar Dades'!D115","v":0},{"$f":"'Entrar Dades'!G115","v":0},{"$f":"'Entrar Dades'!J115","v":0},{"$f":"'Entrar Dades'!H115","v":0},{"$f":"'Entrar Dades'!E115","v":0},{"$f":"'Entrar Dades'!F115","v":0},{"$f":"'Entrar Dades'!I115","v":0},{"$f":"'Entrar Dades'!K115","v":0},{"$f":"'Entrar Dades'!L115","v":0},{"$f":"'Entrar Dades'!M115","v":0},{"$f":"'Entrar Dades'!N115","v":0}]
[null,{"$f":"'Entrar Dades'!A116&\" \"&'Entrar Dades'!B116","v":"23 "},{"$f":"'Entrar Dades'!C116","v":0},{"$f":"'Entrar Dades'!D116","v":0},{"$f":"'Entrar Dades'!G116","v":0},{"$f":"'Entrar Dades'!J116","v":0},{"$f":"'Entrar Dades'!H116","v":0},{"$f":"'Entrar Dades'!E116","v":0},{"$f":"'Entrar Dades'!F116","v":0},{"$f":"'Entrar Dades'!I116","v":0},{"$f":"'Entrar Dades'!K116","v":0},{"$f":"'Entrar Dades'!L116","v":0},{"$f":"'Entrar Dades'!M116","v":0},{"$f":"'Entrar Dades'!N116","v":0}]
[null,null,{"$f":"'Entrar Dades'!C117","v":0},{"$f":"'Entrar Dades'!D117","v":0},{"$f":"'Entrar Dades'!G117","v":0},{"$f":"'Entrar Dades'!J117","v":0},{"$f":"'Entrar Dades'!H117","v":0},{"$f":"'Entrar Dades'!E117","v":0},{"$f":"'Entrar Dades'!F117","v":0},{"$f":"'Entrar Dades'!I117","v":0},{"$f":"'Entrar Dades'!K117","v":0},{"$f":"'Entrar Dades'!L117","v":0},{"$f":"'Entrar Dades'!M117","v":0},{"$f":"'Entrar Dades'!N117","v":0}]
[null,null,{"$f":"'Entrar Dades'!C118","v":0},{"$f":"'Entrar Dades'!D118","v":0},{"$f":"'Entrar Dades'!G118","v":0},{"$f":"'Entrar Dades'!J118","v":0},{"$f":"'Entrar Dades'!H118","v":0},{"$f":"'Entrar Dades'!E118","v":0},{"$f":"'Entrar Dades'!F118","v":0},{"$f":"'Entrar Dades'!I118","v":0},{"$f":"'Entrar Dades'!K118","v":0},{"$f":"'Entrar Dades'!L118","v":0},{"$f":"'Entrar Dades'!M118","v":0},{"$f":"'Entrar Dades'!N118","v":0}]
[null,{"$f":"'Entrar Dades'!A119&\" \"&'Entrar Dades'!B119","v":"24 "},{"$f":"'Entrar Dades'!C119","v":0},{"$f":"'Entrar Dades'!D119","v":0},{"$f":"'Entrar Dades'!G119","v":0},{"$f":"'Entrar Dades'!J119","v":0},{"$f":"'Entrar Dades'!H119","v":0},{"$f":"'Entrar Dades'!E119","v":0},{"$f":"'Entrar Dades'!F119","v":0},{"$f":"'Entrar Dades'!I119","v":0},{"$f":"'Entrar Dades'!K119","v":0},{"$f":"'Entrar Dades'!L119","v":0},{"$f":"'Entrar Dades'!M119","v":0},{"$f":"'Entrar Dades'!N119","v":0}]
[null,null,{"$f":"'Entrar Dades'!C120","v":0},{"$f":"'Entrar Dades'!D120","v":0},{"$f":"'Entrar Dades'!G120","v":0},{"$f":"'Entrar Dades'!J120","v":0},{"$f":"'Entrar Dades'!H120","v":0},{"$f":"'Entrar Dades'!E120","v":0},{"$f":"'Entrar Dades'!F120","v":0},{"$f":"'Entrar Dades'!I120","v":0},{"$f":"'Entrar Dades'!K120","v":0},{"$f":"'Entrar Dades'!L120","v":0},{"$f":"'Entrar Dades'!M120","v":0},{"$f":"'Entrar Dades'!N120","v":0}]
[null,null,{"$f":"'Entrar Dades'!C121","v":0},{"$f":"'Entrar Dades'!D121","v":0},{"$f":"'Entrar Dades'!G121","v":0},{"$f":"'Entrar Dades'!J121","v":0},{"$f":"'Entrar Dades'!H121","v":0},{"$f":"'Entrar Dades'!E121","v":0},{"$f":"'Entrar Dades'!F121","v":0},{"$f":"'Entrar Dades'!I121","v":0},{"$f":"'Entrar Dades'!K121","v":0},{"$f":"'Entrar Dades'!L121","v":0},{"$f":"'Entrar Dades'!M121","v":0},{"$f":"'Entrar Dades'!N121","v":0}]
[null,{"$f":"'Entrar Dades'!A122&\" \"&'Entrar Dades'!B122","v":"25 "},{"$f":"'Entrar Dades'!C122","v":0},{"$f":"'Entrar Dades'!D122","v":0},{"$f":"'Entrar Dades'!G122","v":0},{"$f":"'Entrar Dades'!J122","v":0},{"$f":"'Entrar Dades'!H122","v":0},{"$f":"'Entrar Dades'!E122","v":0},{"$f":"'Entrar Dades'!F122","v":0},{"$f":"'Entrar Dades'!I122","v":0},{"$f":"'Entrar Dades'!K122","v":0},{"$f":"'Entrar Dades'!L122","v":0},{"$f":"'Entrar Dades'!M122","v":0},{"$f":"'Entrar Dades'!N122","v":0}]
[null,null,{"$f":"'Entrar Dades'!C123","v":0},{"$f":"'Entrar Dades'!D123","v":0},{"$f":"'Entrar Dades'!G123","v":0},{"$f":"'Entrar Dades'!J123","v":0},{"$f":"'Entrar Dades'!H123","v":0},{"$f":"'Entrar Dades'!E123","v":0},{"$f":"'Entrar Dades'!F123","v":0},{"$f":"'Entrar Dades'!I123","v":0},{"$f":"'Entrar Dades'!K123","v":0},{"$f":"'Entrar Dades'!L123","v":0},{"$f":"'Entrar Dades'!M123","v":0},{"$f":"'Entrar Dades'!N123","v":0}]
[null,null,{"$f":"'Entrar Dades'!C124","v":0},{"$f":"'Entrar Dades'!D124","v":0},{"$f":"'Entrar Dades'!G124","v":0},{"$f":"'Entrar Dades'!J124","v":0},{"$f":"'Entrar Dades'!H124","v":0},{"$f":"'Entrar Dades'!E124","v":0},{"$f":"'Entrar Dades'!F124","v":0},{"$f":"'Entrar Dades'!I124","v":0},{"$f":"'Entrar Dades'!K124","v":0},{"$f":"'Entrar Dades'!L124","v":0},{"$f":"'Entrar Dades'!M124","v":0},{"$f":"'Entrar Dades'!N124","v":0}]
[null,{"$f":"'Entrar Dades'!A125&\" \"&'Entrar Dades'!B125","v":"26 "},{"$f":"'Entrar Dades'!C125","v":0},{"$f":"'Entrar Dades'!D125","v":0},{"$f":"'Entrar Dades'!G125","v":0},{"$f":"'Entrar Dades'!J125","v":0},{"$f":"'Entrar Dades'!H125","v":0},{"$f":"'Entrar Dades'!E125","v":0},{"$f":"'Entrar Dades'!F125","v":0},{"$f":"'Entrar Dades'!I125","v":0},{"$f":"'Entrar Dades'!K125","v":0},{"$f":"'Entrar Dades'!L125","v":0},{"$f":"'Entrar Dades'!M125","v":0},{"$f":"'Entrar Dades'!N125","v":0}]
[null,null,{"$f":"'Entrar Dades'!C126","v":0},{"$f":"'Entrar Dades'!D126","v":0},{"$f":"'Entrar Dades'!G126","v":0},{"$f":"'Entrar Dades'!J126","v":0},{"$f":"'Entrar Dades'!H126","v":0},{"$f":"'Entrar Dades'!E126","v":0},{"$f":"'Entrar Dades'!F126","v":0},{"$f":"'Entrar Dades'!I126","v":0},{"$f":"'Entrar Dades'!K126","v":0},{"$f":"'Entrar Dades'!L126","v":0},{"$f":"'Entrar Dades'!M126","v":0},{"$f":"'Entrar Dades'!N126","v":0}]
[null,null,{"$f":"'Entrar Dades'!C127","v":0},{"$f":"'Entrar Dades'!D127","v":0},{"$f":"'Entrar Dades'!G127","v":0},{"$f":"'Entrar Dades'!J127","v":0},{"$f":"'Entrar Dades'!H127","v":0},{"$f":"'Entrar Dades'!E127","v":0},{"$f":"'Entrar Dades'!F127","v":0},{"$f":"'Entrar Dades'!I127","v":0},{"$f":"'Entrar Dades'!K127","v":0},{"$f":"'Entrar Dades'!L127","v":0},{"$f":"'Entrar Dades'!M127","v":0},{"$f":"'Entrar Dades'!N127","v":0}]
[null,{"$f":"'Entrar Dades'!A128&\" \"&'Entrar Dades'!B128","v":"27 "},{"$f":"'Entrar Dades'!C128","v":0},{"$f":"'Entrar Dades'!D128","v":0},{"$f":"'Entrar Dades'!G128","v":0},{"$f":"'Entrar Dades'!J128","v":0},{"$f":"'Entrar Dades'!H128","v":0},{"$f":"'Entrar Dades'!E128","v":0},{"$f":"'Entrar Dades'!F128","v":0},{"$f":"'Entrar Dades'!I128","v":0},{"$f":"'Entrar Dades'!K128","v":0},{"$f":"'Entrar Dades'!L128","v":0},{"$f":"'Entrar Dades'!M128","v":0},{"$f":"'Entrar Dades'!N128","v":0}]
[null,null,{"$f":"'Entrar Dades'!C129","v":0},{"$f":"'Entrar Dades'!D129","v":0},{"$f":"'Entrar Dades'!G129","v":0},{"$f":"'Entrar Dades'!J129","v":0},{"$f":"'Entrar Dades'!H129","v":0},{"$f":"'Entrar Dades'!E129","v":0},{"$f":"'Entrar Dades'!F129","v":0},{"$f":"'Entrar Dades'!I129","v":0},{"$f":"'Entrar Dades'!K129","v":0},{"$f":"'Entrar Dades'!L129","v":0},{"$f":"'Entrar Dades'!M129","v":0},{"$f":"'Entrar Dades'!N129","v":0}]
[null,null,{"$f":"'Entrar Dades'!C130","v":0},{"$f":"'Entrar Dades'!D130","v":0},{"$f":"'Entrar Dades'!G130","v":0},{"$f":"'Entrar Dades'!J130","v":0},{"$f":"'Entrar Dades'!H130","v":0},{"$f":"'Entrar Dades'!E130","v":0},{"$f":"'Entrar Dades'!F130","v":0},{"$f":"'Entrar Dades'!I130","v":0},{"$f":"'Entrar Dades'!K130","v":0},{"$f":"'Entrar Dades'!L130","v":0},{"$f":"'Entrar Dades'!M130","v":0},{"$f":"'Entrar Dades'!N130","v":0}]
[null,{"$f":"'Entrar Dades'!A131&\" \"&'Entrar Dades'!B131","v":"28 "},{"$f":"'Entrar Dades'!C131","v":0},{"$f":"'Entrar Dades'!D131","v":0},{"$f":"'Entrar Dades'!G131","v":0},{"$f":"'Entrar Dades'!J131","v":0},{"$f":"'Entrar Dades'!H131","v":0},{"$f":"'Entrar Dades'!E131","v":0},{"$f":"'Entrar Dades'!F131","v":0},{"$f":"'Entrar Dades'!I131","v":0},{"$f":"'Entrar Dades'!K131","v":0},{"$f":"'Entrar Dades'!L131","v":0},{"$f":"'Entrar Dades'!M131","v":0},{"$f":"'Entrar Dades'!N131","v":0}]
[null,null,{"$f":"'Entrar Dades'!C132","v":0},{"$f":"'Entrar Dades'!D132","v":0},{"$f":"'Entrar Dades'!G132","v":0},{"$f":"'Entrar Dades'!J132","v":0},{"$f":"'Entrar Dades'!H132","v":0},{"$f":"'Entrar Dades'!E132","v":0},{"$f":"'Entrar Dades'!F132","v":0},{"$f":"'Entrar Dades'!I132","v":0},{"$f":"'Entrar Dades'!K132","v":0},{"$f":"'Entrar Dades'!L132","v":0},{"$f":"'Entrar Dades'!M132","v":0},{"$f":"'Entrar Dades'!N132","v":0}]
[null,null,{"$f":"'Entrar Dades'!C133","v":0},{"$f":"'Entrar Dades'!D133","v":0},{"$f":"'Entrar Dades'!G133","v":0},{"$f":"'Entrar Dades'!J133","v":0},{"$f":"'Entrar Dades'!H133","v":0},{"$f":"'Entrar Dades'!E133","v":0},{"$f":"'Entrar Dades'!F133","v":0},{"$f":"'Entrar Dades'!I133","v":0},{"$f":"'Entrar Dades'!K133","v":0},{"$f":"'Entrar Dades'!L133","v":0},{"$f":"'Entrar Dades'!M133","v":0},{"$f":"'Entrar Dades'!N133","v":0}]
[null,{"$f":"'Entrar Dades'!A134&\" \"&'Entrar Dades'!B134","v":"29 "},{"$f":"'Entrar Dades'!C134","v":0},{"$f":"'Entrar Dades'!D134","v":0},{"$f":"'Entrar Dades'!G134","v":0},{"$f":"'Entrar Dades'!J134","v":0},{"$f":"'Entrar Dades'!H134","v":0},{"$f":"'Entrar Dades'!E134","v":0},{"$f":"'Entrar Dades'!F134","v":0},{"$f":"'Entrar Dades'!I134","v":0},{"$f":"'Entrar Dades'!K134","v":0},{"$f":"'Entrar Dades'!L134","v":0},{"$f":"'Entrar Dades'!M134","v":0},{"$f":"'Entrar Dades'!N134","v":0}]
[null,null,{"$f":"'Entrar Dades'!C135","v":0},{"$f":"'Entrar Dades'!D135","v":0},{"$f":"'Entrar Dades'!G135","v":0},{"$f":"'Entrar Dades'!J135","v":0},{"$f":"'Entrar Dades'!H135","v":0},{"$f":"'Entrar Dades'!E135","v":0},{"$f":"'Entrar Dades'!F135","v":0},{"$f":"'Entrar Dades'!I135","v":0},{"$f":"'Entrar Dades'!K135","v":0},{"$f":"'Entrar Dades'!L135","v":0},{"$f":"'Entrar Dades'!M135","v":0},{"$f":"'Entrar Dades'!N135","v":0}]
[null,null,{"$f":"'Entrar Dades'!C136","v":0},{"$f":"'Entrar Dades'!D136","v":0},{"$f":"'Entrar Dades'!G136","v":0},{"$f":"'Entrar Dades'!J136","v":0},{"$f":"'Entrar Dades'!H136","v":0},{"$f":"'Entrar Dades'!E136","v":0},{"$f":"'Entrar Dades'!F136","v":0},{"$f":"'Entrar Dades'!I136","v":0},{"$f":"'Entrar Dades'!K136","v":0},{"$f":"'Entrar Dades'!L136","v":0},{"$f":"'Entrar Dades'!M136","v":0},{"$f":"'Entrar Dades'!N136","v":0}]
[null,{"$f":"'Entrar Dades'!A137&\" \"&'Entrar Dades'!B137","v":"30 "},{"$f":"'Entrar Dades'!C137","v":0},{"$f":"'Entrar Dades'!D137","v":0},{"$f":"'Entrar Dades'!G137","v":0},{"$f":"'Entrar Dades'!J137","v":0},{"$f":"'Entrar Dades'!H137","v":0},{"$f":"'Entrar Dades'!E137","v":0},{"$f":"'Entrar Dades'!F137","v":0},{"$f":"'Entrar Dades'!I137","v":0},{"$f":"'Entrar Dades'!K137","v":0},{"$f":"'Entrar Dades'!L137","v":0},{"$f":"'Entrar Dades'!M137","v":0},{"$f":"'Entrar Dades'!N137","v":0}]
[null,null,{"$f":"'Entrar Dades'!C138","v":0},{"$f":"'Entrar Dades'!D138","v":0},{"$f":"'Entrar Dades'!G138","v":0},{"$f":"'Entrar Dades'!J138","v":0},{"$f":"'Entrar Dades'!H138","v":0},{"$f":"'Entrar Dades'!E138","v":0},{"$f":"'Entrar Dades'!F138","v":0},{"$f":"'Entrar Dades'!I138","v":0},{"$f":"'Entrar Dades'!K138","v":0},{"$f":"'Entrar Dades'!L138","v":0},{"$f":"'Entrar Dades'!M138","v":0},{"$f":"'Entrar Dades'!N138","v":0}]
[null,null,{"$f":"'Entrar Dades'!C139","v":0},{"$f":"'Entrar Dades'!D139","v":0},{"$f":"'Entrar Dades'!G139","v":0},{"$f":"'Entrar Dades'!J139","v":0},{"$f":"'Entrar Dades'!H139","v":0},{"$f":"'Entrar Dades'!E139","v":0},{"$f":"'Entrar Dades'!F139","v":0},{"$f":"'Entrar Dades'!I139","v":0},{"$f":"'Entrar Dades'!K139","v":0},{"$f":"'Entrar Dades'!L139","v":0},{"$f":"'Entrar Dades'!M139","v":0},{"$f":"'Entrar Dades'!N139","v":0}]
[null,{"$f":"'Entrar Dades'!A140&\" \"&'Entrar Dades'!B140","v":"31 "},{"$f":"'Entrar Dades'!C140","v":0},{"$f":"'Entrar Dades'!D140","v":0},{"$f":"'Entrar Dades'!G140","v":0},{"$f":"'Entrar Dades'!J140","v":0},{"$f":"'Entrar Dades'!H140","v":0},{"$f":"'Entrar Dades'!E140","v":0},{"$f":"'Entrar Dades'!F140","v":0},{"$f":"'Entrar Dades'!I140","v":0},{"$f":"'Entrar Dades'!K140","v":0},{"$f":"'Entrar Dades'!L140","v":0},{"$f":"'Entrar Dades'!M140","v":0},{"$f":"'Entrar Dades'!N140","v":0}]
[null,null,{"$f":"'Entrar Dades'!C141","v":0},{"$f":"'Entrar Dades'!D141","v":0},{"$f":"'Entrar Dades'!G141","v":0},{"$f":"'Entrar Dades'!J141","v":0},{"$f":"'Entrar Dades'!H141","v":0},{"$f":"'Entrar Dades'!E141","v":0},{"$f":"'Entrar Dades'!F141","v":0},{"$f":"'Entrar Dades'!I141","v":0},{"$f":"'Entrar Dades'!K141","v":0},{"$f":"'Entrar Dades'!L141","v":0},{"$f":"'Entrar Dades'!M141","v":0},{"$f":"'Entrar Dades'!N141","v":0}]
[null,null,{"$f":"'Entrar Dades'!C142","v":0},{"$f":"'Entrar Dades'!D142","v":0},{"$f":"'Entrar Dades'!G142","v":0},{"$f":"'Entrar Dades'!J142","v":0},{"$f":"'Entrar Dades'!H142","v":0},{"$f":"'Entrar Dades'!E142","v":0},{"$f":"'Entrar Dades'!F142","v":0},{"$f":"'Entrar Dades'!I142","v":0},{"$f":"'Entrar Dades'!K142","v":0},{"$f":"'Entrar Dades'!L142","v":0},{"$f":"'Entrar Dades'!M142","v":0},{"$f":"'Entrar Dades'!N142","v":0}]
[null,{"$f":"'Entrar Dades'!A143&\" \"&'Entrar Dades'!B143","v":"32 "},{"$f":"'Entrar Dades'!C143","v":0},{"$f":"'Entrar Dades'!D143","v":0},{"$f":"'Entrar Dades'!G143","v":0},{"$f":"'Entrar Dades'!J143","v":0},{"$f":"'Entrar Dades'!H143","v":0},{"$f":"'Entrar Dades'!E143","v":0},{"$f":"'Entrar Dades'!F143","v":0},{"$f":"'Entrar Dades'!I143","v":0},{"$f":"'Entrar Dades'!K143","v":0},{"$f":"'Entrar Dades'!L143","v":0},{"$f":"'Entrar Dades'!M143","v":0},{"$f":"'Entrar Dades'!N143","v":0}]
[null,null,{"$f":"'Entrar Dades'!C144","v":0},{"$f":"'Entrar Dades'!D144","v":0},{"$f":"'Entrar Dades'!G144","v":0},{"$f":"'Entrar Dades'!J144","v":0},{"$f":"'Entrar Dades'!H144","v":0},{"$f":"'Entrar Dades'!E144","v":0},{"$f":"'Entrar Dades'!F144","v":0},{"$f":"'Entrar Dades'!I144","v":0},{"$f":"'Entrar Dades'!K144","v":0},{"$f":"'Entrar Dades'!L144","v":0},{"$f":"'Entrar Dades'!M144","v":0},{"$f":"'Entrar Dades'!N144","v":0}]
[null,null,{"$f":"'Entrar Dades'!C145","v":0},{"$f":"'Entrar Dades'!D145","v":0},{"$f":"'Entrar Dades'!G145","v":0},{"$f":"'Entrar Dades'!J145","v":0},{"$f":"'Entrar Dades'!H145","v":0},{"$f":"'Entrar Dades'!E145","v":0},{"$f":"'Entrar Dades'!F145","v":0},{"$f":"'Entrar Dades'!I145","v":0},{"$f":"'Entrar Dades'!K145","v":0},{"$f":"'Entrar Dades'!L145","v":0},{"$f":"'Entrar Dades'!M145","v":0},{"$f":"'Entrar Dades'!N145","v":0}]
[null,{"$f":"'Entrar Dades'!A146&\" \"&'Entrar Dades'!B146","v":"33 "},{"$f":"'Entrar Dades'!C146","v":0},{"$f":"'Entrar Dades'!D146","v":0},{"$f":"'Entrar Dades'!G146","v":0},{"$f":"'Entrar Dades'!J146","v":0},{"$f":"'Entrar Dades'!H146","v":0},{"$f":"'Entrar Dades'!E146","v":0},{"$f":"'Entrar Dades'!F146","v":0},{"$f":"'Entrar Dades'!I146","v":0},{"$f":"'Entrar Dades'!K146","v":0},{"$f":"'Entrar Dades'!L146","v":0},{"$f":"'Entrar Dades'!M146","v":0},{"$f":"'Entrar Dades'!N146","v":0}]
[null,null,{"$f":"'Entrar Dades'!C147","v":0},{"$f":"'Entrar Dades'!D147","v":0},{"$f":"'Entrar Dades'!G147","v":0},{"$f":"'Entrar Dades'!J147","v":0},{"$f":"'Entrar Dades'!H147","v":0},{"$f":"'Entrar Dades'!E147","v":0},{"$f":"'Entrar Dades'!F147","v":0},{"$f":"'Entrar Dades'!I147","v":0},{"$f":"'Entrar Dades'!K147","v":0},{"$f":"'Entrar Dades'!L147","v":0},{"$f":"'Entrar Dades'!M147","v":0},{"$f":"'Entrar Dades'!N147","v":0}]
[null,null,{"$f":"'Entrar Dades'!C148","v":0},{"$f":"'Entrar Dades'!D148","v":0},{"$f":"'Entrar Dades'!G148","v":0},{"$f":"'Entrar Dades'!J148","v":0},{"$f":"'Entrar Dades'!H148","v":0},{"$f":"'Entrar Dades'!E148","v":0},{"$f":"'Entrar Dades'!F148","v":0},{"$f":"'Entrar Dades'!I148","v":0},{"$f":"'Entrar Dades'!K148","v":0},{"$f":"'Entrar Dades'!L148","v":0},{"$f":"'Entrar Dades'!M148","v":0},{"$f":"'Entrar Dades'!N148","v":0}]
[null,{"$f":"'Entrar Dades'!A149&\" \"&'Entrar Dades'!B149","v":"34 "},{"$f":"'Entrar Dades'!C149","v":0},{"$f":"'Entrar Dades'!D149","v":0},{"$f":"'Entrar Dades'!G149","v":0},{"$f":"'Entrar Dades'!J149","v":0},{"$f":"'Entrar Dades'!H149","v":0},{"$f":"'Entrar Dades'!E149","v":0},{"$f":"'Entrar Dades'!F149","v":0},{"$f":"'Entrar Dades'!I149","v":0},{"$f":"'Entrar Dades'!K149","v":0},{"$f":"'Entrar Dades'!L149","v":0},{"$f":"'Entrar Dades'!M149","v":0},{"$f":"'Entrar Dades'!N149","v":0}]
[null,null,{"$f":"'Entrar Dades'!C150","v":0},{"$f":"'Entrar Dades'!D150","v":0},{"$f":"'Entrar Dades'!G150","v":0},{"$f":"'Entrar Dades'!J150","v":0},{"$f":"'Entrar Dades'!H150","v":0},{"$f":"'Entrar Dades'!E150","v":0},{"$f":"'Entrar Dades'!F150","v":0},{"$f":"'Entrar Dades'!I150","v":0},{"$f":"'Entrar Dades'!K150","v":0},{"$f":"'Entrar Dades'!L150","v":0},{"$f":"'Entrar Dades'!M150","v":0},{"$f":"'Entrar Dades'!N150","v":0}]
[null,null,{"$f":"'Entrar Dades'!C151","v":0},{"$f":"'Entrar Dades'!D151","v":0},{"$f":"'Entrar Dades'!G151","v":0},{"$f":"'Entrar Dades'!J151","v":0},{"$f":"'Entrar Dades'!H151","v":0},{"$f":"'Entrar Dades'!E151","v":0},{"$f":"'Entrar Dades'!F151","v":0},{"$f":"'Entrar Dades'!I151","v":0},{"$f":"'Entrar Dades'!K151","v":0},{"$f":"'Entrar Dades'!L151","v":0},{"$f":"'Entrar Dades'!M151","v":0},{"$f":"'Entrar Dades'!N151","v":0}]
[null,{"$f":"'Entrar Dades'!A152&\" \"&'Entrar Dades'!B152","v":"35 "},{"$f":"'Entrar Dades'!C152","v":0},{"$f":"'Entrar Dades'!D152","v":0},{"$f":"'Entrar Dades'!G152","v":0},{"$f":"'Entrar Dades'!J152","v":0},{"$f":"'Entrar Dades'!H152","v":0},{"$f":"'Entrar Dades'!E152","v":0},{"$f":"'Entrar Dades'!F152","v":0},{"$f":"'Entrar Dades'!I152","v":0},{"$f":"'Entrar Dades'!K152","v":0},{"$f":"'Entrar Dades'!L152","v":0},{"$f":"'Entrar Dades'!M152","v":0},{"$f":"'Entrar Dades'!N152","v":0}]
[null,null,{"$f":"'Entrar Dades'!C153","v":0},{"$f":"'Entrar Dades'!D153","v":0},{"$f":"'Entrar Dades'!G153","v":0},{"$f":"'Entrar Dades'!J153","v":0},{"$f":"'Entrar Dades'!H153","v":0},{"$f":"'Entrar Dades'!E153","v":0},{"$f":"'Entrar Dades'!F153","v":0},{"$f":"'Entrar Dades'!I153","v":0},{"$f":"'Entrar Dades'!K153","v":0},{"$f":"'Entrar Dades'!L153","v":0},{"$f":"'Entrar Dades'!M153","v":0},{"$f":"'Entrar Dades'!N153","v":0}]
[null,null,{"$f":"'Entrar Dades'!C154","v":0},{"$f":"'Entrar Dades'!D154","v":0},{"$f":"'Entrar Dades'!G154","v":0},{"$f":"'Entrar Dades'!J154","v":0},{"$f":"'Entrar Dades'!H154","v":0},{"$f":"'Entrar Dades'!E154","v":0},{"$f":"'Entrar Dades'!F154","v":0},{"$f":"'Entrar Dades'!I154","v":0},{"$f":"'Entrar Dades'!K154","v":0},{"$f":"'Entrar Dades'!L154","v":0},{"$f":"'Entrar Dades'!M154","v":0},{"$f":"'Entrar Dades'!N154","v":0}]